BEGIN:VCALENDAR
VERSION:2.0
PRODID:-//Visit Novo Mesto - ECPv6.15.20//NONSGML v1.0//EN
CALSCALE:GREGORIAN
METHOD:PUBLISH
X-WR-CALNAME:Visit Novo Mesto
X-ORIGINAL-URL:https://visitnovomesto.si
X-WR-CALDESC:Events for Visit Novo Mesto
REFRESH-INTERVAL;VALUE=DURATION:PT1H
X-Robots-Tag:noindex
X-PUBLISHED-TTL:PT1H
BEGIN:VTIMEZONE
TZID:Europe/Ljubljana
BEGIN:DAYLIGHT
TZOFFSETFROM:+0100
TZOFFSETTO:+0200
TZNAME:CEST
DTSTART:20250330T010000
END:DAYLIGHT
BEGIN:STANDARD
TZOFFSETFROM:+0200
TZOFFSETTO:+0100
TZNAME:CET
DTSTART:20251026T010000
END:STANDARD
BEGIN:DAYLIGHT
TZOFFSETFROM:+0100
TZOFFSETTO:+0200
TZNAME:CEST
DTSTART:20260329T010000
END:DAYLIGHT
BEGIN:STANDARD
TZOFFSETFROM:+0200
TZOFFSETTO:+0100
TZNAME:CET
DTSTART:20261025T010000
END:STANDARD
BEGIN:DAYLIGHT
TZOFFSETFROM:+0100
TZOFFSETTO:+0200
TZNAME:CEST
DTSTART:20270328T010000
END:DAYLIGHT
BEGIN:STANDARD
TZOFFSETFROM:+0200
TZOFFSETTO:+0100
TZNAME:CET
DTSTART:20271031T010000
END:STANDARD
END:VTIMEZONE
BEGIN:VEVENT
DTSTART;TZID=Europe/Ljubljana:20260426T193000
DTEND;TZID=Europe/Ljubljana:20260426T210000
DTSTAMP:20260420T043716
CREATED:20260413T113252Z
LAST-MODIFIED:20260413T113252Z
UID:10000931-1777231800-1777237200@visitnovomesto.si
SUMMARY:Play: Take a Seat at the Table
DESCRIPTION:The Salesian Youth Centre Rakovnik invites you to a play Take a Seat at the Table (Sedem za mizo)\, which will take place on Sunday\, 26 April 2026\, at 19:30 at Smrečnikova 60 in Novo mesto. \nThis year\, young actors from Rakovnik have created and written their own original play titled Take a Seat at the Table. You are warmly invited to attend. Admission is free. \nThe play will be in Slovene. \nEvent website.
URL:https://visitnovomesto.si/dogodek/play-take-a-seat-at-the-table/
LOCATION:Zavod Friderik Irenej Baraga\, Smrečnikova ulica 60\, Novo mesto\, Slovenija\, 8000\, Slovenia
CATEGORIES:Art and Culture,Children and Youth
ATTACH;FMTTYPE=image/jpeg:https://visitnovomesto.si/wp-content/uploads/2026/04/Sedem-za-mizo.jpg
ORGANIZER;CN="Salezijanski mladinski center Rakovnik":MAILTO:smc@rakovnik.si
END:VEVENT
END:VCALENDAR