BEGIN:VCALENDAR
VERSION:2.0
PRODID:-//Visit Novo Mesto - ECPv6.15.20//NONSGML v1.0//EN
CALSCALE:GREGORIAN
METHOD:PUBLISH
X-WR-CALNAME:Visit Novo Mesto
X-ORIGINAL-URL:https://visitnovomesto.si
X-WR-CALDESC:Events for Visit Novo Mesto
REFRESH-INTERVAL;VALUE=DURATION:PT1H
X-Robots-Tag:noindex
X-PUBLISHED-TTL:PT1H
BEGIN:VTIMEZONE
TZID:Europe/Ljubljana
BEGIN:DAYLIGHT
TZOFFSETFROM:+0100
TZOFFSETTO:+0200
TZNAME:CEST
DTSTART:20250330T010000
END:DAYLIGHT
BEGIN:STANDARD
TZOFFSETFROM:+0200
TZOFFSETTO:+0100
TZNAME:CET
DTSTART:20251026T010000
END:STANDARD
BEGIN:DAYLIGHT
TZOFFSETFROM:+0100
TZOFFSETTO:+0200
TZNAME:CEST
DTSTART:20260329T010000
END:DAYLIGHT
BEGIN:STANDARD
TZOFFSETFROM:+0200
TZOFFSETTO:+0100
TZNAME:CET
DTSTART:20261025T010000
END:STANDARD
BEGIN:DAYLIGHT
TZOFFSETFROM:+0100
TZOFFSETTO:+0200
TZNAME:CEST
DTSTART:20270328T010000
END:DAYLIGHT
BEGIN:STANDARD
TZOFFSETFROM:+0200
TZOFFSETTO:+0100
TZNAME:CET
DTSTART:20271031T010000
END:STANDARD
END:VTIMEZONE
BEGIN:VEVENT
DTSTART;VALUE=DATE:20260320
DTEND;VALUE=DATE:20260330
DTSTAMP:20260419T150442
CREATED:20260320T114727Z
LAST-MODIFIED:20260320T114727Z
UID:10000651-1773964800-1774828799@visitnovomesto.si
SUMMARY:Restaurant Week at Hiša Fink
DESCRIPTION:Hiša Fink invites you to the Spring Restaurant Week\, taking place from 20 to 29 March 2026. Advance booking is required. \nEvent webpage.
URL:https://visitnovomesto.si/dogodek/restaurant-week-at-hisa-fink/
LOCATION:Hiša Fink\, Irča vas 13\, Novo mesto\, Slovenija\, 8000\, Slovenia
CATEGORIES:Gastronomy
ATTACH;FMTTYPE=image/jpeg:https://visitnovomesto.si/wp-content/uploads/2026/03/Tedem-restavracij-Hisa-Fink.jpg
ORGANIZER;CN="Hi%C5%A1a Fink":MAILTO:info@hisafink.si
END:VEVENT
BEGIN:VEVENT
DTSTART;VALUE=DATE:20260329
DTEND;VALUE=DATE:20260330
DTSTAMP:20260419T150442
CREATED:20260320T121419Z
LAST-MODIFIED:20260320T121419Z
UID:10000655-1774742400-1774828799@visitnovomesto.si
SUMMARY:Aquathlon Novo mesto
DESCRIPTION:The Novo mesto Triathlon Club is organising the Aquathlon Novo mesto on Sunday\, 29 March 2026\, at 10:00 at the Novo mesto Swimming Pool. \nThe competition counts towards the Slovenian Triathlon Federation Cup. \nParticipants are warmly invited to compete or simply test their abilities in the combination of swimming and running. Spectators are also very welcome\, as competitors will surely appreciate any support and encouragement. \nEvent webpage.
URL:https://visitnovomesto.si/dogodek/aquathlon-novo-mesto/
LOCATION:Bazen Novo mesto\, Zaloška cesta 20\, Novo mesto\, Slovenija\, 8000\, Slovenia
CATEGORIES:Nature and Sport
ATTACH;FMTTYPE=image/png:https://visitnovomesto.si/wp-content/uploads/2026/03/Akvatlon.png
ORGANIZER;CN="Triatlonski klub Novo mesto":MAILTO:triatlonklub.nm@gmail.com
END:VEVENT
BEGIN:VEVENT
DTSTART;VALUE=DATE:20260329
DTEND;VALUE=DATE:20260330
DTSTAMP:20260419T150442
CREATED:20260320T132358Z
LAST-MODIFIED:20260320T132358Z
UID:10000665-1774742400-1774828799@visitnovomesto.si
SUMMARY:Cycling Race: Grand Prix of Novo mesto
DESCRIPTION:The Novo mesto Cycling Club invites you to the Grand Prix of Novo mesto cycling race\, taking place on Sunday\, 29 March 2026\, starting at 12:30 at the Novo mesto Olympic Center and finishing at 16:30 at Glavni trg in Novo mesto. \nAlthough the Grand Prix of Novo mesto is a new name on the Slovenian cycling scene\, it is an established race and event that\, together with the Grand Prix of the Municipality of Piran and the Grand Prix of Slovenian Istria\, is considered one of the Slovenian spring classics. \nThe race route remains unchanged\, linking Dolenjska and Bela Krajina in a challenging cycling loop. The demanding course will once again test the top-level preparation of both individual riders and teams aiming for the podium. This year\, a strong international field is expected\, promising an exciting battle for the final victory\, which is anticipated to be decided once again on the iconic granite cobbles of Novo mesto’s Glavni trg. \nEvent webpage.
URL:https://visitnovomesto.si/dogodek/cycling-race-grand-prix-of-novo-mesto/
LOCATION:Olimpijski center Novo mesto\, Zaloška cesta 20\, Novo mesto\, Slovenija\, 8000\, Slovenia
CATEGORIES:Nature and Sport
ATTACH;FMTTYPE=image/png:https://visitnovomesto.si/wp-content/uploads/2026/03/Velika-nagrada.png
ORGANIZER;CN="Kolesarski klub Novo mesto":MAILTO:info@kknm.si
END:VEVENT
BEGIN:VEVENT
DTSTART;TZID=Europe/Ljubljana:20260329T100000
DTEND;TZID=Europe/Ljubljana:20260329T113000
DTSTAMP:20260419T150442
CREATED:20260327T105640Z
LAST-MODIFIED:20260327T105640Z
UID:10000816-1774778400-1774783800@visitnovomesto.si
SUMMARY:Children’s Workshop: Easter Cake Pops
DESCRIPTION:Slastela invites children to the Easter Cake Pops workshop\, which will take place on Sunday\, 29 March 2026\, from 10:00 to 11:30 at Podbevškova 8a in Novo Mesto. \nChildren will make their own cake pops\, decorate them\, and take their creations home. \nRegister at info@slastela.si or by phone at +386 (0)40 551 801.
URL:https://visitnovomesto.si/dogodek/childrens-workshop-easter-cake-pops/
LOCATION:Podbevškova 8a (Gospodarska cona Cikava)\, Podbevškova 8a\, Novo mesto\, Slovenija\, 8000\, Slovenia
CATEGORIES:Children and Youth,Gastronomy
ATTACH;FMTTYPE=image/png:https://visitnovomesto.si/wp-content/uploads/2026/03/Otroska-delavnica_.png
ORGANIZER;CN="Slastela":MAILTO:info@slastela.si
END:VEVENT
BEGIN:VEVENT
DTSTART;TZID=Europe/Ljubljana:20260329T130000
DTEND;TZID=Europe/Ljubljana:20260329T170000
DTSTAMP:20260419T150442
CREATED:20260320T133049Z
LAST-MODIFIED:20260320T133049Z
UID:10000667-1774789200-1774803600@visitnovomesto.si
SUMMARY:Children’s Race as Part of the Grand Prix of Novo mesto
DESCRIPTION:The Novo mesto Cycling Club invites you to the Grand Prix of Novo mesto cycling race\, taking place on Sunday\, 29 March 2026\, starting at 12:30 at the Novo mesto Olympic Center and finishing at 16:30 at Glavni trg in Novo mesto. \nAt the same time\, a Children’s Race will take place at Glavni trg\, starting at 13:00. \nEvent webpage.
URL:https://visitnovomesto.si/dogodek/childrens-race-as-part-of-the-grand-prix-of-novo-mesto/
LOCATION:Glavni trg\, Novo mesto\, Slovenija\, 8000\, Slovenia
CATEGORIES:Children and Youth,Nature and Sport
ATTACH;FMTTYPE=image/jpeg:https://visitnovomesto.si/wp-content/uploads/2026/03/Otroska-dirka_.jpg
ORGANIZER;CN="Kolesarski klub Novo mesto":MAILTO:info@kknm.si
GEO:45.803864;15.169922
END:VEVENT
BEGIN:VEVENT
DTSTART;TZID=Europe/Ljubljana:20260329T160000
DTEND;TZID=Europe/Ljubljana:20260329T200000
DTSTAMP:20260419T150442
CREATED:20260326T110559Z
LAST-MODIFIED:20260326T111620Z
UID:10000774-1774800000-1774814400@visitnovomesto.si
SUMMARY:Workshop and Party: Salsa & Bachata – Sunday Matinee
DESCRIPTION:You are invited to the dance workshop and party Salsa & Bachata – Sunday Matinee\, which will take place on Sunday\, 29 March 2026\, from 4:00 pm to 8:00 pm at KCJT Art Cafe in Novo mesto. \nEvent website.
URL:https://visitnovomesto.si/dogodek/workshop-and-party-salsa-bachata-sunday-matinee/
LOCATION:KCJT Art Cafe\, Novi trg 5\, Novo mesto\, Slovenija\, 8000\, Slovenia
CATEGORIES:Education,Social Activities and Entertainment
ATTACH;FMTTYPE=image/jpeg:https://visitnovomesto.si/wp-content/uploads/2026/03/Salsa.jpg
ORGANIZER;CN="SalSon Plesno Dru%C5%A1tvo":MAILTO:info@salson.si
END:VEVENT
BEGIN:VEVENT
DTSTART;TZID=Europe/Ljubljana:20260329T190000
DTEND;TZID=Europe/Ljubljana:20260329T200000
DTSTAMP:20260419T150442
CREATED:20260324T170752Z
LAST-MODIFIED:20260324T170752Z
UID:10000706-1774810800-1774814400@visitnovomesto.si
SUMMARY:Concert: Novo Mesto Sacred Series – Hozana Sinu Davidovemu
DESCRIPTION:You are invited to the concert Hozana Sinu Davidovemu as part of the Novo Mesto Sacred Series\, taking place on Sunday\, 29 March 2026\, at 7:00 PM at the St. Nicholas Collegiate Church in Novo mesto. \nProgramme: Blaž Klemenčič – Dominica in Palmis\, John Rutter – GloriaPerformed by: MePZ Dolenjske with accompanying instrumental ensembleConductor: Jernej Fabijan \nAdmission is free; voluntary contributions are welcome to support the operation of the series. \nEvent website.
URL:https://visitnovomesto.si/dogodek/concert-novo-mesto-sacred-series-hozana-sinu-davidovemu/
LOCATION:Stolna cerkev sv. Nikolaja Novo mesto\, Kapiteljska ulica 20\, Novo mesto\, Slovenija\, 8000\, Slovenia
CATEGORIES:Art and Culture
ATTACH;FMTTYPE=image/png:https://visitnovomesto.si/wp-content/uploads/2026/03/Hozana-Large.png
ORGANIZER;CN="Konservatorij za glasbo Jurij Slatkonja Novo mesto":MAILTO:konservatorij@gmail.com
END:VEVENT
END:VCALENDAR