BEGIN:VCALENDAR
VERSION:2.0
PRODID:-//Visit Novo Mesto - ECPv6.15.20//NONSGML v1.0//EN
CALSCALE:GREGORIAN
METHOD:PUBLISH
X-WR-CALNAME:Visit Novo Mesto
X-ORIGINAL-URL:https://visitnovomesto.si
X-WR-CALDESC:Events for Visit Novo Mesto
REFRESH-INTERVAL;VALUE=DURATION:PT1H
X-Robots-Tag:noindex
X-PUBLISHED-TTL:PT1H
BEGIN:VTIMEZONE
TZID:Europe/Ljubljana
BEGIN:DAYLIGHT
TZOFFSETFROM:+0100
TZOFFSETTO:+0200
TZNAME:CEST
DTSTART:20250330T010000
END:DAYLIGHT
BEGIN:STANDARD
TZOFFSETFROM:+0200
TZOFFSETTO:+0100
TZNAME:CET
DTSTART:20251026T010000
END:STANDARD
BEGIN:DAYLIGHT
TZOFFSETFROM:+0100
TZOFFSETTO:+0200
TZNAME:CEST
DTSTART:20260329T010000
END:DAYLIGHT
BEGIN:STANDARD
TZOFFSETFROM:+0200
TZOFFSETTO:+0100
TZNAME:CET
DTSTART:20261025T010000
END:STANDARD
BEGIN:DAYLIGHT
TZOFFSETFROM:+0100
TZOFFSETTO:+0200
TZNAME:CEST
DTSTART:20270328T010000
END:DAYLIGHT
BEGIN:STANDARD
TZOFFSETFROM:+0200
TZOFFSETTO:+0100
TZNAME:CET
DTSTART:20271031T010000
END:STANDARD
END:VTIMEZONE
BEGIN:VEVENT
DTSTART;TZID=Europe/Ljubljana:20260402T120000
DTEND;TZID=Europe/Ljubljana:20260402T200000
DTSTAMP:20260419T145617
CREATED:20260320T114205Z
LAST-MODIFIED:20260320T114205Z
UID:10000649-1775131200-1775160000@visitnovomesto.si
SUMMARY:Culinary Event: Tuna Party 3.0
DESCRIPTION:Hiša Finka invites you to a culinary spectacle with Robert Reninger\, Tuna Party 3.0\, taking place on Thursday\, 2 April 2026\, between 12:00 and 20:00. \nA truly special culinary event is coming to Novo mesto. Tuna hunter Robert Reninger will bring freshly caught tuna directly from Istria and the Kvarner region\, which will be transformed on-site into a top-tier gastronomic experience. This is not a conventional dining event\, but a unique combination of live show\, flavours\, and an immersive culinary experience. Visitors will be able to watch the creation of outstanding dishes right before their eyes. \nEvent webpage.
URL:https://visitnovomesto.si/dogodek/culinary-event-tuna-party-3-0/
LOCATION:Hiša Fink\, Irča vas 13\, Novo mesto\, Slovenija\, 8000\, Slovenia
CATEGORIES:Gastronomy
ATTACH;FMTTYPE=image/jpeg:https://visitnovomesto.si/wp-content/uploads/2026/03/Tuna-party.jpeg
ORGANIZER;CN="Hi%C5%A1a Fink":MAILTO:info@hisafink.si
END:VEVENT
BEGIN:VEVENT
DTSTART;TZID=Europe/Ljubljana:20260402T170000
DTEND;TZID=Europe/Ljubljana:20260402T180000
DTSTAMP:20260419T145617
CREATED:20260327T065048Z
LAST-MODIFIED:20260327T065048Z
UID:10000790-1775149200-1775152800@visitnovomesto.si
SUMMARY:Children’s Show: Come into Maja’s World and Find the Magic Eggs
DESCRIPTION:Supernova Novo mesto invites you to a children’s animated show Come into Maja’s World and Find the Magic Eggs\, which will take place on Thursday\, 2 April 2025\, at 5:00 pm. \nThe Easter experience with Maja will be full of play\, dancing and laughter. Before the show\, there will be a creative workshop\, and during the performance\, we will search together for the magic eggs. \nThe event will be held in Slovenian. \nEvent website.
URL:https://visitnovomesto.si/dogodek/childrens-show-come-into-majas-world-and-find-the-magic-eggs/
LOCATION:Supernova Novo mesto\, Otoška cesta 5\, Novo mesto\, Slovenija\, 8000\, Slovenia
CATEGORIES:Children and Youth,Social Activities and Entertainment
ATTACH;FMTTYPE=image/png:https://visitnovomesto.si/wp-content/uploads/2026/03/Maja_.png
ORGANIZER;CN="Supernova Novo mesto":MAILTO:info@supernova.si
END:VEVENT
END:VCALENDAR