BEGIN:VCALENDAR
VERSION:2.0
PRODID:-//Visit Novo Mesto - ECPv6.15.20//NONSGML v1.0//EN
CALSCALE:GREGORIAN
METHOD:PUBLISH
X-WR-CALNAME:Visit Novo Mesto
X-ORIGINAL-URL:https://visitnovomesto.si
X-WR-CALDESC:Events for Visit Novo Mesto
REFRESH-INTERVAL;VALUE=DURATION:PT1H
X-Robots-Tag:noindex
X-PUBLISHED-TTL:PT1H
BEGIN:VTIMEZONE
TZID:Europe/Ljubljana
BEGIN:DAYLIGHT
TZOFFSETFROM:+0100
TZOFFSETTO:+0200
TZNAME:CEST
DTSTART:20250330T010000
END:DAYLIGHT
BEGIN:STANDARD
TZOFFSETFROM:+0200
TZOFFSETTO:+0100
TZNAME:CET
DTSTART:20251026T010000
END:STANDARD
BEGIN:DAYLIGHT
TZOFFSETFROM:+0100
TZOFFSETTO:+0200
TZNAME:CEST
DTSTART:20260329T010000
END:DAYLIGHT
BEGIN:STANDARD
TZOFFSETFROM:+0200
TZOFFSETTO:+0100
TZNAME:CET
DTSTART:20261025T010000
END:STANDARD
BEGIN:DAYLIGHT
TZOFFSETFROM:+0100
TZOFFSETTO:+0200
TZNAME:CEST
DTSTART:20270328T010000
END:DAYLIGHT
BEGIN:STANDARD
TZOFFSETFROM:+0200
TZOFFSETTO:+0100
TZNAME:CET
DTSTART:20271031T010000
END:STANDARD
END:VTIMEZONE
BEGIN:VEVENT
DTSTART;VALUE=DATE:20260407
DTEND;VALUE=DATE:20260411
DTSTAMP:20260419T151214
CREATED:20260403T101506Z
LAST-MODIFIED:20260403T101506Z
UID:10000834-1775520000-1775865599@visitnovomesto.si
SUMMARY:Health Marathon 2026
DESCRIPTION:Novo mesto Community Health Centre invites you to the Health Marathon event\, organised by the Health Education Centre of the Novo mesto Community Health Centre. The event will take place from 7 to 10 April 2026. \nAs part of the event\, we will mark World Health Day and offer a variety of activities aimed at promoting a healthy lifestyle. The programme will include lectures\, physical activities\, and practical advice for improving well-being and taking care of one’s health. \nPROGRAMME: \n7 April\nHike “Small Steps to Better Health” at 9:00 a.m.\nMeeting point: in front of the gym at the Novo mesto Community Health Centre (opposite the pharmacy). In case of bad weather\, a health lecture will take place in the gym. \n8 April\nSVIT event\, presentation of the DORA and ZORA screening programmes\, and the importance of oral hygiene\nThe event will take place in the lobby of the Novo mesto Community Health Centre from 9:00 to 11:30 a.m. \n9 April\nHealth activity course for children between 9:00 and 11:00 a.m.\nRegistration is required by 2 April 2026 via email: zvc@zd-nm.si or by phone: +386 7 39 16 888.\nPlaces are limited. \n10 April\nLecture: The Importance of Good Sleep in the meeting room of the Novo mesto Community Health Centre at 10:00 a.m.\nRegistration is required by 2 April 2026 by phone: +386 70 730 457.\nPlaces are limited. \nConsultations and measurements of blood pressure and blood sugar levels\nThis will take place in the lobby of the Novo mesto Community Health Centre between 8:00 and 11:00 a.m. \nThe event is intended for everyone who wants to take a step towards a healthier lifestyle\, gain new knowledge\, and actively engage in caring for their well-being. \nEvent website
URL:https://visitnovomesto.si/dogodek/health-marathon-2026/
LOCATION:Zdravstveni dom Novo mesto\, Kandijska cesta 4\, Novo mesto\, Slovenija\, 8000\, Slovenia
CATEGORIES:Health and Well-Being
ATTACH;FMTTYPE=image/jpeg:https://visitnovomesto.si/wp-content/uploads/2026/04/Maraton-zdravja_.jpg
ORGANIZER;CN="Zdravstveni dom Novo mesto":MAILTO:info@zd-nm.si
END:VEVENT
BEGIN:VEVENT
DTSTART;TZID=Europe/Ljubljana:20260407T170000
DTEND;TZID=Europe/Ljubljana:20260407T180000
DTSTAMP:20260419T151214
CREATED:20260407T130551Z
LAST-MODIFIED:20260407T130551Z
UID:10000875-1775581200-1775584800@visitnovomesto.si
SUMMARY:Story Time for Children
DESCRIPTION:Library Miran Jarc Novo mesto invites children aged 3 and above to a Story Time session\, taking place on Tuesday and Wednesday\, 7 and 8 April 2026\, at 5:00 pm in the Fairy Tale Room. \nTogether\, participants will listen to a delightful story about a little snail\, discovering her adventures\, her friends\, and the lessons she learns along her slow but brave journey. \nPlease register in advance (Youth Department: +386 (0)7 39 34 665). \nThe event will be held in Slovene. \nEvent website
URL:https://visitnovomesto.si/dogodek/story-time-for-children/2026-04-07/
LOCATION:Knjižnica Mirana Jarca Novo mesto\, Rozmanova ulica 28\, Novo mesto\, Slovenija\, 8000\, Slovenia
CATEGORIES:Art and Culture,Children and Youth
ATTACH;FMTTYPE=image/jpeg:https://visitnovomesto.si/wp-content/uploads/2026/04/polzica-500x444-1.jpg
ORGANIZER;CN="Knji%C5%BEnica Mirana Jarca Novo mesto":MAILTO:info@kmj.si
END:VEVENT
BEGIN:VEVENT
DTSTART;TZID=Europe/Ljubljana:20260407T190000
DTEND;TZID=Europe/Ljubljana:20260407T203000
DTSTAMP:20260419T151214
CREATED:20260327T095919Z
LAST-MODIFIED:20260327T095919Z
UID:10000806-1775588400-1775593800@visitnovomesto.si
SUMMARY:Tarot Tournament at Goga Bookstore
DESCRIPTION:Založba Goga invites you to a Tarot Tournament\, which will take place on Tuesday\, 7 April 2026\, at 7:00 pm at Goga Bookstore and Café. \nAll tarot enthusiasts are welcome! Every month (usually on the first Tuesday) players gather at Goga Bookstore and Café for a friendly tournament of this popular social card game. Whether you are an experienced player or a beginner\, everyone is invited to join. \nEvent website.
URL:https://visitnovomesto.si/dogodek/tarot-tournament-at-goga-bookstore/
LOCATION:Knjigarna in kavarna Goga\, Glavni trg 6\, Novo mesto\, Slovenija\, 8000\, Slovenia
CATEGORIES:Social Activities and Entertainment
ATTACH;FMTTYPE=image/png:https://visitnovomesto.si/wp-content/uploads/2026/03/Tarok-Goga.png
ORGANIZER;CN="Zalo%C5%BEba Goga":MAILTO:info@goga.si
END:VEVENT
BEGIN:VEVENT
DTSTART;TZID=Europe/Ljubljana:20260407T200000
DTEND;TZID=Europe/Ljubljana:20260407T220000
DTSTAMP:20260419T151214
CREATED:20260211T112242Z
LAST-MODIFIED:20260320T134648Z
UID:10000389-1775592000-1775599200@visitnovomesto.si
SUMMARY:Play: The Banality of Evil
DESCRIPTION:Anton Podbevšek Theatre invites you to the play The Banality of Evil: Hannah Arendt – Again\, which will take place on Tuesday\, 7 April 2026\, at 8.00 pm\, and on Wednesday\, 8 April 2026\, at 11.00 am and 8.00 pm. \nThe play is in Slovene. \nEvent website
URL:https://visitnovomesto.si/dogodek/play-the-banality-of-evil-2/2026-04-07/
LOCATION:Anton Podbevšek Teater\, Prešernov trg 3\, Novo mesto\, Slovenija\, 8000\, Slovenia
CATEGORIES:Art and Culture
ATTACH;FMTTYPE=image/png:https://visitnovomesto.si/wp-content/uploads/2026/02/Banalnost-zla.png
ORGANIZER;CN="Anton Podbev%C5%A1ek Teater":MAILTO:info@antonpodbevsekteater.si
END:VEVENT
END:VCALENDAR