BEGIN:VCALENDAR
VERSION:2.0
PRODID:-//Visit Novo Mesto - ECPv6.15.20//NONSGML v1.0//EN
CALSCALE:GREGORIAN
METHOD:PUBLISH
X-ORIGINAL-URL:https://visitnovomesto.si
X-WR-CALDESC:Events for Visit Novo Mesto
REFRESH-INTERVAL;VALUE=DURATION:PT1H
X-Robots-Tag:noindex
X-PUBLISHED-TTL:PT1H
BEGIN:VTIMEZONE
TZID:Europe/Ljubljana
BEGIN:DAYLIGHT
TZOFFSETFROM:+0100
TZOFFSETTO:+0200
TZNAME:CEST
DTSTART:20250330T010000
END:DAYLIGHT
BEGIN:STANDARD
TZOFFSETFROM:+0200
TZOFFSETTO:+0100
TZNAME:CET
DTSTART:20251026T010000
END:STANDARD
BEGIN:DAYLIGHT
TZOFFSETFROM:+0100
TZOFFSETTO:+0200
TZNAME:CEST
DTSTART:20260329T010000
END:DAYLIGHT
BEGIN:STANDARD
TZOFFSETFROM:+0200
TZOFFSETTO:+0100
TZNAME:CET
DTSTART:20261025T010000
END:STANDARD
BEGIN:DAYLIGHT
TZOFFSETFROM:+0100
TZOFFSETTO:+0200
TZNAME:CEST
DTSTART:20270328T010000
END:DAYLIGHT
BEGIN:STANDARD
TZOFFSETFROM:+0200
TZOFFSETTO:+0100
TZNAME:CET
DTSTART:20271031T010000
END:STANDARD
END:VTIMEZONE
BEGIN:VEVENT
DTSTART;TZID=Europe/Ljubljana:20260308T190000
DTEND;TZID=Europe/Ljubljana:20260308T200000
DTSTAMP:20260419T152226
CREATED:20260306T112913Z
LAST-MODIFIED:20260306T113512Z
UID:10000522-1772996400-1773000000@visitnovomesto.si
SUMMARY:Novo mesto Sacred Series: Hear My Love – A Path to Light and Peace
DESCRIPTION:The chamber choir DEKOR invites you to the concert Hear My Love – A Path to Light and Peace\, taking place on Sunday\, 8 March 2026\, at 7 pm in the Cathedral of St. Nicholas as part of the Novo mesto Sacred Series. \nUnder the direction of conductor Peter Novak Smolič and accompanied by organ virtuoso Matej Podstenšek\, the choir will perform the Requiem by contemporary American composer Michael John Trotte\, presented in Slovenia for the first time\, along with works by Runestad\, Bergh\, Orbán\, Waldenby\, and Lebič. The concert is a prayer for peace and light\, connecting the audience in a shared experience and reflection on life and eternity. \nEvent website
URL:https://visitnovomesto.si/dogodek/novo-mesto-sacred-series-hear-my-love-a-path-to-light-and-peace/
LOCATION:Stolna cerkev sv. Nikolaja Novo mesto\, Kapiteljska ulica 20\, Novo mesto\, Slovenija\, 8000\, Slovenia
CATEGORIES:Art and Culture
ATTACH;FMTTYPE=image/jpeg:https://visitnovomesto.si/wp-content/uploads/2026/03/Dekor_.jpg
ORGANIZER;CN="Zavod Friderik Irenej Baraga":MAILTO:zavod.fib@gmail.com
END:VEVENT
END:VCALENDAR