BEGIN:VCALENDAR
VERSION:2.0
PRODID:-//Visit Novo Mesto - ECPv6.15.20//NONSGML v1.0//EN
CALSCALE:GREGORIAN
METHOD:PUBLISH
X-ORIGINAL-URL:https://visitnovomesto.si
X-WR-CALDESC:Events for Visit Novo Mesto
REFRESH-INTERVAL;VALUE=DURATION:PT1H
X-Robots-Tag:noindex
X-PUBLISHED-TTL:PT1H
BEGIN:VTIMEZONE
TZID:Europe/Ljubljana
BEGIN:DAYLIGHT
TZOFFSETFROM:+0100
TZOFFSETTO:+0200
TZNAME:CEST
DTSTART:20250330T010000
END:DAYLIGHT
BEGIN:STANDARD
TZOFFSETFROM:+0200
TZOFFSETTO:+0100
TZNAME:CET
DTSTART:20251026T010000
END:STANDARD
BEGIN:DAYLIGHT
TZOFFSETFROM:+0100
TZOFFSETTO:+0200
TZNAME:CEST
DTSTART:20260329T010000
END:DAYLIGHT
BEGIN:STANDARD
TZOFFSETFROM:+0200
TZOFFSETTO:+0100
TZNAME:CET
DTSTART:20261025T010000
END:STANDARD
BEGIN:DAYLIGHT
TZOFFSETFROM:+0100
TZOFFSETTO:+0200
TZNAME:CEST
DTSTART:20270328T010000
END:DAYLIGHT
BEGIN:STANDARD
TZOFFSETFROM:+0200
TZOFFSETTO:+0100
TZNAME:CET
DTSTART:20271031T010000
END:STANDARD
END:VTIMEZONE
BEGIN:VEVENT
DTSTART;TZID=Europe/Ljubljana:20260316T190000
DTEND;TZID=Europe/Ljubljana:20260316T203000
DTSTAMP:20260419T152352
CREATED:20260309T131314Z
LAST-MODIFIED:20260309T131314Z
UID:10000581-1773687600-1773693000@visitnovomesto.si
SUMMARY:Talk Evening: Hospickafe – Martin Golob
DESCRIPTION:Hospic Slovenija and the Miran Jarc Library Novo mesto invite you to a talk evening with Martin Golob\, which will take place on Monday\, 16 March 2026\, at 7:00 pm in the Events Atrium. \nOn the occasion of the 20th anniversary of the Hospic Association for the Dolenjska\, Posavje and Bela krajina regions\, the guest of Hospickafe will be one of Slovenia’s most popular priests – Martin Golob. He also spreads the message of the Gospel through books and social media\, where he has tens of thousands of followers. \nThe conversation will be moderated by Carmen L. Oven\, a volunteer of Hospic Slovenija\, while the evening will be enriched with music by Bort Ross\, ambassador of the organisation. \nThe event will be held in Slovene. \nEvent website
URL:https://visitnovomesto.si/dogodek/talk-evening-hospickafe-martin-golob/
LOCATION:Knjižnica Mirana Jarca Novo mesto\, Rozmanova ulica 28\, Novo mesto\, Slovenija\, 8000\, Slovenia
CATEGORIES:Art and Culture,Health and Well-Being
ATTACH;FMTTYPE=image/jpeg:https://visitnovomesto.si/wp-content/uploads/2026/03/Martin-Golob.jpg
ORGANIZER;CN="Knji%C5%BEnica Mirana Jarca Novo mesto":MAILTO:info@kmj.si
END:VEVENT
END:VCALENDAR