BEGIN:VCALENDAR
VERSION:2.0
PRODID:-//Visit Novo Mesto - ECPv6.15.20//NONSGML v1.0//EN
CALSCALE:GREGORIAN
METHOD:PUBLISH
X-ORIGINAL-URL:https://visitnovomesto.si
X-WR-CALDESC:Events for Visit Novo Mesto
REFRESH-INTERVAL;VALUE=DURATION:PT1H
X-Robots-Tag:noindex
X-PUBLISHED-TTL:PT1H
BEGIN:VTIMEZONE
TZID:Europe/Ljubljana
BEGIN:DAYLIGHT
TZOFFSETFROM:+0100
TZOFFSETTO:+0200
TZNAME:CEST
DTSTART:20250330T010000
END:DAYLIGHT
BEGIN:STANDARD
TZOFFSETFROM:+0200
TZOFFSETTO:+0100
TZNAME:CET
DTSTART:20251026T010000
END:STANDARD
BEGIN:DAYLIGHT
TZOFFSETFROM:+0100
TZOFFSETTO:+0200
TZNAME:CEST
DTSTART:20260329T010000
END:DAYLIGHT
BEGIN:STANDARD
TZOFFSETFROM:+0200
TZOFFSETTO:+0100
TZNAME:CET
DTSTART:20261025T010000
END:STANDARD
BEGIN:DAYLIGHT
TZOFFSETFROM:+0100
TZOFFSETTO:+0200
TZNAME:CEST
DTSTART:20270328T010000
END:DAYLIGHT
BEGIN:STANDARD
TZOFFSETFROM:+0200
TZOFFSETTO:+0100
TZNAME:CET
DTSTART:20271031T010000
END:STANDARD
END:VTIMEZONE
BEGIN:VEVENT
DTSTART;TZID=Europe/Ljubljana:20260331T170000
DTEND;TZID=Europe/Ljubljana:20260331T180000
DTSTAMP:20260419T152336
CREATED:20260311T102207Z
LAST-MODIFIED:20260311T102207Z
UID:10000600-1774976400-1774980000@visitnovomesto.si
SUMMARY:Storytime for Children
DESCRIPTION:Knjižnica Mirana Jarca Novo mesto invites children aged 3 and above to a Storytime\, which will take place on Tuesday and Wednesday\, 31 March and 1 April 2026\, at 5:00 pm in the Fairy-Tale Room. \nPlease register in advance for the storytime session (Children’s Department: +386 7 39 34 665). \nAbout the story:What is the name of the magical mango–melon–pomegranate tree? It is guarded by a python who will only allow the hungry animals to eat from the tree if they can tell him its name. One by one\, the Zebra\, the Monkey and the Elephant set off across the African wilderness to ask the Lion\, the King of the Jungle\, to tell them the tree’s name – but by the time they return\, they have already forgotten it! Only the small\, slow Tortoise has not yet tried. Will she find the King and return with the name of the magical tree? \nThe event will be held in Slovene. \nEvent website.
URL:https://visitnovomesto.si/dogodek/storytime-for-children-4/2026-03-31/
LOCATION:Knjižnica Mirana Jarca Novo mesto\, Rozmanova ulica 28\, Novo mesto\, Slovenija\, 8000\, Slovenia
CATEGORIES:Art and Culture,Children and Youth
ATTACH;FMTTYPE=image/png:https://visitnovomesto.si/wp-content/uploads/2026/03/5.3.ime-carobnega-drevesa-500x500-1.png
ORGANIZER;CN="Knji%C5%BEnica Mirana Jarca Novo mesto":MAILTO:info@kmj.si
END:VEVENT
BEGIN:VEVENT
DTSTART;TZID=Europe/Ljubljana:20260331T190000
DTEND;TZID=Europe/Ljubljana:20260331T203000
DTSTAMP:20260419T152336
CREATED:20260309T120325Z
LAST-MODIFIED:20260325T124200Z
UID:10000559-1774983600-1774989000@visitnovomesto.si
SUMMARY:Play: Alfa Samski
DESCRIPTION:The Janez Trdina Cultural Centre invites you to the comedy Alfa Samski on Tuesday\, 31 March 2026\, at 7:00 pm. \nGoran Hrvaćanin\, Jernej Kogovšek\, and Mario Ćulibrk star in the new comedy Alfa Samski\, directed by Jure Karas. \nThe play will be held in Slovene. \nEvent website
URL:https://visitnovomesto.si/dogodek/play-alfa-samski/
LOCATION:KCJT\, Novi trg 5\, Novo mesto\, Slovenija\, 8000\, Slovenia
CATEGORIES:Art and Culture
ATTACH;FMTTYPE=image/png:https://visitnovomesto.si/wp-content/uploads/2026/03/Alfa-samski.png
ORGANIZER;CN="KCJT":MAILTO:kultura@znm.si
END:VEVENT
END:VCALENDAR