BEGIN:VCALENDAR
VERSION:2.0
PRODID:-//Visit Novo Mesto - ECPv6.15.20//NONSGML v1.0//EN
CALSCALE:GREGORIAN
METHOD:PUBLISH
X-ORIGINAL-URL:https://visitnovomesto.si
X-WR-CALDESC:Events for Visit Novo Mesto
REFRESH-INTERVAL;VALUE=DURATION:PT1H
X-Robots-Tag:noindex
X-PUBLISHED-TTL:PT1H
BEGIN:VTIMEZONE
TZID:Europe/Ljubljana
BEGIN:DAYLIGHT
TZOFFSETFROM:+0100
TZOFFSETTO:+0200
TZNAME:CEST
DTSTART:20250330T010000
END:DAYLIGHT
BEGIN:STANDARD
TZOFFSETFROM:+0200
TZOFFSETTO:+0100
TZNAME:CET
DTSTART:20251026T010000
END:STANDARD
BEGIN:DAYLIGHT
TZOFFSETFROM:+0100
TZOFFSETTO:+0200
TZNAME:CEST
DTSTART:20260329T010000
END:DAYLIGHT
BEGIN:STANDARD
TZOFFSETFROM:+0200
TZOFFSETTO:+0100
TZNAME:CET
DTSTART:20261025T010000
END:STANDARD
BEGIN:DAYLIGHT
TZOFFSETFROM:+0100
TZOFFSETTO:+0200
TZNAME:CEST
DTSTART:20270328T010000
END:DAYLIGHT
BEGIN:STANDARD
TZOFFSETFROM:+0200
TZOFFSETTO:+0100
TZNAME:CET
DTSTART:20271031T010000
END:STANDARD
END:VTIMEZONE
BEGIN:VEVENT
DTSTART;TZID=Europe/Ljubljana:20260122T190000
DTEND;TZID=Europe/Ljubljana:20260122T210000
DTSTAMP:20260419T231313
CREATED:20260120T154915Z
LAST-MODIFIED:20260120T154915Z
UID:10000206-1769108400-1769115600@visitnovomesto.si
SUMMARY:Tarok Evening
DESCRIPTION:On Thursday\, 22 January\, at 7.00 pm\, you are invited to LokalPatriot Café for a relaxed Tarok tournament. \nAdvance registration is required via the link. \nEvent website
URL:https://visitnovomesto.si/dogodek/tarok-evening/
LOCATION:Kavarna LokalPatriot\, Rozmanova ulica 21\, Novo mesto\, Slovenija\, 8000\, Slovenia
CATEGORIES:Social Activities and Entertainment
ATTACH;FMTTYPE=image/png:https://visitnovomesto.si/wp-content/uploads/2026/01/tarok.png
ORGANIZER;CN="LokalPatriot":MAILTO:lokalpatriot@lokalpatriot.si
END:VEVENT
BEGIN:VEVENT
DTSTART;TZID=Europe/Ljubljana:20260130T160000
DTEND;TZID=Europe/Ljubljana:20260130T190000
DTSTAMP:20260419T231313
CREATED:20260120T160228Z
LAST-MODIFIED:20260120T160228Z
UID:10000212-1769788800-1769799600@visitnovomesto.si
SUMMARY:Clash Royale Tournament
DESCRIPTION:Do you play Clash Royale? Then sign up for the Clash Royale Tournament organised by the Novo mesto Student Association\, taking place on Friday\, 30 January 2026\, at 4.00 pm at LokalPatriot Café. \nThe tournament format will be determined based on the number of registered players. Participants will be informed in advance via their phone number. \nRegistration via the link. \nEvent website
URL:https://visitnovomesto.si/dogodek/clash-royale-tournament/
LOCATION:Kavarna LokalPatriot\, Rozmanova ulica 21\, Novo mesto\, Slovenija\, 8000\, Slovenia
CATEGORIES:Social Activities and Entertainment
ATTACH;FMTTYPE=image/png:https://visitnovomesto.si/wp-content/uploads/2026/01/clashhh.png
ORGANIZER;CN="LokalPatriot":MAILTO:lokalpatriot@lokalpatriot.si
END:VEVENT
BEGIN:VEVENT
DTSTART;TZID=Europe/Ljubljana:20260130T203000
DTEND;TZID=Europe/Ljubljana:20260130T230000
DTSTAMP:20260419T231313
CREATED:20260120T162010Z
LAST-MODIFIED:20260120T162010Z
UID:10000214-1769805000-1769814000@visitnovomesto.si
SUMMARY:Karaoke Night #1
DESCRIPTION:On Friday\, 30 January 2026\, at 8.30 pm\, you are invited to a karaoke night open to all lovers of music and performing. The event offers an opportunity to showcase your voice\, either solo or as part of a group\, or you can simply come along to listen and cheer on your friends. \nBoth experienced performers and those who would like to try performing for the first time are warmly invited to take part. \nRegistration is recommended. \nEvent website
URL:https://visitnovomesto.si/dogodek/karaoke-night-1/
LOCATION:Kavarna LokalPatriot\, Rozmanova ulica 21\, Novo mesto\, Slovenija\, 8000\, Slovenia
CATEGORIES:Social Activities and Entertainment
ATTACH;FMTTYPE=image/png:https://visitnovomesto.si/wp-content/uploads/2026/01/karaoke.png
ORGANIZER;CN="LokalPatriot":MAILTO:lokalpatriot@lokalpatriot.si
END:VEVENT
BEGIN:VEVENT
DTSTART;TZID=Europe/Ljubljana:20260131T203000
DTEND;TZID=Europe/Ljubljana:20260131T230000
DTSTAMP:20260419T231313
CREATED:20260120T162621Z
LAST-MODIFIED:20260120T162621Z
UID:10000216-1769891400-1769900400@visitnovomesto.si
SUMMARY:Pub Quiz #2
DESCRIPTION:On Saturday\, 31 January 2026\, at 8.30 pm\, you are invited to LokalPatriot Café for a café-style pub quiz. The quiz will consist of several themed rounds\, and prizes await the winners. \nAdvance registration is mandatory. \nEvent website
URL:https://visitnovomesto.si/dogodek/pub-quiz-2/
LOCATION:Kavarna LokalPatriot\, Rozmanova ulica 21\, Novo mesto\, Slovenija\, 8000\, Slovenia
CATEGORIES:Social Activities and Entertainment
ATTACH;FMTTYPE=image/png:https://visitnovomesto.si/wp-content/uploads/2026/01/Kviz-31.-januar-2026-3.png
ORGANIZER;CN="LokalPatriot":MAILTO:lokalpatriot@lokalpatriot.si
END:VEVENT
END:VCALENDAR