BEGIN:VCALENDAR
VERSION:2.0
PRODID:-//Visit Novo Mesto - ECPv6.15.20//NONSGML v1.0//EN
CALSCALE:GREGORIAN
METHOD:PUBLISH
X-WR-CALNAME:Visit Novo Mesto
X-ORIGINAL-URL:https://visitnovomesto.si
X-WR-CALDESC:Events for Visit Novo Mesto
REFRESH-INTERVAL;VALUE=DURATION:PT1H
X-Robots-Tag:noindex
X-PUBLISHED-TTL:PT1H
BEGIN:VTIMEZONE
TZID:Europe/Ljubljana
BEGIN:DAYLIGHT
TZOFFSETFROM:+0100
TZOFFSETTO:+0200
TZNAME:CEST
DTSTART:20250330T010000
END:DAYLIGHT
BEGIN:STANDARD
TZOFFSETFROM:+0200
TZOFFSETTO:+0100
TZNAME:CET
DTSTART:20251026T010000
END:STANDARD
BEGIN:DAYLIGHT
TZOFFSETFROM:+0100
TZOFFSETTO:+0200
TZNAME:CEST
DTSTART:20260329T010000
END:DAYLIGHT
BEGIN:STANDARD
TZOFFSETFROM:+0200
TZOFFSETTO:+0100
TZNAME:CET
DTSTART:20261025T010000
END:STANDARD
BEGIN:DAYLIGHT
TZOFFSETFROM:+0100
TZOFFSETTO:+0200
TZNAME:CEST
DTSTART:20270328T010000
END:DAYLIGHT
BEGIN:STANDARD
TZOFFSETFROM:+0200
TZOFFSETTO:+0100
TZNAME:CET
DTSTART:20271031T010000
END:STANDARD
END:VTIMEZONE
BEGIN:VEVENT
DTSTART;TZID=Europe/Ljubljana:20260205T190000
DTEND;TZID=Europe/Ljubljana:20260205T220000
DTSTAMP:20260419T214244
CREATED:20260131T201931Z
LAST-MODIFIED:20260131T201931Z
UID:10000256-1770318000-1770328800@visitnovomesto.si
SUMMARY:Evening of Cocktails and Board Games
DESCRIPTION:On Thursday\, 5 February 2026\, from 7.00 pm onwards\, you are invited to a relaxed evening of cocktails and board games at the LokalPatriot café. You can try cocktails at special prices\, and a variety of board games will be available for everyone\, including chess\, Activity\, Alias\, Tokaido\, Amazonas\, tarot\, regular playing cards\, Enka\, and more. Of course\, you are also very welcome to bring your favourite game and try it out in good company. \nCome for a cocktail (or two)\, pick a game\, and enjoy a proper Thursday evening. See you there! \nEvent website
URL:https://visitnovomesto.si/dogodek/evening-of-cocktails-and-board-games/
LOCATION:Kavarna LokalPatriot\, Rozmanova ulica 21\, Novo mesto\, Slovenija\, 8000\, Slovenia
CATEGORIES:Gastronomy,Social Activities and Entertainment
ATTACH;FMTTYPE=image/png:https://visitnovomesto.si/wp-content/uploads/2026/01/koktejl-druzabni-vecer-5.png
ORGANIZER;CN="LokalPatriot":MAILTO:lokalpatriot@lokalpatriot.si
END:VEVENT
BEGIN:VEVENT
DTSTART;TZID=Europe/Ljubljana:20260207T203000
DTEND;TZID=Europe/Ljubljana:20260207T223000
DTSTAMP:20260419T214244
CREATED:20260131T202528Z
LAST-MODIFIED:20260131T202528Z
UID:10000258-1770496200-1770503400@visitnovomesto.si
SUMMARY:Pub Quiz: Culture
DESCRIPTION:On Saturday\, 7 February 2026\, on the eve of Slovenian Cultural Day\, you are invited to Pub Quiz: Culture\, where we will explore several diverse rounds on the themes of art\, literature\, music\, theatre\, and more. \nRegistration required. The event will be conducted in Slovenian. \nEvent website
URL:https://visitnovomesto.si/dogodek/pub-quiz-culture/
LOCATION:Kavarna LokalPatriot\, Rozmanova ulica 21\, Novo mesto\, Slovenija\, 8000\, Slovenia
CATEGORIES:Social Activities and Entertainment
ATTACH;FMTTYPE=image/png:https://visitnovomesto.si/wp-content/uploads/2026/01/Kulturni-kviz.png
ORGANIZER;CN="LokalPatriot":MAILTO:lokalpatriot@lokalpatriot.si
END:VEVENT
BEGIN:VEVENT
DTSTART;TZID=Europe/Ljubljana:20260212T190000
DTEND;TZID=Europe/Ljubljana:20260212T213000
DTSTAMP:20260419T214244
CREATED:20260209T124040Z
LAST-MODIFIED:20260209T124040Z
UID:10000308-1770922800-1770931800@visitnovomesto.si
SUMMARY:Tarok Evening #3
DESCRIPTION:You are invited to a relaxed Tarok evening on Thursday\, 12 February 2026\, at 7.00 pm\, at the LokalPatriot Café. \nRegistration is required to help with organisation. \nEvent website
URL:https://visitnovomesto.si/dogodek/tarok-evening-3/
LOCATION:Kavarna LokalPatriot\, Rozmanova ulica 21\, Novo mesto\, Slovenija\, 8000\, Slovenia
CATEGORIES:Social Activities and Entertainment
ATTACH;FMTTYPE=image/png:https://visitnovomesto.si/wp-content/uploads/2026/01/Untitled-3-1.png
ORGANIZER;CN="LokalPatriot":MAILTO:lokalpatriot@lokalpatriot.si
END:VEVENT
BEGIN:VEVENT
DTSTART;TZID=Europe/Ljubljana:20260213T110000
DTEND;TZID=Europe/Ljubljana:20260213T120000
DTSTAMP:20260419T214244
CREATED:20260212T093327Z
LAST-MODIFIED:20260212T093327Z
UID:10000407-1770980400-1770984000@visitnovomesto.si
SUMMARY:Kurentovanje with Avto Krka Novo mesto
DESCRIPTION:You are warmly invited to Kurentovanje with Avto Krka Novo mesto\, taking place on Friday\, 13 February 2026\, between 11 am and 12 noon. \nThe Kurents\, with their distinctive bells\, high spirits and carnival bustle\, will chase away the winter and bring good fortune. We will make sure that no one goes hungry – at each location there will be the delicious aroma of freshly fried miške (traditional carnival doughnuts)\, along with some savoury bites to enjoy. \nEvent website
URL:https://visitnovomesto.si/dogodek/kurentovanje-with-avto-krka-novo-mesto/
LOCATION:Avto Krka Novo mesto\, Pod Trško goro 83A\, Novo mesto\, Slovenija\, 8000\, Slovenia
CATEGORIES:History and Heritage,Social Activities and Entertainment
ATTACH;FMTTYPE=image/jpeg:https://visitnovomesto.si/wp-content/uploads/2026/02/Kurentovanje.jpg
ORGANIZER;CN="Avto Krka Novo mesto":MAILTO:novomesto@avtokrka.si
END:VEVENT
BEGIN:VEVENT
DTSTART;TZID=Europe/Ljubljana:20260213T170000
DTEND;TZID=Europe/Ljubljana:20260213T180000
DTSTAMP:20260419T214244
CREATED:20260212T121328Z
LAST-MODIFIED:20260212T121328Z
UID:10000417-1771002000-1771005600@visitnovomesto.si
SUMMARY:When Masks Come to Life: Carnival Mask-Making Workshop
DESCRIPTION:Carnival is a time for imagination\, laughter and colourful transformations. That is why Supernova Mercator Novo mesto invites children and adults alike to join two carnival events where masks will truly come to life. \nOn Friday\, 13 February 2026\, at 5 pm\, there will be a guided carnival mask-making workshop. \nOn Tuesday\, 17 February 2026\, at 5 pm\, join us for a carnival celebration with the animals from Resia. \nEvent website
URL:https://visitnovomesto.si/dogodek/when-masks-come-to-life-carnival-mask-making-workshop/
LOCATION:Supernova Mercator Novo mesto\, Ljubljanska cesta 47\, Novo mesto\, Slovenija\, 8000\, Slovenia
CATEGORIES:Children and Youth,Social Activities and Entertainment
ATTACH;FMTTYPE=image/jpeg:https://visitnovomesto.si/wp-content/uploads/2026/02/Pust-Mercator.jpg
END:VEVENT
BEGIN:VEVENT
DTSTART;TZID=Europe/Ljubljana:20260213T203000
DTEND;TZID=Europe/Ljubljana:20260213T230000
DTSTAMP:20260419T214244
CREATED:20260209T131748Z
LAST-MODIFIED:20260209T131902Z
UID:10000314-1771014600-1771023600@visitnovomesto.si
SUMMARY:Pub Quiz
DESCRIPTION:On the eve of Carnival Saturday\, Friday\, 13 February 2026\, at 8.30 pm\, you are invited to the LokalPatriot Café for a Pub Quiz featuring general knowledge topics once again. \nRegistration is required to help with organisation. \nThe event will be held in Slovenian. \nEvent website
URL:https://visitnovomesto.si/dogodek/pub-quiz/
LOCATION:Kavarna LokalPatriot\, Rozmanova ulica 21\, Novo mesto\, Slovenija\, 8000\, Slovenia
CATEGORIES:Social Activities and Entertainment
ATTACH;FMTTYPE=image/png:https://visitnovomesto.si/wp-content/uploads/2026/01/Kviz-13.-februar-2026-3-1.png
ORGANIZER;CN="LokalPatriot":MAILTO:lokalpatriot@lokalpatriot.si
END:VEVENT
BEGIN:VEVENT
DTSTART;TZID=Europe/Ljubljana:20260214T110000
DTEND;TZID=Europe/Ljubljana:20260214T123000
DTSTAMP:20260419T214244
CREATED:20260204T140914Z
LAST-MODIFIED:20260209T094023Z
UID:10000270-1771066800-1771072200@visitnovomesto.si
SUMMARY:Carnival Party with Red Feather the Indian
DESCRIPTION:BTC City Novo mesto invites you to a carnival party on Saturday\, 14 February 2026\, at 11.00 a.m.\, in Hall A. \nAll little and not-so-little carnival characters are invited to enjoy: \n* Face painting – from 10.30 a.m. \n* Carnival fun with Red Feather the Indian – from 11.00 a.m. \nTogether\, we will chase away winter with music and dancing\, and enjoy plenty of doughnuts for all carnival masks. \nEvent website
URL:https://visitnovomesto.si/dogodek/carnival-party-with-red-feather-the-indian/
LOCATION:BTC City Novo mesto\, Ljubljanska cesta 27\, Novo mesto\, Slovenija\, 8000\, Slovenia
CATEGORIES:Children and Youth,Social Activities and Entertainment
ATTACH;FMTTYPE=image/png:https://visitnovomesto.si/wp-content/uploads/2026/02/Pust-BTC-Large.png
END:VEVENT
BEGIN:VEVENT
DTSTART;TZID=Europe/Ljubljana:20260214T170000
DTEND;TZID=Europe/Ljubljana:20260214T170000
DTSTAMP:20260419T214244
CREATED:20260212T085733Z
LAST-MODIFIED:20260212T085733Z
UID:10000403-1771088400-1771088400@visitnovomesto.si
SUMMARY:Carnival Celebration at Stopničke Café
DESCRIPTION:You are warmly invited to a carnival celebration at Stopničke Café on Saturday\, 14 February 2026\, at 5 pm. \nChildren can look forward to creative workshops\, face painting\, dancing in fancy dress\, and many other carnival surprises. They are encouraged to put on their favourite costume and enjoy the relaxed carnival atmosphere. \nEvent website
URL:https://visitnovomesto.si/dogodek/carnival-celebration-at-stopnicke-cafe/
LOCATION:Kavarna Stopničke\, Stopiče 34\, Novo mesto\, Slovenija\, 8000\, Slovenia
CATEGORIES:Children and Youth,Social Activities and Entertainment
ATTACH;FMTTYPE=image/jpeg:https://visitnovomesto.si/wp-content/uploads/2026/02/Pust-Stopice_.jpg
ORGANIZER;CN="Kavarna Stopni%C4%8Dke":MAILTO:kavarna.stopnicke@gmail.com
END:VEVENT
BEGIN:VEVENT
DTSTART;TZID=Europe/Ljubljana:20260214T210000
DTEND;TZID=Europe/Ljubljana:20260214T210000
DTSTAMP:20260419T214244
CREATED:20260131T200523Z
LAST-MODIFIED:20260209T131947Z
UID:10000254-1771102800-1771102800@visitnovomesto.si
SUMMARY:DNŠ Carnival Party
DESCRIPTION:Carnival is coming\, and with it\, the return of the Novo Mesto DNŠ Carnival Party! Dress up in your most spectacular costume and join us on Carnival Saturday\, 14 February 2026\, at the LokalPatriot café. Our gathering will start at 9.00 pm. \nTickets: presale €5\, on the day €10. \nAll guests wearing a costume on the day of the event will be greeted with a Welcome Drink at the entrance. \nEvent website
URL:https://visitnovomesto.si/dogodek/dns-carnival-party/
LOCATION:LokalPatriot\, Rozmanova ulica 21\, Novo mesto\, Slovenija\, 8000\, Slovenia
CATEGORIES:Children and Youth,Social Activities and Entertainment
ATTACH;FMTTYPE=image/png:https://visitnovomesto.si/wp-content/uploads/2026/02/DNS-pustovanje-3.png
END:VEVENT
BEGIN:VEVENT
DTSTART;TZID=Europe/Ljubljana:20260217T170000
DTEND;TZID=Europe/Ljubljana:20260217T190000
DTSTAMP:20260419T214244
CREATED:20260212T121623Z
LAST-MODIFIED:20260212T121623Z
UID:10000419-1771347600-1771354800@visitnovomesto.si
SUMMARY:When Masks Come to Life: Carnival Celebration with the Animals from Resia
DESCRIPTION:Carnival is a time for imagination\, laughter and colourful transformations. Supernova Mercator Novo mesto invites you to a Carnival Celebration with the Animals from Resia on Tuesday\, 17 February 2026\, at 5 pm. Donuts will be available for everyone. \nEvent website
URL:https://visitnovomesto.si/dogodek/when-masks-come-to-life-carnival-celebration-with-the-animals-from-resia/
LOCATION:Supernova Mercator Novo mesto\, Ljubljanska cesta 47\, Novo mesto\, Slovenija\, 8000\, Slovenia
CATEGORIES:Children and Youth,Social Activities and Entertainment
ATTACH;FMTTYPE=image/jpeg:https://visitnovomesto.si/wp-content/uploads/2026/02/Pust-Mercator.jpg
END:VEVENT
BEGIN:VEVENT
DTSTART;TZID=Europe/Ljubljana:20260220T203000
DTEND;TZID=Europe/Ljubljana:20260220T223000
DTSTAMP:20260419T214244
CREATED:20260218T160526Z
LAST-MODIFIED:20260218T160848Z
UID:10000441-1771619400-1771626600@visitnovomesto.si
SUMMARY:Pub Quiz
DESCRIPTION:On Friday\, 20 February 2026\, at 8:30 pm\, you are invited to the Café LokalPatriot for a pub quiz. The quiz will consist of several rounds\, covering general knowledge and random topics. This time\, it will be hosted by two co-hosts. \nThe event will be conducted in Slovenian. \nEvent website
URL:https://visitnovomesto.si/dogodek/pub-quiz-3/
LOCATION:Kavarna LokalPatriot\, Rozmanova ulica 21\, Novo mesto\, Slovenija\, 8000\, Slovenia
CATEGORIES:Social Activities and Entertainment
ATTACH;FMTTYPE=image/jpeg:https://visitnovomesto.si/wp-content/uploads/2026/02/Pub-Kviz.jpg
ORGANIZER;CN="LokalPatriot":MAILTO:lokalpatriot@lokalpatriot.si
END:VEVENT
BEGIN:VEVENT
DTSTART;TZID=Europe/Ljubljana:20260221T190000
DTEND;TZID=Europe/Ljubljana:20260221T230000
DTSTAMP:20260419T214244
CREATED:20260218T163051Z
LAST-MODIFIED:20260220T113826Z
UID:10000447-1771700400-1771714800@visitnovomesto.si
SUMMARY:Darts Tournament at Kavarna Stopničke
DESCRIPTION:You are invited to a darts tournament at Kavarna Stopničke on Saturday\, 21 February 2026\, at 7:00 pm. \nEnjoy a relaxed atmosphere\, good company\, and great prizes. \nEvent website
URL:https://visitnovomesto.si/dogodek/darts-tournament-at-kavarna-stopnicke/
LOCATION:Kavarna Stopničke\, Stopiče 34\, Novo mesto\, Slovenija\, 8000\, Slovenia
CATEGORIES:Social Activities and Entertainment
ATTACH;FMTTYPE=image/jpeg:https://visitnovomesto.si/wp-content/uploads/2026/02/Pikado-turnir.jpg
ORGANIZER;CN="Kavarna Stopni%C4%8Dke":MAILTO:kavarna.stopnicke@gmail.com
END:VEVENT
BEGIN:VEVENT
DTSTART;TZID=Europe/Ljubljana:20260223T120000
DTEND;TZID=Europe/Ljubljana:20260223T140000
DTSTAMP:20260419T214244
CREATED:20260220T214038Z
LAST-MODIFIED:20260220T214038Z
UID:10000462-1771848000-1771855200@visitnovomesto.si
SUMMARY:Winter Holidays for Children with DU Novo mesto – Bowling
DESCRIPTION:During the 2026 winter holidays\, DU Novo mesto invites children and their grandparents to enjoy a pleasant intergenerational gathering with a game of bowling. Part of the holiday week will be spent actively together at the bowling alley by the Fountain\, where a relaxed sporting atmosphere\, laughter and friendly play will offer a wonderful opportunity for quality time and the creation of lasting memories. \nThe bowling sessions will take place on Monday\, 23 February 2026\, and Thursday\, 26 February 2026\, from 12.00 to 14.00. The event is intended for children and grandparents who would like to spend an active holiday and enjoy time together in good company. \nParticipants are asked to bring clean indoor trainers with light-coloured soles\, as well as comfortable sportswear. The participation fee is €2 per person and the number of places is limited. \nAdvance registration is required at: +386 41 717 031 or upokojenci2@t-2.net. \nYou are warmly invited to join DU Novo mesto and spend part of the winter holidays actively\, in a relaxed atmosphere and good company.
URL:https://visitnovomesto.si/dogodek/winter-holidays-for-children-with-du-novo-mesto-bowling/2026-02-23/
LOCATION:Kegljišče Vodnjak\, Germova ulica 4\, Novo mesto\, Slovenija\, 8000\, Slovenia
CATEGORIES:Social Activities and Entertainment
ATTACH;FMTTYPE=image/jpeg:https://visitnovomesto.si/wp-content/uploads/2026/02/Vabilo-kegljanje_.jpg
ORGANIZER;CN="Dru%C5%A1tvo upokojencev Novo mesto":MAILTO:upokojenci@t-2.net
END:VEVENT
BEGIN:VEVENT
DTSTART;TZID=Europe/Ljubljana:20260224T100000
DTEND;TZID=Europe/Ljubljana:20260224T120000
DTSTAMP:20260419T214244
CREATED:20260220T223031Z
LAST-MODIFIED:20260220T223031Z
UID:10000476-1771927200-1771934400@visitnovomesto.si
SUMMARY:Museum Holiday Workshops for Children
DESCRIPTION:Dolenjski muzej invites all young creators to take part in its museum holiday workshops for children\, taking place during the winter holidays from Tuesday to Friday\, 24–27 February 2026\, between 10:00 am and 12:00 noon. \nPROGRAMME: \n* Mosaics of the Roman Empire – Tuesday\, 24 February 2026 \n* Magical Threads of Friendship – Bracelet Making – Wednesday\, 25 February 2026 \n* The Sweet Tradition of the Honey Bread Heart – Thursday\, 26 February 2026 \n* The Mysterious Clay Rattle – Friday\, 27 February 2026 \nRegistration: recepcija@dolenjskimuzej.si \nThe fee for an individual workshop is €3.50. The full workshop package costs €12.00. Admission is free with a valid museum pass for the 2025/2026 school year. \nYou are warmly invited! \nEvent website
URL:https://visitnovomesto.si/dogodek/museum-holiday-workshops-for-children/2026-02-24/
LOCATION:Dolenjski muzej\, Muzejska ulica 7\, Novo mesto\, Slovenija\, 8000\, Slovenia
CATEGORIES:Children and Youth,Social Activities and Entertainment
ATTACH;FMTTYPE=image/jpeg:https://visitnovomesto.si/wp-content/uploads/2026/02/Dolenjski-muzej.jpg
ORGANIZER;CN="Dolenjski muzej":MAILTO:dolenjski.muzej@dolenjskimuzej.si
END:VEVENT
BEGIN:VEVENT
DTSTART;TZID=Europe/Ljubljana:20260225T090000
DTEND;TZID=Europe/Ljubljana:20260225T110000
DTSTAMP:20260419T214244
CREATED:20260220T124315Z
LAST-MODIFIED:20260220T124315Z
UID:10000459-1772010000-1772017200@visitnovomesto.si
SUMMARY:Children’s Workshop: Cake Pops
DESCRIPTION:You are invited to a children’s workshop where participants will make cake pops\, decorate them and have fun. \nThe workshop will take place on Wednesday\, 25 February 2026\, from 9:00 am to 11:00 am at 8a Podbevškova Street\, Novo mesto. \nChildren will be able to take their creations home. Suitable for children aged 7 and over. \nRegistration and further information: Slastela\, +386 40 551 801\, info@slastela.si.
URL:https://visitnovomesto.si/dogodek/childrens-workshop-cake-pops/
LOCATION:Slastela\, Podbevškova ulica 8a\, Novo mesto\, Slovenija\, 8000\, Slovenia
CATEGORIES:Children and Youth,Social Activities and Entertainment
ATTACH;FMTTYPE=image/jpeg:https://visitnovomesto.si/wp-content/uploads/2026/02/Slatela.jpg
ORGANIZER;CN="Slastela":MAILTO:info@slastela.si
END:VEVENT
BEGIN:VEVENT
DTSTART;TZID=Europe/Ljubljana:20260225T100000
DTEND;TZID=Europe/Ljubljana:20260225T120000
DTSTAMP:20260419T214244
CREATED:20260220T223031Z
LAST-MODIFIED:20260220T223031Z
UID:10000477-1772013600-1772020800@visitnovomesto.si
SUMMARY:Museum Holiday Workshops for Children
DESCRIPTION:Dolenjski muzej invites all young creators to take part in its museum holiday workshops for children\, taking place during the winter holidays from Tuesday to Friday\, 24–27 February 2026\, between 10:00 am and 12:00 noon. \nPROGRAMME: \n* Mosaics of the Roman Empire – Tuesday\, 24 February 2026 \n* Magical Threads of Friendship – Bracelet Making – Wednesday\, 25 February 2026 \n* The Sweet Tradition of the Honey Bread Heart – Thursday\, 26 February 2026 \n* The Mysterious Clay Rattle – Friday\, 27 February 2026 \nRegistration: recepcija@dolenjskimuzej.si \nThe fee for an individual workshop is €3.50. The full workshop package costs €12.00. Admission is free with a valid museum pass for the 2025/2026 school year. \nYou are warmly invited! \nEvent website
URL:https://visitnovomesto.si/dogodek/museum-holiday-workshops-for-children/2026-02-25/
LOCATION:Dolenjski muzej\, Muzejska ulica 7\, Novo mesto\, Slovenija\, 8000\, Slovenia
CATEGORIES:Children and Youth,Social Activities and Entertainment
ATTACH;FMTTYPE=image/jpeg:https://visitnovomesto.si/wp-content/uploads/2026/02/Dolenjski-muzej.jpg
ORGANIZER;CN="Dolenjski muzej":MAILTO:dolenjski.muzej@dolenjskimuzej.si
END:VEVENT
BEGIN:VEVENT
DTSTART;TZID=Europe/Ljubljana:20260226T100000
DTEND;TZID=Europe/Ljubljana:20260226T120000
DTSTAMP:20260419T214244
CREATED:20260220T223031Z
LAST-MODIFIED:20260220T223031Z
UID:10000478-1772100000-1772107200@visitnovomesto.si
SUMMARY:Museum Holiday Workshops for Children
DESCRIPTION:Dolenjski muzej invites all young creators to take part in its museum holiday workshops for children\, taking place during the winter holidays from Tuesday to Friday\, 24–27 February 2026\, between 10:00 am and 12:00 noon. \nPROGRAMME: \n* Mosaics of the Roman Empire – Tuesday\, 24 February 2026 \n* Magical Threads of Friendship – Bracelet Making – Wednesday\, 25 February 2026 \n* The Sweet Tradition of the Honey Bread Heart – Thursday\, 26 February 2026 \n* The Mysterious Clay Rattle – Friday\, 27 February 2026 \nRegistration: recepcija@dolenjskimuzej.si \nThe fee for an individual workshop is €3.50. The full workshop package costs €12.00. Admission is free with a valid museum pass for the 2025/2026 school year. \nYou are warmly invited! \nEvent website
URL:https://visitnovomesto.si/dogodek/museum-holiday-workshops-for-children/2026-02-26/
LOCATION:Dolenjski muzej\, Muzejska ulica 7\, Novo mesto\, Slovenija\, 8000\, Slovenia
CATEGORIES:Children and Youth,Social Activities and Entertainment
ATTACH;FMTTYPE=image/jpeg:https://visitnovomesto.si/wp-content/uploads/2026/02/Dolenjski-muzej.jpg
ORGANIZER;CN="Dolenjski muzej":MAILTO:dolenjski.muzej@dolenjskimuzej.si
END:VEVENT
BEGIN:VEVENT
DTSTART;TZID=Europe/Ljubljana:20260226T120000
DTEND;TZID=Europe/Ljubljana:20260226T140000
DTSTAMP:20260419T214244
CREATED:20260220T214038Z
LAST-MODIFIED:20260220T214038Z
UID:10000463-1772107200-1772114400@visitnovomesto.si
SUMMARY:Winter Holidays for Children with DU Novo mesto – Bowling
DESCRIPTION:During the 2026 winter holidays\, DU Novo mesto invites children and their grandparents to enjoy a pleasant intergenerational gathering with a game of bowling. Part of the holiday week will be spent actively together at the bowling alley by the Fountain\, where a relaxed sporting atmosphere\, laughter and friendly play will offer a wonderful opportunity for quality time and the creation of lasting memories. \nThe bowling sessions will take place on Monday\, 23 February 2026\, and Thursday\, 26 February 2026\, from 12.00 to 14.00. The event is intended for children and grandparents who would like to spend an active holiday and enjoy time together in good company. \nParticipants are asked to bring clean indoor trainers with light-coloured soles\, as well as comfortable sportswear. The participation fee is €2 per person and the number of places is limited. \nAdvance registration is required at: +386 41 717 031 or upokojenci2@t-2.net. \nYou are warmly invited to join DU Novo mesto and spend part of the winter holidays actively\, in a relaxed atmosphere and good company.
URL:https://visitnovomesto.si/dogodek/winter-holidays-for-children-with-du-novo-mesto-bowling/2026-02-26/
LOCATION:Kegljišče Vodnjak\, Germova ulica 4\, Novo mesto\, Slovenija\, 8000\, Slovenia
CATEGORIES:Social Activities and Entertainment
ATTACH;FMTTYPE=image/jpeg:https://visitnovomesto.si/wp-content/uploads/2026/02/Vabilo-kegljanje_.jpg
ORGANIZER;CN="Dru%C5%A1tvo upokojencev Novo mesto":MAILTO:upokojenci@t-2.net
END:VEVENT
BEGIN:VEVENT
DTSTART;TZID=Europe/Ljubljana:20260227T100000
DTEND;TZID=Europe/Ljubljana:20260227T120000
DTSTAMP:20260419T214244
CREATED:20260220T223031Z
LAST-MODIFIED:20260220T223031Z
UID:10000479-1772186400-1772193600@visitnovomesto.si
SUMMARY:Museum Holiday Workshops for Children
DESCRIPTION:Dolenjski muzej invites all young creators to take part in its museum holiday workshops for children\, taking place during the winter holidays from Tuesday to Friday\, 24–27 February 2026\, between 10:00 am and 12:00 noon. \nPROGRAMME: \n* Mosaics of the Roman Empire – Tuesday\, 24 February 2026 \n* Magical Threads of Friendship – Bracelet Making – Wednesday\, 25 February 2026 \n* The Sweet Tradition of the Honey Bread Heart – Thursday\, 26 February 2026 \n* The Mysterious Clay Rattle – Friday\, 27 February 2026 \nRegistration: recepcija@dolenjskimuzej.si \nThe fee for an individual workshop is €3.50. The full workshop package costs €12.00. Admission is free with a valid museum pass for the 2025/2026 school year. \nYou are warmly invited! \nEvent website
URL:https://visitnovomesto.si/dogodek/museum-holiday-workshops-for-children/2026-02-27/
LOCATION:Dolenjski muzej\, Muzejska ulica 7\, Novo mesto\, Slovenija\, 8000\, Slovenia
CATEGORIES:Children and Youth,Social Activities and Entertainment
ATTACH;FMTTYPE=image/jpeg:https://visitnovomesto.si/wp-content/uploads/2026/02/Dolenjski-muzej.jpg
ORGANIZER;CN="Dolenjski muzej":MAILTO:dolenjski.muzej@dolenjskimuzej.si
END:VEVENT
BEGIN:VEVENT
DTSTART;TZID=Europe/Ljubljana:20260227T190000
DTEND;TZID=Europe/Ljubljana:20260227T203000
DTSTAMP:20260419T214244
CREATED:20260218T151646Z
LAST-MODIFIED:20260218T151659Z
UID:10000433-1772218800-1772224200@visitnovomesto.si
SUMMARY:Bookstore Quiz: Love
DESCRIPTION:Publisher Goga invites you to the Bookstore Quiz: Love\, which will take place on Friday\, 27 February 2026\, at 7:00 pm at Knjigarna in Kavarni Goga. \nHow do you say “I love you” in ten different languages? What are the characteristics of a romance novel? Who was the great love of Prešeren? When is the Slovenian celebration of love\, when “the birds get married”? \nThe theme of this year’s first bookstore quiz will be LOVE—in all its forms. Join us for an enjoyable Friday evening in good company. \nHow to ParticipateTeams of four participants can register for the quiz. The game will be played in rounds\, with each team receiving its own question in each round. Points will be tallied\, and the main prize is sponsored by Publisher Goga\, with possible additional prizes. \nTo join the quiz\, register your team by emailing knjigarnagoga@goga.si or 15 minutes before the event. \nThe quiz will be conducted in Slovenian. \nEvent website
URL:https://visitnovomesto.si/dogodek/bookstore-quiz-love/
LOCATION:Knjigarna in kavarna Goga\, Glavni trg 6\, Novo mesto\, Slovenija\, 8000\, Slovenia
CATEGORIES:Art and Culture,Social Activities and Entertainment
ATTACH;FMTTYPE=image/jpeg:https://visitnovomesto.si/wp-content/uploads/2026/02/Knjigarniski-kviz.jpg
ORGANIZER;CN="Zalo%C5%BEba Goga":MAILTO:info@goga.si
END:VEVENT
END:VCALENDAR