BEGIN:VCALENDAR
VERSION:2.0
PRODID:-//Visit Novo Mesto - ECPv6.15.20//NONSGML v1.0//EN
CALSCALE:GREGORIAN
METHOD:PUBLISH
X-ORIGINAL-URL:https://visitnovomesto.si
X-WR-CALDESC:Events for Visit Novo Mesto
REFRESH-INTERVAL;VALUE=DURATION:PT1H
X-Robots-Tag:noindex
X-PUBLISHED-TTL:PT1H
BEGIN:VTIMEZONE
TZID:Europe/Ljubljana
BEGIN:DAYLIGHT
TZOFFSETFROM:+0100
TZOFFSETTO:+0200
TZNAME:CEST
DTSTART:20250330T010000
END:DAYLIGHT
BEGIN:STANDARD
TZOFFSETFROM:+0200
TZOFFSETTO:+0100
TZNAME:CET
DTSTART:20251026T010000
END:STANDARD
BEGIN:DAYLIGHT
TZOFFSETFROM:+0100
TZOFFSETTO:+0200
TZNAME:CEST
DTSTART:20260329T010000
END:DAYLIGHT
BEGIN:STANDARD
TZOFFSETFROM:+0200
TZOFFSETTO:+0100
TZNAME:CET
DTSTART:20261025T010000
END:STANDARD
BEGIN:DAYLIGHT
TZOFFSETFROM:+0100
TZOFFSETTO:+0200
TZNAME:CEST
DTSTART:20270328T010000
END:DAYLIGHT
BEGIN:STANDARD
TZOFFSETFROM:+0200
TZOFFSETTO:+0100
TZNAME:CET
DTSTART:20271031T010000
END:STANDARD
END:VTIMEZONE
BEGIN:VEVENT
DTSTART;TZID=Europe/Ljubljana:20260502T210000
DTEND;TZID=Europe/Ljubljana:20260503T010000
DTSTAMP:20260419T202609
CREATED:20260407T115142Z
LAST-MODIFIED:20260407T115142Z
UID:10000866-1777755600-1777770000@visitnovomesto.si
SUMMARY:Karaoke Night #4
DESCRIPTION:LokalPatriot invites all music and performance enthusiasts to Karaoke Night #4\, taking place on Saturday\, 2 May 2026\, at 9:00 pm in the LokalPatriot café. \nThe event is an opportunity to showcase your voice\, either solo or in a group\, or simply to come and listen and cheer on your friends. Both experienced performers and those trying karaoke for the first time are welcome to participate. \nEvent website
URL:https://visitnovomesto.si/dogodek/karaoke-night-4/
LOCATION:Kavarna LokalPatriot\, Rozmanova ulica 21\, Novo mesto\, Slovenija\, 8000\, Slovenia
CATEGORIES:Social Activities and Entertainment
ATTACH;FMTTYPE=image/jpeg:https://visitnovomesto.si/wp-content/uploads/2026/04/Karaoke-4.jpg
ORGANIZER;CN="LokalPatriot":MAILTO:lokalpatriot@lokalpatriot.si
END:VEVENT
BEGIN:VEVENT
DTSTART;VALUE=DATE:20260508
DTEND;VALUE=DATE:20260511
DTSTAMP:20260419T202609
CREATED:20260212T070203Z
LAST-MODIFIED:20260212T070203Z
UID:10000401-1778198400-1778457599@visitnovomesto.si
SUMMARY:Dance Weekend: SalSon 16th Birthday Weekend with Alexis Ruiz
DESCRIPTION:You are warmly invited to celebrate 16 years of SalSon\, taking place from 8–10 May 2026 at Gostilna Loka – Kuhla in Novo mesto. \nSalSon is celebrating 16 years of dance stories\, community\, passion and unforgettable dance nights – and we’ll mark the occasion the way we know best: with top-quality dancing\, great vibes\, and people who live and breathe salsa & bachata. \nInformation and registrations: info@salson.si or +386 (0)40 141 040 \nEvent website
URL:https://visitnovomesto.si/dogodek/dance-weekend-salson-16th-birthday-weekend-with-alexis-ruiz/
LOCATION:Gostišče Loka – Kuhla\, Župančičevo sprehajališče 2\, Novo mesto\, Slovenija\, 8000\, Slovenia
CATEGORIES:Nature and Sport,Social Activities and Entertainment
ATTACH;FMTTYPE=image/jpeg:https://visitnovomesto.si/wp-content/uploads/2026/02/Salsa-weekend.jpg
ORGANIZER;CN="SalSon Plesno Dru%C5%A1tvo":MAILTO:info@salson.si
END:VEVENT
BEGIN:VEVENT
DTSTART;TZID=Europe/Ljubljana:20260509T130000
DTEND;TZID=Europe/Ljubljana:20260509T200000
DTSTAMP:20260419T202609
CREATED:20260327T093624Z
LAST-MODIFIED:20260327T093624Z
UID:10000802-1778331600-1778356800@visitnovomesto.si
SUMMARY:4th Goulash Festival in Stopiče
DESCRIPTION:Members of the Sports Association Stopiče are organising the social event Goulash Festival for the fourth consecutive year. This year\, it will take place on Saturday\, 9 May 2026\, from 1:00 pm onwards at the sports ground in Stopiče. \nThe event features a team goulash cooking competition\, with prizes awarded to the top three teams\, as well as a prize for the best stand. Visitors can also enjoy a varied accompanying programme\, face painting for children\, and a pleasant social gathering that will continue after the announcement of the winning teams. \nFor additional information and team registration\, please contact 040 136 135 (Tadej). The organisers can also be reached via Facebook and Instagram. \nEvent website.
URL:https://visitnovomesto.si/dogodek/4th-goulash-festival-in-stopice/
LOCATION:Igrišče pri OŠ Stopiče\, Stopiče 37\, Stopiče\, Slovenija\, 8322\, Slovenia
CATEGORIES:Gastronomy,Social Activities and Entertainment
ATTACH;FMTTYPE=image/jpeg:https://visitnovomesto.si/wp-content/uploads/2026/03/Golazijada.jpg
ORGANIZER;CN="%C5%A0portno dru%C5%A1tvo Stopi%C4%8De":MAILTO:sportnodrustvostopice@gmail.com
END:VEVENT
BEGIN:VEVENT
DTSTART;VALUE=DATE:20260516
DTEND;VALUE=DATE:20260517
DTSTAMP:20260419T202609
CREATED:20260326T121229Z
LAST-MODIFIED:20260326T121229Z
UID:10000780-1778889600-1778975999@visitnovomesto.si
SUMMARY:Slovenian Armed Forces Day 2026
DESCRIPTION:You are invited to the Slovenian Armed Forces Day\, which will take place on Saturday\, 16 May 2026\, in Novo mesto. \nMore than three decades ago\, on 15 May 1991\, the training of the first generation of conscripts in Slovenia’s history began. This day is written in golden letters in Slovenian military history and remains in the memory of its service members. This year\, the celebration moves from Ljubljana’s Stožice\, Maribor’s Tabor Hall\, and Koper’s Bonifika to Novo mesto\, specifically to Marof Hall. \nA varied programme will begin in the town centre already in the morning. The Slovenian Armed Forces will present their equipment\, as well as the knowledge and skills of their members\, through engaging demonstrations. All activities are free of charge – just come and experience a day with the Slovenian Armed Forces. It promises to be an exciting event! \nEvent website.
URL:https://visitnovomesto.si/dogodek/slovenian-armed-forces-day-2026/
LOCATION:Športna dvorana Marof\, Kettejev drevored 2\, Novo mesto\, Slovenija\, 8000\, Slovenia
CATEGORIES:Social Activities and Entertainment
ATTACH;FMTTYPE=image/jpeg:https://visitnovomesto.si/wp-content/uploads/2026/03/csm_Dan_SV_2026_c41d815c57.jpg
END:VEVENT
BEGIN:VEVENT
DTSTART;TZID=Europe/Ljubljana:20260523T080000
DTEND;TZID=Europe/Ljubljana:20260523T140000
DTSTAMP:20260419T202609
CREATED:20260311T130231Z
LAST-MODIFIED:20260311T130231Z
UID:10000617-1779523200-1779544800@visitnovomesto.si
SUMMARY:100 Women Hike on Trška Gora
DESCRIPTION:The Jaz ženska community invites you to the second 100 Women Hike on Trška Gora\, an event offering the perfect opportunity for socialising\, enjoying nature\, and connecting with both natural and inner energy. The hike will take place on Saturday\, 23 May 2026\, starting at 8:00 am at the Trška Gora Entry Point. \nRoute description:The hike will begin at 8:00 am at the foot of Trška Gora in Sevno\, near the Centre for Biotechnology and Tourism Grm Novo mesto\, where organised parking is available. The route passes the vineyard house of composer Marjan Kozina\, marking the first stop and a pleasant surprise. The hike continues to Zidanica Teropšič\, where participants will enjoy a warm welcome and a snack. After a short break and taking in views of the Krka River valley and the green Gorjanci hills\, the hike continues to the summit of Trška Gora\, where participants can relax in the shade of the linden trees and enjoy a guided meditation accompanied by the sounds of birds. The hike then descends back to the starting point. \nThe hike is suitable for anyone able to walk gentle slopes. The total route is under 7 km\, with walking taking approximately 2 hours. Including stops\, socialising\, a snack\, and meditation\, the entire event lasts around 5 hours\, with participants expected to return to the starting point between 1:00 pm and 2:00 pm. \nThe hike will be led by Marjanca Trščinar Antić\, founder of the Jaz ženska community\, life coach\, hypnotherapist\, and experienced guide. \nInformation and registration via link.Event website.
URL:https://visitnovomesto.si/dogodek/100-women-hike-on-trska-gora/
LOCATION:Vstopna točka Trška gora\, Sevno 13\, Novo mesto\, Slovenija\, 8000\, Slovenia
CATEGORIES:Health and Well-Being,Nature and Sport,Social Activities and Entertainment
ATTACH;FMTTYPE=image/jpeg:https://visitnovomesto.si/wp-content/uploads/2026/03/Pohod-Trska-gora.jpg
ORGANIZER;CN="Jaz %C5%BEenska":MAILTO:info@jazzenska.com
END:VEVENT
BEGIN:VEVENT
DTSTART;TZID=Europe/Ljubljana:20260529T170000
DTEND;TZID=Europe/Ljubljana:20260529T233000
DTSTAMP:20260419T202609
CREATED:20260218T144025Z
LAST-MODIFIED:20260218T144025Z
UID:10000425-1780074000-1780097400@visitnovomesto.si
SUMMARY:Roštiljada at Dolenj’c 2026
DESCRIPTION:You are warmly invited to Roštiljada at Dolenj’c 2026 on Friday\, 29 May 2026\, at 5 pm at Hotel Dolenj’c in Novo Mesto. \nVisitors will be able to enjoy a selection of grilled specialities\, refreshing drinks and music that will create a pleasant atmosphere throughout the evening. \nEvent website
URL:https://visitnovomesto.si/dogodek/rostiljada-at-dolenjc-2026/
LOCATION:Hotel Dolenj’c\, Na Brezovici 50\, Novo mesto\, Slovenija\, 8000\, Slovenia
CATEGORIES:Gastronomy,Social Activities and Entertainment
ATTACH;FMTTYPE=image/jpeg:https://visitnovomesto.si/wp-content/uploads/2026/02/Rostiljada-1.jpg
ORGANIZER;CN="Hotel Dolenj'c":MAILTO:marketing@hotel-dolenjc.si
END:VEVENT
BEGIN:VEVENT
DTSTART;TZID=Europe/Ljubljana:20260530T140000
DTEND;TZID=Europe/Ljubljana:20260530T200000
DTSTAMP:20260419T202609
CREATED:20260327T081933Z
LAST-MODIFIED:20260327T081933Z
UID:10000800-1780149600-1780171200@visitnovomesto.si
SUMMARY:Pilotko Picnic 2026
DESCRIPTION:Following last year’s successful event\, Pilotko is once again preparing an unforgettable family day for all ages\, full of music\, laughter\, play and special experiences. Pilotko Picnic will take place on Saturday\, 30 May 2026\, from 2:00 pm onwards at Hotel Dolenj’c in Novo Mesto. \nWhat can visitors expect?An unforgettable picnic filled with joy\, entertainment and heartfelt moments\, featuring popular performers\, children’s stars and fun guests on stage\, who will ensure a great atmosphere for both children and parents. The stage programme will be packed with music\, laughter and surprises throughout the day. \nPerformers: Til Čeh & Petelini\, Romana Krajnčan\, Sam Sebastian Magic Show\, Brata Malek\, Aktualko and Klovn Žare. \nIn addition to the stage programme\, visitors can also enjoy helicopter flights for both young and adult adventurers\, large inflatable play areas\, creative and fun children’s activities\, a wide selection of sweet and savoury food\, and many surprises throughout the day. \nEvent website.
URL:https://visitnovomesto.si/dogodek/pilotko-picnic-2026/
LOCATION:Hotel Dolenj’c\, Na Brezovici 50\, Novo mesto\, Slovenija\, 8000\, Slovenia
CATEGORIES:Children and Youth,Social Activities and Entertainment
ATTACH;FMTTYPE=image/jpeg:https://visitnovomesto.si/wp-content/uploads/2026/03/Pilotkov-piknik.jpg
ORGANIZER;CN="Hotel Dolenj'c":MAILTO:marketing@hotel-dolenjc.si
END:VEVENT
END:VCALENDAR