BEGIN:VCALENDAR
VERSION:2.0
PRODID:-//Visit Novo Mesto - ECPv6.15.20//NONSGML v1.0//EN
CALSCALE:GREGORIAN
METHOD:PUBLISH
X-WR-CALNAME:Visit Novo Mesto
X-ORIGINAL-URL:https://visitnovomesto.si
X-WR-CALDESC:Events for Visit Novo Mesto
REFRESH-INTERVAL;VALUE=DURATION:PT1H
X-Robots-Tag:noindex
X-PUBLISHED-TTL:PT1H
BEGIN:VTIMEZONE
TZID:Europe/Ljubljana
BEGIN:DAYLIGHT
TZOFFSETFROM:+0100
TZOFFSETTO:+0200
TZNAME:CEST
DTSTART:20250330T010000
END:DAYLIGHT
BEGIN:STANDARD
TZOFFSETFROM:+0200
TZOFFSETTO:+0100
TZNAME:CET
DTSTART:20251026T010000
END:STANDARD
BEGIN:DAYLIGHT
TZOFFSETFROM:+0100
TZOFFSETTO:+0200
TZNAME:CEST
DTSTART:20260329T010000
END:DAYLIGHT
BEGIN:STANDARD
TZOFFSETFROM:+0200
TZOFFSETTO:+0100
TZNAME:CET
DTSTART:20261025T010000
END:STANDARD
BEGIN:DAYLIGHT
TZOFFSETFROM:+0100
TZOFFSETTO:+0200
TZNAME:CEST
DTSTART:20270328T010000
END:DAYLIGHT
BEGIN:STANDARD
TZOFFSETFROM:+0200
TZOFFSETTO:+0100
TZNAME:CET
DTSTART:20271031T010000
END:STANDARD
END:VTIMEZONE
BEGIN:VEVENT
DTSTART;TZID=Europe/Ljubljana:20260221T190000
DTEND;TZID=Europe/Ljubljana:20260221T230000
DTSTAMP:20260419T231329
CREATED:20260218T163051Z
LAST-MODIFIED:20260220T113826Z
UID:10000447-1771700400-1771714800@visitnovomesto.si
SUMMARY:Darts Tournament at Kavarna Stopničke
DESCRIPTION:You are invited to a darts tournament at Kavarna Stopničke on Saturday\, 21 February 2026\, at 7:00 pm. \nEnjoy a relaxed atmosphere\, good company\, and great prizes. \nEvent website
URL:https://visitnovomesto.si/dogodek/darts-tournament-at-kavarna-stopnicke/
LOCATION:Kavarna Stopničke\, Stopiče 34\, Novo mesto\, Slovenija\, 8000\, Slovenia
CATEGORIES:Social Activities and Entertainment
ATTACH;FMTTYPE=image/jpeg:https://visitnovomesto.si/wp-content/uploads/2026/02/Pikado-turnir.jpg
ORGANIZER;CN="Kavarna Stopni%C4%8Dke":MAILTO:kavarna.stopnicke@gmail.com
END:VEVENT
END:VCALENDAR