BEGIN:VCALENDAR
VERSION:2.0
PRODID:-//Visit Novo Mesto - ECPv6.15.20//NONSGML v1.0//EN
CALSCALE:GREGORIAN
METHOD:PUBLISH
X-WR-CALNAME:Visit Novo Mesto
X-ORIGINAL-URL:https://visitnovomesto.si
X-WR-CALDESC:Events for Visit Novo Mesto
REFRESH-INTERVAL;VALUE=DURATION:PT1H
X-Robots-Tag:noindex
X-PUBLISHED-TTL:PT1H
BEGIN:VTIMEZONE
TZID:Europe/Ljubljana
BEGIN:DAYLIGHT
TZOFFSETFROM:+0100
TZOFFSETTO:+0200
TZNAME:CEST
DTSTART:20250330T010000
END:DAYLIGHT
BEGIN:STANDARD
TZOFFSETFROM:+0200
TZOFFSETTO:+0100
TZNAME:CET
DTSTART:20251026T010000
END:STANDARD
BEGIN:DAYLIGHT
TZOFFSETFROM:+0100
TZOFFSETTO:+0200
TZNAME:CEST
DTSTART:20260329T010000
END:DAYLIGHT
BEGIN:STANDARD
TZOFFSETFROM:+0200
TZOFFSETTO:+0100
TZNAME:CET
DTSTART:20261025T010000
END:STANDARD
BEGIN:DAYLIGHT
TZOFFSETFROM:+0100
TZOFFSETTO:+0200
TZNAME:CEST
DTSTART:20270328T010000
END:DAYLIGHT
BEGIN:STANDARD
TZOFFSETFROM:+0200
TZOFFSETTO:+0100
TZNAME:CET
DTSTART:20271031T010000
END:STANDARD
END:VTIMEZONE
BEGIN:VEVENT
DTSTART;TZID=Europe/Ljubljana:20260224T100000
DTEND;TZID=Europe/Ljubljana:20260224T120000
DTSTAMP:20260419T215036
CREATED:20260220T223031Z
LAST-MODIFIED:20260220T223031Z
UID:10000476-1771927200-1771934400@visitnovomesto.si
SUMMARY:Museum Holiday Workshops for Children
DESCRIPTION:Dolenjski muzej invites all young creators to take part in its museum holiday workshops for children\, taking place during the winter holidays from Tuesday to Friday\, 24–27 February 2026\, between 10:00 am and 12:00 noon. \nPROGRAMME: \n* Mosaics of the Roman Empire – Tuesday\, 24 February 2026 \n* Magical Threads of Friendship – Bracelet Making – Wednesday\, 25 February 2026 \n* The Sweet Tradition of the Honey Bread Heart – Thursday\, 26 February 2026 \n* The Mysterious Clay Rattle – Friday\, 27 February 2026 \nRegistration: recepcija@dolenjskimuzej.si \nThe fee for an individual workshop is €3.50. The full workshop package costs €12.00. Admission is free with a valid museum pass for the 2025/2026 school year. \nYou are warmly invited! \nEvent website
URL:https://visitnovomesto.si/dogodek/museum-holiday-workshops-for-children/2026-02-24/
LOCATION:Dolenjski muzej\, Muzejska ulica 7\, Novo mesto\, Slovenija\, 8000\, Slovenia
CATEGORIES:Children and Youth,Social Activities and Entertainment
ATTACH;FMTTYPE=image/jpeg:https://visitnovomesto.si/wp-content/uploads/2026/02/Dolenjski-muzej.jpg
ORGANIZER;CN="Dolenjski muzej":MAILTO:dolenjski.muzej@dolenjskimuzej.si
END:VEVENT
END:VCALENDAR