BEGIN:VCALENDAR
VERSION:2.0
PRODID:-//Visit Novo Mesto - ECPv6.15.20//NONSGML v1.0//EN
CALSCALE:GREGORIAN
METHOD:PUBLISH
X-WR-CALNAME:Visit Novo Mesto
X-ORIGINAL-URL:https://visitnovomesto.si
X-WR-CALDESC:Events for Visit Novo Mesto
REFRESH-INTERVAL;VALUE=DURATION:PT1H
X-Robots-Tag:noindex
X-PUBLISHED-TTL:PT1H
BEGIN:VTIMEZONE
TZID:Europe/Ljubljana
BEGIN:DAYLIGHT
TZOFFSETFROM:+0100
TZOFFSETTO:+0200
TZNAME:CEST
DTSTART:20250330T010000
END:DAYLIGHT
BEGIN:STANDARD
TZOFFSETFROM:+0200
TZOFFSETTO:+0100
TZNAME:CET
DTSTART:20251026T010000
END:STANDARD
BEGIN:DAYLIGHT
TZOFFSETFROM:+0100
TZOFFSETTO:+0200
TZNAME:CEST
DTSTART:20260329T010000
END:DAYLIGHT
BEGIN:STANDARD
TZOFFSETFROM:+0200
TZOFFSETTO:+0100
TZNAME:CET
DTSTART:20261025T010000
END:STANDARD
BEGIN:DAYLIGHT
TZOFFSETFROM:+0100
TZOFFSETTO:+0200
TZNAME:CEST
DTSTART:20270328T010000
END:DAYLIGHT
BEGIN:STANDARD
TZOFFSETFROM:+0200
TZOFFSETTO:+0100
TZNAME:CET
DTSTART:20271031T010000
END:STANDARD
END:VTIMEZONE
BEGIN:VEVENT
DTSTART;TZID=Europe/Ljubljana:20260226T100000
DTEND;TZID=Europe/Ljubljana:20260226T120000
DTSTAMP:20260419T215043
CREATED:20260220T223031Z
LAST-MODIFIED:20260220T223031Z
UID:10000478-1772100000-1772107200@visitnovomesto.si
SUMMARY:Museum Holiday Workshops for Children
DESCRIPTION:Dolenjski muzej invites all young creators to take part in its museum holiday workshops for children\, taking place during the winter holidays from Tuesday to Friday\, 24–27 February 2026\, between 10:00 am and 12:00 noon. \nPROGRAMME: \n* Mosaics of the Roman Empire – Tuesday\, 24 February 2026 \n* Magical Threads of Friendship – Bracelet Making – Wednesday\, 25 February 2026 \n* The Sweet Tradition of the Honey Bread Heart – Thursday\, 26 February 2026 \n* The Mysterious Clay Rattle – Friday\, 27 February 2026 \nRegistration: recepcija@dolenjskimuzej.si \nThe fee for an individual workshop is €3.50. The full workshop package costs €12.00. Admission is free with a valid museum pass for the 2025/2026 school year. \nYou are warmly invited! \nEvent website
URL:https://visitnovomesto.si/dogodek/museum-holiday-workshops-for-children/2026-02-26/
LOCATION:Dolenjski muzej\, Muzejska ulica 7\, Novo mesto\, Slovenija\, 8000\, Slovenia
CATEGORIES:Children and Youth,Social Activities and Entertainment
ATTACH;FMTTYPE=image/jpeg:https://visitnovomesto.si/wp-content/uploads/2026/02/Dolenjski-muzej.jpg
ORGANIZER;CN="Dolenjski muzej":MAILTO:dolenjski.muzej@dolenjskimuzej.si
END:VEVENT
BEGIN:VEVENT
DTSTART;TZID=Europe/Ljubljana:20260226T120000
DTEND;TZID=Europe/Ljubljana:20260226T140000
DTSTAMP:20260419T215043
CREATED:20260220T214038Z
LAST-MODIFIED:20260220T214038Z
UID:10000463-1772107200-1772114400@visitnovomesto.si
SUMMARY:Winter Holidays for Children with DU Novo mesto – Bowling
DESCRIPTION:During the 2026 winter holidays\, DU Novo mesto invites children and their grandparents to enjoy a pleasant intergenerational gathering with a game of bowling. Part of the holiday week will be spent actively together at the bowling alley by the Fountain\, where a relaxed sporting atmosphere\, laughter and friendly play will offer a wonderful opportunity for quality time and the creation of lasting memories. \nThe bowling sessions will take place on Monday\, 23 February 2026\, and Thursday\, 26 February 2026\, from 12.00 to 14.00. The event is intended for children and grandparents who would like to spend an active holiday and enjoy time together in good company. \nParticipants are asked to bring clean indoor trainers with light-coloured soles\, as well as comfortable sportswear. The participation fee is €2 per person and the number of places is limited. \nAdvance registration is required at: +386 41 717 031 or upokojenci2@t-2.net. \nYou are warmly invited to join DU Novo mesto and spend part of the winter holidays actively\, in a relaxed atmosphere and good company.
URL:https://visitnovomesto.si/dogodek/winter-holidays-for-children-with-du-novo-mesto-bowling/2026-02-26/
LOCATION:Kegljišče Vodnjak\, Germova ulica 4\, Novo mesto\, Slovenija\, 8000\, Slovenia
CATEGORIES:Social Activities and Entertainment
ATTACH;FMTTYPE=image/jpeg:https://visitnovomesto.si/wp-content/uploads/2026/02/Vabilo-kegljanje_.jpg
ORGANIZER;CN="Dru%C5%A1tvo upokojencev Novo mesto":MAILTO:upokojenci@t-2.net
END:VEVENT
END:VCALENDAR