BEGIN:VCALENDAR
VERSION:2.0
PRODID:-//Visit Novo Mesto - ECPv6.15.20//NONSGML v1.0//EN
CALSCALE:GREGORIAN
METHOD:PUBLISH
X-ORIGINAL-URL:https://visitnovomesto.si
X-WR-CALDESC:Events for Visit Novo Mesto
REFRESH-INTERVAL;VALUE=DURATION:PT1H
X-Robots-Tag:noindex
X-PUBLISHED-TTL:PT1H
BEGIN:VTIMEZONE
TZID:Europe/Ljubljana
BEGIN:DAYLIGHT
TZOFFSETFROM:+0100
TZOFFSETTO:+0200
TZNAME:CEST
DTSTART:20250330T010000
END:DAYLIGHT
BEGIN:STANDARD
TZOFFSETFROM:+0200
TZOFFSETTO:+0100
TZNAME:CET
DTSTART:20251026T010000
END:STANDARD
BEGIN:DAYLIGHT
TZOFFSETFROM:+0100
TZOFFSETTO:+0200
TZNAME:CEST
DTSTART:20260329T010000
END:DAYLIGHT
BEGIN:STANDARD
TZOFFSETFROM:+0200
TZOFFSETTO:+0100
TZNAME:CET
DTSTART:20261025T010000
END:STANDARD
BEGIN:DAYLIGHT
TZOFFSETFROM:+0100
TZOFFSETTO:+0200
TZNAME:CEST
DTSTART:20270328T010000
END:DAYLIGHT
BEGIN:STANDARD
TZOFFSETFROM:+0200
TZOFFSETTO:+0100
TZNAME:CET
DTSTART:20271031T010000
END:STANDARD
END:VTIMEZONE
BEGIN:VEVENT
DTSTART;TZID=Europe/Ljubljana:20260310T180000
DTEND;TZID=Europe/Ljubljana:20260310T190000
DTSTAMP:20260419T215532
CREATED:20260309T124354Z
LAST-MODIFIED:20260309T124354Z
UID:10000572-1773165600-1773169200@visitnovomesto.si
SUMMARY:Travel Lecture: Barbara Vidmajer and Črt Jaklič – Japan
DESCRIPTION:The Miran Jarc Library Novo mesto invites you to a travel lecture: Barbara Vidmajer and Črt Jaklič – Japan\, which will take place on Tuesday\, 10 March 2026\, at 6:00 pm in the Events Atrium. \nThis time\, Barbara Vidmajer and Črt Jaklič will take the audience on a journey to the Japan\, the Land of the Rising Sun. As befits “true” Slovenians\, they travelled there to conquer the country’s sacred mountain\, Mount Fuji. Along the way\, they also walked part of the Kumano Kodo pilgrimage route\, cycled along one of the most beautiful cycling routes in the world – Shimanami Kaido – and made more than 20\,000 steps every single day while exploring cities such as Tokyo\, Kyoto\, and Osaka. \nAt the Expo world exhibition\, they were impressed by remarkable architecture and discovered that they are not very good at waiting in queues. Modern Japanese metropolises are a true playground for both young and old\, offering something delicious to eat on almost every corner. A hidden gem is Okinawa\, a Japanese island chain near Taiwan\, where they searched for the secret of longevity. \nThe event will be held in Slovene. \nEvent website
URL:https://visitnovomesto.si/dogodek/travel-lecture-barbara-vidmajer-and-crt-jaklic-japan/
LOCATION:Knjižnica Mirana Jarca Novo mesto\, Rozmanova ulica 28\, Novo mesto\, Slovenija\, 8000\, Slovenia
CATEGORIES:Art and Culture,Social Activities and Entertainment
ATTACH;FMTTYPE=image/jpeg:https://visitnovomesto.si/wp-content/uploads/2026/03/Japonska.jpg
ORGANIZER;CN="Knji%C5%BEnica Mirana Jarca Novo mesto":MAILTO:info@kmj.si
END:VEVENT
END:VCALENDAR