BEGIN:VCALENDAR
VERSION:2.0
PRODID:-//Visit Novo Mesto - ECPv6.15.20//NONSGML v1.0//EN
CALSCALE:GREGORIAN
METHOD:PUBLISH
X-WR-CALNAME:Visit Novo Mesto
X-ORIGINAL-URL:https://visitnovomesto.si
X-WR-CALDESC:Events for Visit Novo Mesto
REFRESH-INTERVAL;VALUE=DURATION:PT1H
X-Robots-Tag:noindex
X-PUBLISHED-TTL:PT1H
BEGIN:VTIMEZONE
TZID:Europe/Ljubljana
BEGIN:DAYLIGHT
TZOFFSETFROM:+0100
TZOFFSETTO:+0200
TZNAME:CEST
DTSTART:20250330T010000
END:DAYLIGHT
BEGIN:STANDARD
TZOFFSETFROM:+0200
TZOFFSETTO:+0100
TZNAME:CET
DTSTART:20251026T010000
END:STANDARD
BEGIN:DAYLIGHT
TZOFFSETFROM:+0100
TZOFFSETTO:+0200
TZNAME:CEST
DTSTART:20260329T010000
END:DAYLIGHT
BEGIN:STANDARD
TZOFFSETFROM:+0200
TZOFFSETTO:+0100
TZNAME:CET
DTSTART:20261025T010000
END:STANDARD
BEGIN:DAYLIGHT
TZOFFSETFROM:+0100
TZOFFSETTO:+0200
TZNAME:CEST
DTSTART:20270328T010000
END:DAYLIGHT
BEGIN:STANDARD
TZOFFSETFROM:+0200
TZOFFSETTO:+0100
TZNAME:CET
DTSTART:20271031T010000
END:STANDARD
END:VTIMEZONE
BEGIN:VEVENT
DTSTART;TZID=Europe/Ljubljana:20260317T081500
DTEND;TZID=Europe/Ljubljana:20260317T140000
DTSTAMP:20260419T214948
CREATED:20260303T174919Z
LAST-MODIFIED:20260303T175102Z
UID:10000502-1773735300-1773756000@visitnovomesto.si
SUMMARY:Open Chess Tournament
DESCRIPTION:The Pensioners’ Association Novo mesto (DU Novo mesto) is organising an individual open chess tournament to mark the 80th anniversary of the beginning of organised chess playing in Novo mesto and the cooperation between DU Novo mesto and the Novo mesto Sports Association. \nThe tournament will take place on Tuesday\, 17 March 2026\, at 8:15 a.m. at the Prepih Restaurant in Gornja Težka Voda near Novo mesto. \nThe time control will be 10 minutes per player. The competition format will depend on the number of registered participants and will be conducted according to the Swiss system (9 or 11 rounds\, depending on the number of entrants). \nOn the day of the tournament\, confirmation of registration is mandatory by 8:00 a.m. The opening ceremony and welcome address will take place at 8:00 a.m.\, followed by the start of Round 1 at 8:15 a.m. \nImmediately after the completion of the tournament\, the results will be announced and awards presented. Prizes will be awarded according to the following criteria: \n* Top 5 overall; \n* Top 3 players up to 65 years of age; \n* Top 3 players aged 65–75; \n* Top 3 players over 75; \n* Oldest participant; \n* Youngest participant; \n* Top 3 female players. \nEach participant may receive only one award. \nAfter the award ceremony\, lunch and a pleasant surprise will follow. \nThe tournament will be played in accordance with the rules of the World Chess Federation (FIDE) and will be officiated by chess arbiter Jernej Zupančič\, assisted by deputy arbiters. During the tournament\, the arbiter’s decisions regarding the rules of chess shall be final. \nDue to the complexity of organising the tournament and the as yet unknown number of participants\, pre-registration is mandatory. Associations or individuals must submit written applications to DU Novo mesto\, Čitalniška ulica 1\, 8000 Novo mesto\, or to the association’s secretariat at upokojenci2@t-2.net\, or by telephone at +386 41 717 031. Applications must include the participant’s full name and date of birth. Proof of payment of the entry fee must also be enclosed. Payment should be made to the DU Novo mesto bank account (IBAN: SI56 6100 0000 0830 667). \nThe entry fee is EUR 15 and includes lunch\, tournament organisation\, arbiters\, venue hire\, use of chess sets and clocks\, free parking\, good company and a tournament surprise. By prior arrangement\, payment may also be made in person to the tournament organisers before the start of the event. Pre-registrations are binding and subject to payment. \nRegistrations will be accepted until Friday\, 7 March 2026. For further information\, please call +386 70 411 394 daily between 9:00 a.m. and 12:00 noon. \nAll chess enthusiasts are warmly welcome\, without restriction.
URL:https://visitnovomesto.si/dogodek/open-chess-tournament/
LOCATION:Restavracija Prepih\, Gornja Težka voda 19\, Stopiče\, Slovenija\, 8322\, Slovenia
CATEGORIES:Social Activities and Entertainment
ATTACH;FMTTYPE=image/webp:https://visitnovomesto.si/wp-content/uploads/2026/03/Sah.webp
ORGANIZER;CN="Dru%C5%A1tvo upokojencev Novo mesto":MAILTO:upokojenci@t-2.net
END:VEVENT
END:VCALENDAR