BEGIN:VCALENDAR
VERSION:2.0
PRODID:-//Visit Novo Mesto - ECPv6.15.20//NONSGML v1.0//EN
CALSCALE:GREGORIAN
METHOD:PUBLISH
X-WR-CALNAME:Visit Novo Mesto
X-ORIGINAL-URL:https://visitnovomesto.si
X-WR-CALDESC:Events for Visit Novo Mesto
REFRESH-INTERVAL;VALUE=DURATION:PT1H
X-Robots-Tag:noindex
X-PUBLISHED-TTL:PT1H
BEGIN:VTIMEZONE
TZID:Europe/Ljubljana
BEGIN:DAYLIGHT
TZOFFSETFROM:+0100
TZOFFSETTO:+0200
TZNAME:CEST
DTSTART:20250330T010000
END:DAYLIGHT
BEGIN:STANDARD
TZOFFSETFROM:+0200
TZOFFSETTO:+0100
TZNAME:CET
DTSTART:20251026T010000
END:STANDARD
BEGIN:DAYLIGHT
TZOFFSETFROM:+0100
TZOFFSETTO:+0200
TZNAME:CEST
DTSTART:20260329T010000
END:DAYLIGHT
BEGIN:STANDARD
TZOFFSETFROM:+0200
TZOFFSETTO:+0100
TZNAME:CET
DTSTART:20261025T010000
END:STANDARD
BEGIN:DAYLIGHT
TZOFFSETFROM:+0100
TZOFFSETTO:+0200
TZNAME:CEST
DTSTART:20270328T010000
END:DAYLIGHT
BEGIN:STANDARD
TZOFFSETFROM:+0200
TZOFFSETTO:+0100
TZNAME:CET
DTSTART:20271031T010000
END:STANDARD
END:VTIMEZONE
BEGIN:VEVENT
DTSTART;TZID=Europe/Ljubljana:20260321T083000
DTEND;TZID=Europe/Ljubljana:20260321T160000
DTSTAMP:20260419T214631
CREATED:20260311T105635Z
LAST-MODIFIED:20260311T124751Z
UID:10000607-1774081800-1774108800@visitnovomesto.si
SUMMARY:Joseph’s Hike on Trška Gora
DESCRIPTION:The Turistično kulturno društvo Trškogorsko srce invites you to the traditional Joseph’s Hike on Trška Gora on Saturday\, 21 March 2026\, starting at 9:00 am. \nMeet in front of Pugelj Inn in Ždinja Vas between 8:30 and 9:00 am for an aperitif and a festive braid. \nThis is a friendly hike for anyone who loves Trška Gora\, walking\, Cviček wine\, local delicacies\, and traditions\, while also celebrating the Slovenian feast day custom. \nHighlights along the route: \n\nZidanica RIFELJ: Snacks and drinks served by hostess Joži Rifelj.\nZidanica RATAJ: Homemade treats from Rataj Farm\, served by Janez and Melita\, with folk singing REZINC and accordion music.\nZidanica SLAPNIČAR: Visit a wood-fired ceramic kiln\, enjoy equinox brandy with the ceramic team\, and sip the best tea from their handmade cups.\nSummit of Trška Gora: Church of the Nativity of Mary\, Trška Gora lindens\, Zidanica KRNC\, and the nativity scene.\nPrincess Bench: Greet the 17th Cviček Trška Gora Princess\, Eva Somrak\, with Cviček sparkling wine.\nTrškogorska Tepka: Tepkovec nuts\, dried tepke\, and pear juice.\nZidanica POTOČAR: Main lunch – barley with sausage and homemade bread prepared by Mari.\nFinish at Zidanica VERČEK: Pušelšank at Godmother Jožefina’s – tarragon\, raisin\, and cinnamon potica.\n\nVoluntary contributions for the treats at the stops are welcome. \nThe hike is about 8 km long. View the route via link.Expected finish is around 4:00 pm. \nRegistration & info: +386 41 293 497.Bring your courage and enjoy the day! \nFollow the association on Facebook for updates.
URL:https://visitnovomesto.si/dogodek/josephs-hike-on-trska-gora/
LOCATION:Gostilna Pugelj\, Ždinja vas 6\, Novo mesto\, Slovenija\, 8000\, Slovenia
CATEGORIES:Gastronomy,History and Heritage,Nature and Sport,Social Activities and Entertainment
ATTACH;FMTTYPE=image/png:https://visitnovomesto.si/wp-content/uploads/2026/03/Jozefov-pohod.png
ORGANIZER;CN="TKD Tr%C5%A1kogorsko srce":MAILTO:trskogorsko.srce@gmail.com
END:VEVENT
BEGIN:VEVENT
DTSTART;TZID=Europe/Ljubljana:20260321T203000
DTEND;TZID=Europe/Ljubljana:20260321T223000
DTSTAMP:20260419T214631
CREATED:20260320T143342Z
LAST-MODIFIED:20260320T143342Z
UID:10000682-1774125000-1774132200@visitnovomesto.si
SUMMARY:Pub Quiz
DESCRIPTION:LokalPatriot invites you to a café-style Pub Quiz\, taking place on Saturday\, 21 March 2026\, at 20:30 at Kavarni LokalPatriot. The quiz will consist of several rounds covering general topics. \nThe event will be held in Slovene. \nEvent webpage.
URL:https://visitnovomesto.si/dogodek/pub-quiz-4/
LOCATION:Kavarna LokalPatriot\, Rozmanova ulica 21\, Novo mesto\, Slovenija\, 8000\, Slovenia
CATEGORIES:Social Activities and Entertainment
ATTACH;FMTTYPE=image/jpeg:https://visitnovomesto.si/wp-content/uploads/2026/03/Pub-kviz_.jpg
ORGANIZER;CN="LokalPatriot":MAILTO:lokalpatriot@lokalpatriot.si
END:VEVENT
END:VCALENDAR