BEGIN:VCALENDAR
VERSION:2.0
PRODID:-//Visit Novo Mesto - ECPv6.15.20//NONSGML v1.0//EN
CALSCALE:GREGORIAN
METHOD:PUBLISH
X-WR-CALNAME:Visit Novo Mesto
X-ORIGINAL-URL:https://visitnovomesto.si
X-WR-CALDESC:Events for Visit Novo Mesto
REFRESH-INTERVAL;VALUE=DURATION:PT1H
X-Robots-Tag:noindex
X-PUBLISHED-TTL:PT1H
BEGIN:VTIMEZONE
TZID:Europe/Ljubljana
BEGIN:DAYLIGHT
TZOFFSETFROM:+0100
TZOFFSETTO:+0200
TZNAME:CEST
DTSTART:20250330T010000
END:DAYLIGHT
BEGIN:STANDARD
TZOFFSETFROM:+0200
TZOFFSETTO:+0100
TZNAME:CET
DTSTART:20251026T010000
END:STANDARD
BEGIN:DAYLIGHT
TZOFFSETFROM:+0100
TZOFFSETTO:+0200
TZNAME:CEST
DTSTART:20260329T010000
END:DAYLIGHT
BEGIN:STANDARD
TZOFFSETFROM:+0200
TZOFFSETTO:+0100
TZNAME:CET
DTSTART:20261025T010000
END:STANDARD
BEGIN:DAYLIGHT
TZOFFSETFROM:+0100
TZOFFSETTO:+0200
TZNAME:CEST
DTSTART:20270328T010000
END:DAYLIGHT
BEGIN:STANDARD
TZOFFSETFROM:+0200
TZOFFSETTO:+0100
TZNAME:CET
DTSTART:20271031T010000
END:STANDARD
END:VTIMEZONE
BEGIN:VEVENT
DTSTART;TZID=Europe/Ljubljana:20260328T150000
DTEND;TZID=Europe/Ljubljana:20260328T190000
DTSTAMP:20260419T215101
CREATED:20260326T123416Z
LAST-MODIFIED:20260326T123416Z
UID:10000784-1774710000-1774724400@visitnovomesto.si
SUMMARY:Firefighting Competition
DESCRIPTION:The Kamence Volunteer Fire Brigade invites you to the cup firefighting competition SSV – Suction Hose Coupling 2026 for women’s and men’s teams\, competing for the Firefighting Association of Slovenia Cup\, the Dolenjska Region Cup\, and the Kamence Cup. The event will take place on Saturday\, 28 March 2026\, at 3:00 pm in the sports hall of Bršljin Primary School. \nEvent website.
URL:https://visitnovomesto.si/dogodek/firefighting-competition/
LOCATION:OŠ Bršljin\, Kočevarjeva ulica 40\, Novo mesto\, Slovenija\, 8000\, Slovenia
CATEGORIES:Social Activities and Entertainment
ATTACH;FMTTYPE=image/jpeg:https://visitnovomesto.si/wp-content/uploads/2026/03/Gasilsko-tekmovanje.jpg
ORGANIZER;CN="PGD Kamence":MAILTO:pgd.kamence03@gmail.com
END:VEVENT
BEGIN:VEVENT
DTSTART;TZID=Europe/Ljubljana:20260328T200000
DTEND;TZID=Europe/Ljubljana:20260328T230000
DTSTAMP:20260419T215101
CREATED:20260326T075015Z
LAST-MODIFIED:20260326T075015Z
UID:10000751-1774728000-1774738800@visitnovomesto.si
SUMMARY:Tarok Tournament
DESCRIPTION:LokalPatriot invites you to a Tarok Tournament\, which will take place on Saturday\, 28 March 2026\, at 8:00 pm at the LokalPatriot Café. \nRegistration is recommended. \nEvent website.
URL:https://visitnovomesto.si/dogodek/tarok-tournament/
LOCATION:Kavarna LokalPatriot\, Rozmanova ulica 21\, Novo mesto\, Slovenija\, 8000\, Slovenia
CATEGORIES:Social Activities and Entertainment
ATTACH;FMTTYPE=image/png:https://visitnovomesto.si/wp-content/uploads/2026/03/TAROK-TURNIR-3.png
ORGANIZER;CN="LokalPatriot":MAILTO:lokalpatriot@lokalpatriot.si
END:VEVENT
END:VCALENDAR