BEGIN:VCALENDAR
VERSION:2.0
PRODID:-//Visit Novo Mesto - ECPv6.15.20//NONSGML v1.0//EN
CALSCALE:GREGORIAN
METHOD:PUBLISH
X-ORIGINAL-URL:https://visitnovomesto.si
X-WR-CALDESC:Events for Visit Novo Mesto
REFRESH-INTERVAL;VALUE=DURATION:PT1H
X-Robots-Tag:noindex
X-PUBLISHED-TTL:PT1H
BEGIN:VTIMEZONE
TZID:Europe/Ljubljana
BEGIN:DAYLIGHT
TZOFFSETFROM:+0100
TZOFFSETTO:+0200
TZNAME:CEST
DTSTART:20250330T010000
END:DAYLIGHT
BEGIN:STANDARD
TZOFFSETFROM:+0200
TZOFFSETTO:+0100
TZNAME:CET
DTSTART:20251026T010000
END:STANDARD
BEGIN:DAYLIGHT
TZOFFSETFROM:+0100
TZOFFSETTO:+0200
TZNAME:CEST
DTSTART:20260329T010000
END:DAYLIGHT
BEGIN:STANDARD
TZOFFSETFROM:+0200
TZOFFSETTO:+0100
TZNAME:CET
DTSTART:20261025T010000
END:STANDARD
BEGIN:DAYLIGHT
TZOFFSETFROM:+0100
TZOFFSETTO:+0200
TZNAME:CEST
DTSTART:20270328T010000
END:DAYLIGHT
BEGIN:STANDARD
TZOFFSETFROM:+0200
TZOFFSETTO:+0100
TZNAME:CET
DTSTART:20271031T010000
END:STANDARD
END:VTIMEZONE
BEGIN:VEVENT
DTSTART;TZID=Europe/Ljubljana:20260403T170000
DTEND;TZID=Europe/Ljubljana:20260403T180000
DTSTAMP:20260419T203249
CREATED:20260326T070951Z
LAST-MODIFIED:20260326T070951Z
UID:10000745-1775235600-1775239200@visitnovomesto.si
SUMMARY:Workshop: Puzzle Social Gathering
DESCRIPTION:The Miran Jarc Library Novo mesto invites you to the workshop Puzzle Social Gathering\, held every first Friday of the month. The next session will take place on Friday\, 3 April 2026\, at 5:00 pm in the Beri classroom. \nRegistration and further information: jana_dragan@yahoo.com \nEvent website.
URL:https://visitnovomesto.si/dogodek/workshop-puzzle-social-gathering/
LOCATION:Knjižnica Mirana Jarca Novo mesto\, Rozmanova ulica 28\, Novo mesto\, Slovenija\, 8000\, Slovenia
CATEGORIES:Social Activities and Entertainment
ATTACH;FMTTYPE=image/png:https://visitnovomesto.si/wp-content/uploads/2026/03/Sestavljanke.png
ORGANIZER;CN="Knji%C5%BEnica Mirana Jarca Novo mesto":MAILTO:info@kmj.si
END:VEVENT
BEGIN:VEVENT
DTSTART;TZID=Europe/Ljubljana:20260403T190000
DTEND;TZID=Europe/Ljubljana:20260403T210000
DTSTAMP:20260419T203249
CREATED:20260327T094756Z
LAST-MODIFIED:20260327T094756Z
UID:10000804-1775242800-1775250000@visitnovomesto.si
SUMMARY:Bookstore Quiz: Film
DESCRIPTION:Založba Goga invites you to the Bookstore Quiz: Film\, which will take place on Friday\, 3 April 2026\, from 7:00 pm to 9:00 pm at Goga Bookstore and Café. \nThe bookstore quiz is back\, this time with a focus on the seventh art! Participants will test their knowledge of cinema – who was the first to shoot a color film\, how many Oscars does Steven Spielberg have\, who is John Williams\, and which is the most-watched Slovenian feature film of all time. \nRegister at: knjigarnagoga@goga.si or 15 minutes before the event starts. \nThe event will be held in Slovenian.Event website.
URL:https://visitnovomesto.si/dogodek/bookstore-quiz-film/
LOCATION:Knjigarna in kavarna Goga\, Glavni trg 6\, Novo mesto\, Slovenija\, 8000\, Slovenia
CATEGORIES:Art and Culture,Social Activities and Entertainment
ATTACH;FMTTYPE=image/jpeg:https://visitnovomesto.si/wp-content/uploads/2026/02/Knjigarniski-kviz.jpg
ORGANIZER;CN="Zalo%C5%BEba Goga":MAILTO:info@goga.si
END:VEVENT
BEGIN:VEVENT
DTSTART;TZID=Europe/Ljubljana:20260403T200000
DTEND;TZID=Europe/Ljubljana:20260403T230000
DTSTAMP:20260419T203249
CREATED:20260326T082822Z
LAST-MODIFIED:20260326T082822Z
UID:10000753-1775246400-1775257200@visitnovomesto.si
SUMMARY:Board Game: Detective for a Day – Egg Mystery
DESCRIPTION:LokalPatriot invites you to a board game evening Detective for a Day – Egg Mystery\, which will take place on Friday\, 3 April 2026\, at 8:00 pm at the LokalPatriot Café. \nRegistration is recommended. \nEvent website.
URL:https://visitnovomesto.si/dogodek/board-game-detective-for-a-day-egg-mystery/
LOCATION:Kavarna LokalPatriot\, Rozmanova ulica 21\, Novo mesto\, Slovenija\, 8000\, Slovenia
CATEGORIES:Social Activities and Entertainment
ATTACH;FMTTYPE=image/png:https://visitnovomesto.si/wp-content/uploads/2026/03/Egg.png
ORGANIZER;CN="LokalPatriot":MAILTO:lokalpatriot@lokalpatriot.si
END:VEVENT
BEGIN:VEVENT
DTSTART;TZID=Europe/Ljubljana:20260403T200000
DTEND;TZID=Europe/Ljubljana:20260403T233000
DTSTAMP:20260419T203249
CREATED:20260326T111541Z
LAST-MODIFIED:20260326T111541Z
UID:10000776-1775246400-1775259000@visitnovomesto.si
SUMMARY:Workshop and Party: Bunny Berry Bachata Party
DESCRIPTION:You are invited to the dance workshop and party Bunny Berry Bachata Party\, which will take place on Friday\, 3 April 2026\, at 8:00 pm at Gostišče Loka – Kuhla in Novo mesto. \nEvent website.
URL:https://visitnovomesto.si/dogodek/workshop-and-party-bunny-berry-bachata-party/
LOCATION:Gostišče Loka – Kuhla\, Župančičevo sprehajališče 2\, Novo mesto\, Slovenija\, 8000\, Slovenia
CATEGORIES:Education,Social Activities and Entertainment
ATTACH;FMTTYPE=image/jpeg:https://visitnovomesto.si/wp-content/uploads/2026/03/bunny.jpg
ORGANIZER;CN="Bachailando %E2%80%93 plesna sinergija":MAILTO:bachailando@gmail.com
END:VEVENT
END:VCALENDAR