BEGIN:VCALENDAR
VERSION:2.0
PRODID:-//Visit Novo Mesto - ECPv6.15.20//NONSGML v1.0//EN
CALSCALE:GREGORIAN
METHOD:PUBLISH
X-WR-CALNAME:Visit Novo Mesto
X-ORIGINAL-URL:https://visitnovomesto.si
X-WR-CALDESC:Events for Visit Novo Mesto
REFRESH-INTERVAL;VALUE=DURATION:PT1H
X-Robots-Tag:noindex
X-PUBLISHED-TTL:PT1H
BEGIN:VTIMEZONE
TZID:Europe/Ljubljana
BEGIN:DAYLIGHT
TZOFFSETFROM:+0100
TZOFFSETTO:+0200
TZNAME:CEST
DTSTART:20250330T010000
END:DAYLIGHT
BEGIN:STANDARD
TZOFFSETFROM:+0200
TZOFFSETTO:+0100
TZNAME:CET
DTSTART:20251026T010000
END:STANDARD
BEGIN:DAYLIGHT
TZOFFSETFROM:+0100
TZOFFSETTO:+0200
TZNAME:CEST
DTSTART:20260329T010000
END:DAYLIGHT
BEGIN:STANDARD
TZOFFSETFROM:+0200
TZOFFSETTO:+0100
TZNAME:CET
DTSTART:20261025T010000
END:STANDARD
BEGIN:DAYLIGHT
TZOFFSETFROM:+0100
TZOFFSETTO:+0200
TZNAME:CEST
DTSTART:20270328T010000
END:DAYLIGHT
BEGIN:STANDARD
TZOFFSETFROM:+0200
TZOFFSETTO:+0100
TZNAME:CET
DTSTART:20271031T010000
END:STANDARD
END:VTIMEZONE
BEGIN:VEVENT
DTSTART;TZID=Europe/Ljubljana:20260404T100000
DTEND;TZID=Europe/Ljubljana:20260404T170000
DTSTAMP:20260419T202603
CREATED:20260320T140307Z
LAST-MODIFIED:20260331T125300Z
UID:10000675-1775296800-1775322000@visitnovomesto.si
SUMMARY:Hike for Happy Paws 2026 and Picnic Celebrating the 25th Anniversary of DZZŽ Novo mesto
DESCRIPTION:The Animal Protection Society Novo mesto invites you to the charitable Hike for Happy Paws and picnic\, celebrating the 25th anniversary of the society\, taking place on Saturday\, 4 April 2026\, at 10:00. \nThe event is held under the slogan: “For happy paws\, claws\, and paws – we take steps together” – celebrating 25 years! On World Stray Animals Day\, the organizers invite everyone to join in the celebration and social gathering. \nParticipants will meet on the first Saturday in April at 10:00 at the parking lot Ob Težki vodi (next to the Pulmonary Hospital and Julija’s Footbridge). The hike or walk will last approximately one hour\, with the group reaching the finish around 12:00 at the playground by the local venue in Regrča vas\, where the following will be available: \n\n\nPicnic with treats from Crusty Kitchen \n\n\nCircus entertainment for children and the young at heart \n\n\nSocialising and “ear canal massage” \n\n\nParticipation in the hike is optional\, as visitors are welcome to join directly at the finish. Charitable merchandise will also be available\, including T-shirts for happy paws\, cat bags\, and some new items. \nThe recommended contribution for registration is €10. \nEvent webpage.
URL:https://visitnovomesto.si/dogodek/hike-for-happy-paws-2026-and-picnic-celebrating-the-25th-anniversary-of-dzzz-novo-mesto/
LOCATION:Parking Ob Težki vodi
CATEGORIES:Nature and Sport,Social Activities and Entertainment
ATTACH;FMTTYPE=image/jpeg:https://visitnovomesto.si/wp-content/uploads/2026/03/Pohod-srecne-tacke.jpg
ORGANIZER;CN="Dru%C5%A1tvo za za%C5%A1%C4%8Dito %C5%BEivali Novo mesto":MAILTO:info@dzzz-nm.si
GEO:45.801217560652;15.165675138349
END:VEVENT
END:VCALENDAR