BEGIN:VCALENDAR
VERSION:2.0
PRODID:-//Visit Novo Mesto - ECPv6.15.20//NONSGML v1.0//EN
CALSCALE:GREGORIAN
METHOD:PUBLISH
X-ORIGINAL-URL:https://visitnovomesto.si
X-WR-CALDESC:Events for Visit Novo Mesto
REFRESH-INTERVAL;VALUE=DURATION:PT1H
X-Robots-Tag:noindex
X-PUBLISHED-TTL:PT1H
BEGIN:VTIMEZONE
TZID:Europe/Ljubljana
BEGIN:DAYLIGHT
TZOFFSETFROM:+0100
TZOFFSETTO:+0200
TZNAME:CEST
DTSTART:20250330T010000
END:DAYLIGHT
BEGIN:STANDARD
TZOFFSETFROM:+0200
TZOFFSETTO:+0100
TZNAME:CET
DTSTART:20251026T010000
END:STANDARD
BEGIN:DAYLIGHT
TZOFFSETFROM:+0100
TZOFFSETTO:+0200
TZNAME:CEST
DTSTART:20260329T010000
END:DAYLIGHT
BEGIN:STANDARD
TZOFFSETFROM:+0200
TZOFFSETTO:+0100
TZNAME:CET
DTSTART:20261025T010000
END:STANDARD
BEGIN:DAYLIGHT
TZOFFSETFROM:+0100
TZOFFSETTO:+0200
TZNAME:CEST
DTSTART:20270328T010000
END:DAYLIGHT
BEGIN:STANDARD
TZOFFSETFROM:+0200
TZOFFSETTO:+0100
TZNAME:CET
DTSTART:20271031T010000
END:STANDARD
END:VTIMEZONE
BEGIN:VEVENT
DTSTART;TZID=Europe/Ljubljana:20260411T100000
DTEND;TZID=Europe/Ljubljana:20260411T190000
DTSTAMP:20260419T203233
CREATED:20260218T151208Z
LAST-MODIFIED:20260218T151208Z
UID:10000431-1775901600-1775934000@visitnovomesto.si
SUMMARY:National Jigsaw Puzzle Speed Championship
DESCRIPTION:The National Jigsaw Puzzle Speed Championship will take place on Friday\, 11 April 2026\, at OŠ Drska in Novo mesto. The competition will be held in three categories: individuals at 10:00\, pairs at 12:30\, and teams at 17:00. \nPlaces are limited\, and registration is required. \nThe event will provide an excellent opportunity to meet and connect with other puzzle enthusiasts. There will also be a puzzle exchange and tables available for free puzzle assembly for both children and adults. \nEvent website
URL:https://visitnovomesto.si/dogodek/national-jigsaw-puzzle-speed-championship/
LOCATION:OŠ Drska\, Ulica Slavka Gruma 63\, Novo mesto\, Slovenija\, 8000\, Slovenia
CATEGORIES:Social Activities and Entertainment
ATTACH;FMTTYPE=image/jpeg:https://visitnovomesto.si/wp-content/uploads/2026/02/Sestavljanke.jpg
ORGANIZER;CN="Dru%C5%A1tvo ljubiteljev sestavljank":MAILTO:info@drustvosestavljank.si
END:VEVENT
END:VCALENDAR