BEGIN:VCALENDAR
VERSION:2.0
PRODID:-//Visit Novo Mesto - ECPv6.15.20//NONSGML v1.0//EN
CALSCALE:GREGORIAN
METHOD:PUBLISH
X-ORIGINAL-URL:https://visitnovomesto.si
X-WR-CALDESC:Events for Visit Novo Mesto
REFRESH-INTERVAL;VALUE=DURATION:PT1H
X-Robots-Tag:noindex
X-PUBLISHED-TTL:PT1H
BEGIN:VTIMEZONE
TZID:Europe/Ljubljana
BEGIN:DAYLIGHT
TZOFFSETFROM:+0100
TZOFFSETTO:+0200
TZNAME:CEST
DTSTART:20250330T010000
END:DAYLIGHT
BEGIN:STANDARD
TZOFFSETFROM:+0200
TZOFFSETTO:+0100
TZNAME:CET
DTSTART:20251026T010000
END:STANDARD
BEGIN:DAYLIGHT
TZOFFSETFROM:+0100
TZOFFSETTO:+0200
TZNAME:CEST
DTSTART:20260329T010000
END:DAYLIGHT
BEGIN:STANDARD
TZOFFSETFROM:+0200
TZOFFSETTO:+0100
TZNAME:CET
DTSTART:20261025T010000
END:STANDARD
BEGIN:DAYLIGHT
TZOFFSETFROM:+0100
TZOFFSETTO:+0200
TZNAME:CEST
DTSTART:20270328T010000
END:DAYLIGHT
BEGIN:STANDARD
TZOFFSETFROM:+0200
TZOFFSETTO:+0100
TZNAME:CET
DTSTART:20271031T010000
END:STANDARD
END:VTIMEZONE
BEGIN:VEVENT
DTSTART;TZID=Europe/Ljubljana:20260705T140000
DTEND;TZID=Europe/Ljubljana:20260705T190000
DTSTAMP:20260420T005305
CREATED:20251009T160307Z
LAST-MODIFIED:20260107T140214Z
UID:10000009-1783260000-1783278000@visitnovomesto.si
SUMMARY:Krka Bridge Jumps
DESCRIPTION:At the beginning of summer\, Novo mesto hosts the traditional Krka Bridge Jumps event (Skoki v Krko)\, an international high-diving competition held from the 12-metre-high Kandija Bridge. It offers a unique opportunity to experience the atmosphere and skill of divers leaping from great heights. \nKrka Bridge Jumps is one of the most anticipated and spectacular summer adrenaline events in Novo mesto\, combining tradition\, courage\, and refreshment in the embrace of the Krka River. More than just a competition\, the event is a true city attraction that draws crowds of spectators and swimmers every year.
URL:https://visitnovomesto.si/dogodek/skoki-v-krko/
LOCATION:Kandijski most\, Novo mesto\, Slovenija\, 8000
CATEGORIES:Nature and Sport
ATTACH;FMTTYPE=image/jpeg:https://visitnovomesto.si/wp-content/uploads/2025/02/Skoki-v-Krko.jpg
ORGANIZER;CN="Zavod Novo mesto":MAILTO:info@znm.si
END:VEVENT
BEGIN:VEVENT
DTSTART;TZID=Europe/Ljubljana:20260713T100000
DTEND;TZID=Europe/Ljubljana:20260713T120000
DTSTAMP:20260420T005305
CREATED:20260407T140925Z
LAST-MODIFIED:20260407T140925Z
UID:10000898-1783936800-1783944000@visitnovomesto.si
SUMMARY:Workshop: Let’s Talk!
DESCRIPTION:Mirana Jarca Library Novo mesto and RIC Novo mesto invite you to the Let’s Talk! workshop\, which will take place on Monday\, 13 July 2026\, at 10:00 am in the Beri Classroom. \nDo you want to improve your English but don’t know where to start? Join this free RIC Novo mesto activity Let’s Talk! and discover online resources for independent English learning. You will get: simple and practical websites and apps\, tips on how to study at home\, and an opportunity to practice speaking and improve your English. Come\, learn new tricks\, and boost your language skills! \nFor information and registration\, contact Maruša Ancelj at 05 907 57 10 or marusa.ancelj@ric-nm.si. \nThe event will be held in Slovene and English. \nEvent website
URL:https://visitnovomesto.si/dogodek/workshop-lets-talk/
LOCATION:Knjižnica Mirana Jarca Novo mesto\, Rozmanova ulica 28\, Novo mesto\, Slovenija\, 8000\, Slovenia
CATEGORIES:Education
ATTACH;FMTTYPE=image/png:https://visitnovomesto.si/wp-content/uploads/2026/04/Delavnica-RIC-Nm-1-500x500-1.png
ORGANIZER;CN="Knji%C5%BEnica Mirana Jarca Novo mesto":MAILTO:info@kmj.si
END:VEVENT
BEGIN:VEVENT
DTSTART;TZID=Europe/Ljubljana:20260810T100000
DTEND;TZID=Europe/Ljubljana:20260810T170000
DTSTAMP:20260420T005305
CREATED:20260407T141407Z
LAST-MODIFIED:20260407T141407Z
UID:10000900-1786356000-1786381200@visitnovomesto.si
SUMMARY:Workshop: Memory Exercises
DESCRIPTION:Mirana Jarca Library Novo mesto and RIC Novo mesto invite you to the Memory Exercises workshop\, which will take place on Monday\, 10 August 2026\, at 10:00 am in the Beri Classroom. \nDo you want to improve your memory and stay sharp? Join this free RIC Novo mesto activity Memory Exercises and have fun while learning! You will gain: simple and enjoyable memory exercises\, tips on keeping your mind alert\, and the opportunity to socialize and learn together. Come and strengthen your memory in a simple and fun way! \nFor information and registration\, contact Maruša Ancelj at 05 907 57 10 or marusa.ancelj@ric-nm.si. \nThe event will be held in Slovene. \nEvent website
URL:https://visitnovomesto.si/dogodek/workshop-memory-exercises/
LOCATION:Knjižnica Mirana Jarca Novo mesto\, Rozmanova ulica 28\, Novo mesto\, Slovenija\, 8000\, Slovenia
CATEGORIES:Education
ATTACH;FMTTYPE=image/png:https://visitnovomesto.si/wp-content/uploads/2026/04/Delavnica-RIC-Nm-1-500x500-1.png
ORGANIZER;CN="Knji%C5%BEnica Mirana Jarca Novo mesto":MAILTO:info@kmj.si
END:VEVENT
BEGIN:VEVENT
DTSTART;VALUE=DATE:20260817
DTEND;VALUE=DATE:20260823
DTSTAMP:20260420T005305
CREATED:20251009T160301Z
LAST-MODIFIED:20260326T133818Z
UID:10000008-1786924800-1787443199@visitnovomesto.si
SUMMARY:Jazzinty
DESCRIPTION:The Jazzinty Festival is one of the most important international music festivals in Slovenia. It takes place during the third week of August at various venues across Novo mesto. The diverse evening concert programme\, which attracts numerous visitors from Slovenia and abroad\, is accompanied by a week-long music workshop. At the end of summer\, Jazzinty transforms Novo mesto into a leading informal educational centre for jazz and contemporary music.
URL:https://visitnovomesto.si/dogodek/jazzinty/
LOCATION:Staro mestno jedro\, Glavni trg\, Novo mesto\, Slovenija\, 8000\, Slovenia
CATEGORIES:Art and Culture
ATTACH;FMTTYPE=image/jpeg:https://visitnovomesto.si/wp-content/uploads/2025/02/Jazzinty-scaled.jpg
ORGANIZER;CN="Zavod Novo mesto":MAILTO:info@znm.si
END:VEVENT
BEGIN:VEVENT
DTSTART;TZID=Europe/Ljubljana:20260828T200000
DTEND;TZID=Europe/Ljubljana:20260828T220000
DTSTAMP:20260420T005305
CREATED:20260325T132335Z
LAST-MODIFIED:20260325T132335Z
UID:10000712-1787947200-1787954400@visitnovomesto.si
SUMMARY:Concert: Žan Serčič – On the Streets of the Heart
DESCRIPTION:You are warmly invited to a concert by Žan Serčič – On the Streets of the Heart\, part of a special acoustic tour 2026\, taking place at Bistro Situla on Friday\, 28 August 2026\, at 8:00 pm. \nEvent website.
URL:https://visitnovomesto.si/dogodek/concert-zan-sercic-on-the-streets-of-the-heart/
LOCATION:Bistro Situla\, Dilančeva ulica 1\, Novo mesto\, Slovenija\, 8000\, Slovenia
CATEGORIES:Art and Culture
ATTACH;FMTTYPE=image/png:https://visitnovomesto.si/wp-content/uploads/2026/03/Zan.png
ORGANIZER;CN="Hostel in Bistro Situla":MAILTO:situla@situla.si
END:VEVENT
BEGIN:VEVENT
DTSTART;VALUE=DATE:20260829
DTEND;VALUE=DATE:20260830
DTSTAMP:20260420T005305
CREATED:20251009T160255Z
LAST-MODIFIED:20260107T134139Z
UID:10000007-1787961600-1788047999@visitnovomesto.si
SUMMARY:Night on the Krka
DESCRIPTION:Night on the Krka (Noč na Krki) is a traditional family event that takes place at the end of summer along the Krka River in Novo mesto\, with the main venue located in the Loka Sports and Recreation Park. The event dates back to the 19th century and the tradition of celebrating the feast day of St John of Nepomuk. It brings together a wide range of activities and symbolically revives historical moments\, as light has always been the central symbol of the event. \nThe programme features a lively afternoon schedule with various sports activities\, a youth market\, an international gathering of brass bands and majorette groups\, children’s entertainment\, and an evening concert. All activities are free of charge\, and the event is accompanied by a diverse culinary offering. The organiser is the Novo mesto Institute in cooperation with the Oton Youth Centre and the Municipality of Novo mesto.
URL:https://visitnovomesto.si/dogodek/noc-na-krki/
LOCATION:Športno rekreacijski park Loka\, Zupančičevo sprehajališče 1\, Novo mesto\, Slovenija\, 8000\, Slovenia
CATEGORIES:Art and Culture,Children and Youth
ATTACH;FMTTYPE=image/jpeg:https://visitnovomesto.si/wp-content/uploads/2025/02/Noc-na-Krki.jpg
ORGANIZER;CN="Zavod Novo mesto":MAILTO:info@znm.si
END:VEVENT
BEGIN:VEVENT
DTSTART;TZID=Europe/Ljubljana:20260914T100000
DTEND;TZID=Europe/Ljubljana:20260914T120000
DTSTAMP:20260420T005305
CREATED:20260407T141852Z
LAST-MODIFIED:20260407T141852Z
UID:10000902-1789380000-1789387200@visitnovomesto.si
SUMMARY:Workshop: Employment Corner
DESCRIPTION:Mirana Jarca Library Novo mesto and RIC Novo mesto invite you to the Employment Corner workshop\, which will take place on Monday\, 14 September 2026\, at 10:00 am in the Beri Classroom. \nDo you want to improve your employment prospects? Join this free RIC Novo mesto activity and learn how to create a CV using the Europass system. You will gain: step-by-step guidance on preparing your CV\, tips on presenting yourself to an employer\, and assistance with writing and formatting your CV. Come and take the first step toward a new job! \nFor information and registration\, contact Maruša Ancelj at 05 907 57 10 or marusa.ancelj@ric-nm.si. \nThe event will be held in Slovene. \nEvent website
URL:https://visitnovomesto.si/dogodek/workshop-employment-corner/
LOCATION:Knjižnica Mirana Jarca Novo mesto\, Rozmanova ulica 28\, Novo mesto\, Slovenija\, 8000\, Slovenia
CATEGORIES:Education
ATTACH;FMTTYPE=image/png:https://visitnovomesto.si/wp-content/uploads/2026/04/Delavnica-RIC-Nm-1-500x500-1.png
ORGANIZER;CN="Knji%C5%BEnica Mirana Jarca Novo mesto":MAILTO:info@kmj.si
END:VEVENT
BEGIN:VEVENT
DTSTART;TZID=Europe/Ljubljana:20261022T090000
DTEND;TZID=Europe/Ljubljana:20261022T100000
DTSTAMP:20260420T005305
CREATED:20260407T142517Z
LAST-MODIFIED:20260407T142517Z
UID:10000904-1792659600-1792663200@visitnovomesto.si
SUMMARY:Local Heritage Festival Domfest
DESCRIPTION:The Section for Local Heritage and Cultural Heritage at the Association of Slovenian Library Societies\, together with Mirana Jarca Library Novo mesto\, invite you to the 9th Local Heritage Festival – Domfest\, which will take place on Thursday\, 22 October 2026\, at 9:00 am in the Event Atrium. \nThis year’s theme will focus on literary estates and collections in libraries and other cultural institutions\, representing significant written cultural heritage both at the national level and within local communities. The festival aims to explore literary estates from various perspectives: presenting the authors represented in these collections\, the criteria and methods for including estates in library holdings\, the conditions for their preservation and protection\, accessibility and usefulness for different target groups\, opportunities for connecting them with local tourism\, as well as their promotion\, especially among young people. \nThe event will also feature the presentation of the Goropevšek Awards for outstanding achievements in the field of local heritage and cultural heritage\, recognizing contributions of broader social importance that advance local heritage activities in libraries. \nThe event will be held in Slovene. \nEvent website
URL:https://visitnovomesto.si/dogodek/local-heritage-festival-domfest/
LOCATION:Knjižnica Mirana Jarca Novo mesto\, Rozmanova ulica 28\, Novo mesto\, Slovenija\, 8000\, Slovenia
CATEGORIES:Art and Culture
ATTACH;FMTTYPE=image/jpeg:https://visitnovomesto.si/wp-content/uploads/2026/04/insta_Domfest-Literarne-zapuscine-in-zbirke.jpg
ORGANIZER;CN="Knji%C5%BEnica Mirana Jarca Novo mesto":MAILTO:info@kmj.si
END:VEVENT
BEGIN:VEVENT
DTSTART;VALUE=DATE:20261114
DTEND;VALUE=DATE:20261116
DTSTAMP:20260420T005305
CREATED:20260325T141947Z
LAST-MODIFIED:20260325T141947Z
UID:10000728-1794614400-1794787199@visitnovomesto.si
SUMMARY:9th Novo Mesto Half Marathon (Novomesto21)
DESCRIPTION:The Novo Mesto Half Marathon (Novomesto21) is one of the largest sports and recreational events in south-eastern Slovenia\, attracting numerous runners and visitors to Novo Mesto each year. The event\, which brings together professional athletes\, recreational runners and all enthusiasts of an active lifestyle\, will take place for the ninth consecutive year on 14 and 15 November 2026. \nThe diverse programme includes a half marathon\, shorter-distance runs\, hikes\, children’s races and accompanying events that encourage physical activity\, socialising and intergenerational connection. \nThe event is not only a sporting challenge but also an opportunity to promote Novo Mesto as an attractive destination for active leisure\, offering participants a unique experience of the town and its surroundings in a dynamic and positive atmosphere. \nEvent website.
URL:https://visitnovomesto.si/dogodek/9th-novo-mesto-half-marathon-novomesto21/
LOCATION:Novi trg
CATEGORIES:Nature and Sport
ATTACH;FMTTYPE=image/jpeg:https://visitnovomesto.si/wp-content/uploads/2026/03/Novomeski-polmaraton_2-Large.jpg
GEO:45.805098152367;15.164122571843
END:VEVENT
END:VCALENDAR