BEGIN:VCALENDAR
VERSION:2.0
PRODID:-//Visit Novo Mesto - ECPv6.15.20//NONSGML v1.0//EN
CALSCALE:GREGORIAN
METHOD:PUBLISH
X-ORIGINAL-URL:https://visitnovomesto.si
X-WR-CALDESC:Dogodki za Visit Novo Mesto
REFRESH-INTERVAL;VALUE=DURATION:PT1H
X-Robots-Tag:noindex
X-PUBLISHED-TTL:PT1H
BEGIN:VTIMEZONE
TZID:Europe/Ljubljana
BEGIN:DAYLIGHT
TZOFFSETFROM:+0100
TZOFFSETTO:+0200
TZNAME:CEST
DTSTART:20250330T010000
END:DAYLIGHT
BEGIN:STANDARD
TZOFFSETFROM:+0200
TZOFFSETTO:+0100
TZNAME:CET
DTSTART:20251026T010000
END:STANDARD
BEGIN:DAYLIGHT
TZOFFSETFROM:+0100
TZOFFSETTO:+0200
TZNAME:CEST
DTSTART:20260329T010000
END:DAYLIGHT
BEGIN:STANDARD
TZOFFSETFROM:+0200
TZOFFSETTO:+0100
TZNAME:CET
DTSTART:20261025T010000
END:STANDARD
BEGIN:DAYLIGHT
TZOFFSETFROM:+0100
TZOFFSETTO:+0200
TZNAME:CEST
DTSTART:20270328T010000
END:DAYLIGHT
BEGIN:STANDARD
TZOFFSETFROM:+0200
TZOFFSETTO:+0100
TZNAME:CET
DTSTART:20271031T010000
END:STANDARD
END:VTIMEZONE
BEGIN:VEVENT
DTSTART;TZID=Europe/Ljubljana:20260228T080000
DTEND;TZID=Europe/Ljubljana:20260228T140000
DTSTAMP:20260419T170226
CREATED:20260210T144901Z
LAST-MODIFIED:20260210T144901Z
UID:10000335-1772265600-1772287200@visitnovomesto.si
SUMMARY:Pohod po Knafelčevi poti
DESCRIPTION:Pohodniško društvo Novo mesto vabi na 4. pohod po Knafelčevi poti\, ki bo v soboto\, 28. 2. 2026\, ob 8. uri. \nPohod je posvečen Alojzu Knafelcu\, avtorju planinske markacije. Obenem je pohod poklon našemu mestu – Novemu mestu in okolici\, ki s svojo prelepo pokrajino skrbi za čudovito pohodniško izkušnjo. \nODHOD: Ob 8.00 uri od Rotovža na Glavnem trgu po trasi Knafelčeve poti. \nTURA: Pot bomo začeli pred Rotovžem (mestna hiša\, Glavni trg 7) ob Kettejevem vodnjaku ob 8. uri. Nadaljevali bomo mimo spominskega obeležja A. Knafelcu na Pugljevi ulici in do brvi za pešce in kolesarje Loka-Kandija\, kjer bomo prečkali reko Krko. Šli bomo do Šmihela in do rojstne hiše A. Knafelca na Smrečnikovi 63 in do gradu Grm\, mimo Evangelijske cerkve na Trdinovi ulici. Pri Kandijskem mostu nas bo pozdravil spomenik olimpionika Leona Štuklja. Skozi Ragovski most bomo ponovno prečkali Krko. Podali se bomo do Gradu Stari grad pri Otočcu in do Slapa Kobila ter mimo Beceletove jame v Zagradu pri Otočcu. Naprej nas bo pot vodila mimo zidanice skladatelja Marjana Kozine. Povzpeli se bomo do Cerkve Marijinega rojstva na Trški gori (428 m)\, kjer je tudi spomenik Lojzeta Slaka. Mimo Slakove zidanice in Francoskega znamenja (”kužno znamenje”) na Mestnih njivah se bomo skozi del Kettejevega drevoreda vrnili do Novega mesta. Malo pred koncem poti nas čaka še prelep razgled pri Kapiteljski cerkvi\, kjer je tudi razgledni stolp. Hodili bomo najmanj 6 ur. Na začetku poti boste prejeli kartonček\, na katerega zbirate žige za udeležbo na pohodu. Tisti\, ki imate kartončke že od prej\, jih prinesite s seboj. \nPOVRATEK: Vrnili se bomo do 14. ure. \nOPREMA: Pohodna obutev in vremenu primerna oblačila. Pohodne palice so priporočljive. \nHRANA: Praviloma je iz nahrbtnika. \nINFORMACIJE Za morebitne inf.: Mladen Živković\, GSM: 041 652 742 Predhodne prijave na zgornjo telefonsko številko. \nVODENJE: Turo vodita Mladen Živković in Marko Kunčič. \nSpletna stran dogodka
URL:https://visitnovomesto.si/dogodek/pohod-po-knafelcevi-poti/
LOCATION:Glavni trg\, Novo mesto\, Slovenija\, 8000\, Slovenia
CATEGORIES:narava in šport
ATTACH;FMTTYPE=image/jpeg:https://visitnovomesto.si/wp-content/uploads/2026/02/Knafelceva-pot.jpg
ORGANIZER;CN="PD Novo mesto":MAILTO:info@pdnm.si
GEO:45.803864;15.169922
END:VEVENT
BEGIN:VEVENT
DTSTART;TZID=Europe/Ljubljana:20260228T100000
DTEND;TZID=Europe/Ljubljana:20260228T150000
DTSTAMP:20260419T170226
CREATED:20260218T144921Z
LAST-MODIFIED:20260218T144921Z
UID:10000426-1772272800-1772290800@visitnovomesto.si
SUMMARY:Izmenjuj & se razteguj 2.0
DESCRIPTION:Dogodek Izmenjuj & se razteguj bo potekal v soboto\, 28. 2. 2026\, v Joga studiu Pyuris (Stopiče 36\, 8322 Stopiče). \nProgram se bo začel ob 10. uri s pilates vadbo\, ki jo bo vodila Brina Vadnjal in bo trajala do 11. ure. Število mest na vadbi je omejeno\, zato je prijava obvezna. \nOb 11. uri bo sledil voden pogovor z naslovom Reduce & upcycle\, v okviru katerega bo tekla beseda o izzivu #nekup2026\, reciklaži oblačil in sorodnih temah. Gostji pogovora bosta Klara Žagar in Morja Zala. \nIzmenjevalnica oblačil bo potekala med 11. in 15. uro po ustaljenih pravilih. Udeleženci lahko prinesejo čista in ohranjena oblačila ter izberejo kose po lastni izbiri. Dobrodošli so tudi tisti\, ki ne bodo prinesli oblačil. \nZa pogostitev bo poskrbela Kmetija Malerič. \nSpletna stran dogodka
URL:https://visitnovomesto.si/dogodek/izmenjuj-se-razteguj-2-0/
LOCATION:Joga Studio Pyuris\, Stopiče 36\, Novo mesto\, Slovenija\, 8000\, Slovenia
CATEGORIES:narava in šport,zdravje in dobro počutje
ATTACH;FMTTYPE=image/jpeg:https://visitnovomesto.si/wp-content/uploads/2026/02/Izmenjuj.jpg
ORGANIZER;CN="Staro za novo":MAILTO:starozanovomesto@gmail.com
END:VEVENT
BEGIN:VEVENT
DTSTART;TZID=Europe/Ljubljana:20260228T110000
DTEND;TZID=Europe/Ljubljana:20260228T130000
DTSTAMP:20260419T170226
CREATED:20260212T103059Z
LAST-MODIFIED:20260212T103059Z
UID:10000414-1772276400-1772283600@visitnovomesto.si
SUMMARY:Mesec otroške zabave: Maja praznuje in se zdravo zabava
DESCRIPTION:Vabljeni na dogodek za otroke Maja praznuje in se zdravo zabava\, ki bo v Supernovi Novo mesto v soboto\, 28. 2. 2026\, ob 11. uri. \nRojstni dan je zelo pomemben trenutek in poseben dan za vsakega od nas. Za otoke je pravi praznik in najlepši dan v letu. Na vsakem rojstnem dnevu je mnogo sladkarij in skupaj bomo ugotovili\, kaj se zgodi\, če jih pojemo preveč. Kdo nam lahko pomaga? Ali je rojstni dan brez sladkarij še vedno lahko zabaven in nepozaben? \nVabljeni Supernovo Novo mesto\, kjer v mesecu februarju 2026 slavimo mesec otroške zabave. Vsak vikend pripravljamo nova doživetja\, vesela rajanja\, ples in smeh\, druženje in ustvarjanje s prijatelji. \nSpletna stran dogodka
URL:https://visitnovomesto.si/dogodek/mesec-otroske-zabave-maja-praznuje-in-se-zdravo-zabava/
LOCATION:Supernova Novo mesto\, Otoška cesta 5\, Novo mesto\, Slovenija\, 8000\, Slovenia
CATEGORIES:otroci in mladi
ATTACH;FMTTYPE=image/jpeg:https://visitnovomesto.si/wp-content/uploads/2026/02/Supernova.jpg
ORGANIZER;CN="Supernova Novo mesto":MAILTO:info@supernova.si
END:VEVENT
BEGIN:VEVENT
DTSTART;TZID=Europe/Ljubljana:20260228T203000
DTEND;TZID=Europe/Ljubljana:20260228T230000
DTSTAMP:20260419T170226
CREATED:20260119T130905Z
LAST-MODIFIED:20260119T130905Z
UID:10000201-1772310600-1772319600@visitnovomesto.si
SUMMARY:Koncert: Alo!Stari + Jaja Bojz
DESCRIPTION:Vabljeni na koncert zasedb Alo!Stari in Jaja Bojz\, ki bo v soboto\, 28. 2. 2026\, od 20.30 dalje. \nAlo!Stari je energična punk rock zasedba iz Maribora\, ki deluje od leta 2019. Njihov zvok črpa navdih v skate punku devetdesetih\, besedila pa so zapeta v mariborskem narečju\, kar jim daje prepoznaven karakter. \nSpletna stran dogodka
URL:https://visitnovomesto.si/dogodek/koncert-alostari-jaja-bojz/
LOCATION:LokalPatriot\, Rozmanova ulica 21\, Novo mesto\, Slovenija\, 8000\, Slovenia
CATEGORIES:umetnost in kultura
ATTACH;FMTTYPE=image/png:https://visitnovomesto.si/wp-content/uploads/2026/01/AloStari-3-1.png
ORGANIZER;CN="LokalPatriot":MAILTO:lokalpatriot@lokalpatriot.si
END:VEVENT
END:VCALENDAR