BEGIN:VCALENDAR
VERSION:2.0
PRODID:-//Visit Novo Mesto - ECPv6.15.20//NONSGML v1.0//EN
CALSCALE:GREGORIAN
METHOD:PUBLISH
X-WR-CALNAME:Visit Novo Mesto
X-ORIGINAL-URL:https://visitnovomesto.si
X-WR-CALDESC:Dogodki za Visit Novo Mesto
REFRESH-INTERVAL;VALUE=DURATION:PT1H
X-Robots-Tag:noindex
X-PUBLISHED-TTL:PT1H
BEGIN:VTIMEZONE
TZID:Europe/Ljubljana
BEGIN:DAYLIGHT
TZOFFSETFROM:+0100
TZOFFSETTO:+0200
TZNAME:CEST
DTSTART:20250330T010000
END:DAYLIGHT
BEGIN:STANDARD
TZOFFSETFROM:+0200
TZOFFSETTO:+0100
TZNAME:CET
DTSTART:20251026T010000
END:STANDARD
BEGIN:DAYLIGHT
TZOFFSETFROM:+0100
TZOFFSETTO:+0200
TZNAME:CEST
DTSTART:20260329T010000
END:DAYLIGHT
BEGIN:STANDARD
TZOFFSETFROM:+0200
TZOFFSETTO:+0100
TZNAME:CET
DTSTART:20261025T010000
END:STANDARD
BEGIN:DAYLIGHT
TZOFFSETFROM:+0100
TZOFFSETTO:+0200
TZNAME:CEST
DTSTART:20270328T010000
END:DAYLIGHT
BEGIN:STANDARD
TZOFFSETFROM:+0200
TZOFFSETTO:+0100
TZNAME:CET
DTSTART:20271031T010000
END:STANDARD
END:VTIMEZONE
BEGIN:VEVENT
DTSTART;VALUE=DATE:20260320
DTEND;VALUE=DATE:20260330
DTSTAMP:20260419T150249
CREATED:20260320T114625Z
LAST-MODIFIED:20260320T114625Z
UID:10000650-1773964800-1774828799@visitnovomesto.si
SUMMARY:Teden restavracij v Hiši Fink
DESCRIPTION:Hiša Finka vabi na pomladni Teden restavracij\, ki bo potekal med 20. in 29. 3. 2026. Obvezne so predhoden prijave. \nSpletna stran dogodka.
URL:https://visitnovomesto.si/dogodek/teden-restavracij-v-hisi-fink/
LOCATION:Hiša Fink\, Irča vas 13\, Novo mesto\, Slovenija\, 8000\, Slovenia
CATEGORIES:gastronomija
ATTACH;FMTTYPE=image/jpeg:https://visitnovomesto.si/wp-content/uploads/2026/03/Tedem-restavracij-Hisa-Fink.jpg
ORGANIZER;CN="Hi%C5%A1a Fink":MAILTO:info@hisafink.si
END:VEVENT
BEGIN:VEVENT
DTSTART;VALUE=DATE:20260329
DTEND;VALUE=DATE:20260330
DTSTAMP:20260419T150249
CREATED:20260320T121142Z
LAST-MODIFIED:20260320T121318Z
UID:10000654-1774742400-1774828799@visitnovomesto.si
SUMMARY:Akvatlon Novo mesto
DESCRIPTION:Triatlonski klub Novo mesto v nedeljo\, 29. 3. 2026\, ob 10. uri na Bazenu Novo mesto organizira Akvatlon Novo mesto. \nTekma šteje za pokal Triatlonske zveze Slovenije. \nVabljeni vsi\, ki bi se želeli pomeriti na tekmovanju ali pa zgolj preveriti svoje sposobnosti v kombinaciji plavanja in teka. Veseli bomo tudi\, če se udeležite zgolj kot opazovalci\, saj bodo tekmovalci prav gotovo veseli vsakršne spodbude. \nSpletna stran dogodka.
URL:https://visitnovomesto.si/dogodek/akvatlon-novo-mesto/
LOCATION:Bazen Novo mesto\, Zaloška cesta 20\, Novo mesto\, Slovenija\, 8000\, Slovenia
CATEGORIES:narava in šport
ATTACH;FMTTYPE=image/png:https://visitnovomesto.si/wp-content/uploads/2026/03/Akvatlon.png
ORGANIZER;CN="Triatlonski klub Novo mesto":MAILTO:triatlonklub.nm@gmail.com
END:VEVENT
BEGIN:VEVENT
DTSTART;VALUE=DATE:20260329
DTEND;VALUE=DATE:20260330
DTSTAMP:20260419T150249
CREATED:20260320T131807Z
LAST-MODIFIED:20260320T131807Z
UID:10000664-1774742400-1774828799@visitnovomesto.si
SUMMARY:Kolesarska dirka za Veliko nagrado Novega mesta
DESCRIPTION:Kolesarski klub Novo mesto vabi na kolesarska dirko za Veliko nagrado Novega mesta\, ki bo v nedeljo\, 29. 3. 2026\, s startom ob 12.30 v Olimpijskem centru Novo mesto ter zaključkom ob 16.30 na Glavnem trgu v Novem mestu. \nKljub temu\, da je Velika nagrada Novega mesta novo ime na slovenski kolesarski sceni\, pa gre za uveljavljeno dirko in prireditev\, ki se – skupaj z dirkama za Veliko nagrado Občine Piran ter Veliko nagrado Slovenske Istre – uvršča med tako imenovane slovenske spomladanske klasike. \nTrasa dirke ostaja nespremenjena in bo v kolesarsko pentljo povezala Dolenjsko in Belo Krajino\, razgibana trasa pa bo vnovič zahtevala vrhunsko pripravljenost posameznikov in ekip\, ki ciljajo na najvišja mesta. Na dirki tudi v letošnjem letu pričakujemo pestro mednarodno udeležbo\, ki še enkrat več napoveduje napet boj za končno zmago\, ki bo po pričakovanjih tudi tokrat odločena na znamenitih granitnih kockah novomeškega Glavnega trga. \nSpletna stran dogodka.
URL:https://visitnovomesto.si/dogodek/kolesarska-dirka-za-veliko-nagrado-novega-mesta/
LOCATION:Olimpijski center Novo mesto\, Zaloška cesta 20\, Novo mesto\, Slovenija\, 8000\, Slovenia
CATEGORIES:narava in šport
ATTACH;FMTTYPE=image/png:https://visitnovomesto.si/wp-content/uploads/2026/03/Velika-nagrada.png
ORGANIZER;CN="Kolesarski klub Novo mesto":MAILTO:info@kknm.si
END:VEVENT
BEGIN:VEVENT
DTSTART;TZID=Europe/Ljubljana:20260329T100000
DTEND;TZID=Europe/Ljubljana:20260329T113000
DTSTAMP:20260419T150249
CREATED:20260327T105509Z
LAST-MODIFIED:20260327T105509Z
UID:10000815-1774778400-1774783800@visitnovomesto.si
SUMMARY:Otroška delavnica: Velikonočni cakepopsi
DESCRIPTION:Slastela vabi na otroško delavnico Velikonočni cakepopsi\, ki bo v nedeljo\, 29. 3. 2026\, od 10.00 do 11.30 na Podbevškovi 8a v Novem mestu. \nOtroci bodo izdelali cakepopse\, jih dekorirali in svoje izdelke odnesli domov. \nPrijave na info@slastela.si ali na 040 551 801.
URL:https://visitnovomesto.si/dogodek/otroska-delavnica-velikonocni-cakepopsi/
LOCATION:Podbevškova 8a (Gospodarska cona Cikava)\, Podbevškova 8a\, Novo mesto\, Slovenija\, 8000\, Slovenia
CATEGORIES:gastronomija,otroci in mladi
ATTACH;FMTTYPE=image/png:https://visitnovomesto.si/wp-content/uploads/2026/03/Otroska-delavnica_.png
ORGANIZER;CN="Slastela":MAILTO:info@slastela.si
END:VEVENT
BEGIN:VEVENT
DTSTART;TZID=Europe/Ljubljana:20260329T130000
DTEND;TZID=Europe/Ljubljana:20260329T170000
DTSTAMP:20260419T150249
CREATED:20260320T132936Z
LAST-MODIFIED:20260320T132936Z
UID:10000666-1774789200-1774803600@visitnovomesto.si
SUMMARY:Otroška dirka v sklopu kolesarske dirke za Veliko nagrado Novega mesta
DESCRIPTION:Otroška dirka v sklopu kolesarske dirke za Veliko nagrado Novega mesta \nKolesarski klub Novo mesto vabi na kolesarska dirko za Veliko nagrado Novega mesta\, ki bo v nedeljo\, 29. 3. 2026\, s startom ob 12.30 v Olimpijskem centru Novo mesto ter zaključkom ob 16.30 na Glavnem trgu v Novem mestu. \nHkrati bo potekala Otroška dirka na Glavnem trgu s startom ob 13. uri. \nSpletna stran dogodka.
URL:https://visitnovomesto.si/dogodek/otroska-dirka-v-sklopu-kolesarske-dirke-za-veliko-nagrado-novega-mesta/
LOCATION:Glavni trg\, Novo mesto\, Slovenija\, 8000\, Slovenia
CATEGORIES:narava in šport,otroci in mladi
ATTACH;FMTTYPE=image/jpeg:https://visitnovomesto.si/wp-content/uploads/2026/03/Otroska-dirka_.jpg
ORGANIZER;CN="Kolesarski klub Novo mesto":MAILTO:info@kknm.si
GEO:45.803864;15.169922
END:VEVENT
BEGIN:VEVENT
DTSTART;TZID=Europe/Ljubljana:20260329T160000
DTEND;TZID=Europe/Ljubljana:20260329T200000
DTSTAMP:20260419T150249
CREATED:20260326T110449Z
LAST-MODIFIED:20260326T111605Z
UID:10000773-1774800000-1774814400@visitnovomesto.si
SUMMARY:Delavnica in zabava: Salsa & bachata – nedeljska matineja
DESCRIPTION:Vabljeni na plesno delavnico in zabavo Salsa & bachata – nedeljska matineja\, ki bo v nedeljo\, 29. 3. 2026\, od 16. do 20. ure v KCJT Art Cafe v Novem mestu. \nSpletna stran dogodka.
URL:https://visitnovomesto.si/dogodek/delavnica-in-zabava-salsa-bachata-nedeljska-matineja/
LOCATION:KCJT Art Cafe\, Novi trg 5\, Novo mesto\, Slovenija\, 8000\, Slovenia
CATEGORIES:druženje in razvedrilo,izobraževanje
ATTACH;FMTTYPE=image/jpeg:https://visitnovomesto.si/wp-content/uploads/2026/03/Salsa.jpg
ORGANIZER;CN="SalSon Plesno Dru%C5%A1tvo":MAILTO:info@salson.si
END:VEVENT
BEGIN:VEVENT
DTSTART;TZID=Europe/Ljubljana:20260329T190000
DTEND;TZID=Europe/Ljubljana:20260329T200000
DTSTAMP:20260419T150249
CREATED:20260324T170256Z
LAST-MODIFIED:20260324T170615Z
UID:10000705-1774810800-1774814400@visitnovomesto.si
SUMMARY:Koncert: Novomeški sakralni abonma - Hozana sinu Davidovemu
DESCRIPTION:Vabljeni na koncert Hozana sinu Davidovemu v sklopu Novomeškega sakralnega abonmaja\, ki bo v nedeljo\, 29. 3. 2026\, ob 19. uri v Stolni cerkvi sv. Nikolaja Novo mesto. \nIzvedba: Blaž Klemenčič: Dominica in Palmis\, John Rutter: Gloria\, MePZ Dolenjske s spremljevalno inštrumentalno zasedbo\, dirigent: Jernej Fabijan. \nVstopnine ni\, prostovoljni prispevki so namenjeni delovanju abonmaja. \nSpletna stran dogodka.
URL:https://visitnovomesto.si/dogodek/koncert-novomeski-sakralni-abonma-hozana-sinu-davidovemu/
LOCATION:Stolna cerkev sv. Nikolaja Novo mesto\, Kapiteljska ulica 20\, Novo mesto\, Slovenija\, 8000\, Slovenia
CATEGORIES:umetnost in kultura
ATTACH;FMTTYPE=image/png:https://visitnovomesto.si/wp-content/uploads/2026/03/Hozana-Large.png
ORGANIZER;CN="Konservatorij za glasbo Jurij Slatkonja Novo mesto":MAILTO:konservatorij@gmail.com
END:VEVENT
END:VCALENDAR