BEGIN:VCALENDAR
VERSION:2.0
PRODID:-//Visit Novo Mesto - ECPv6.15.20//NONSGML v1.0//EN
CALSCALE:GREGORIAN
METHOD:PUBLISH
X-WR-CALNAME:Visit Novo Mesto
X-ORIGINAL-URL:https://visitnovomesto.si
X-WR-CALDESC:Dogodki za Visit Novo Mesto
REFRESH-INTERVAL;VALUE=DURATION:PT1H
X-Robots-Tag:noindex
X-PUBLISHED-TTL:PT1H
BEGIN:VTIMEZONE
TZID:Europe/Ljubljana
BEGIN:DAYLIGHT
TZOFFSETFROM:+0100
TZOFFSETTO:+0200
TZNAME:CEST
DTSTART:20250330T010000
END:DAYLIGHT
BEGIN:STANDARD
TZOFFSETFROM:+0200
TZOFFSETTO:+0100
TZNAME:CET
DTSTART:20251026T010000
END:STANDARD
BEGIN:DAYLIGHT
TZOFFSETFROM:+0100
TZOFFSETTO:+0200
TZNAME:CEST
DTSTART:20260329T010000
END:DAYLIGHT
BEGIN:STANDARD
TZOFFSETFROM:+0200
TZOFFSETTO:+0100
TZNAME:CET
DTSTART:20261025T010000
END:STANDARD
BEGIN:DAYLIGHT
TZOFFSETFROM:+0100
TZOFFSETTO:+0200
TZNAME:CEST
DTSTART:20270328T010000
END:DAYLIGHT
BEGIN:STANDARD
TZOFFSETFROM:+0200
TZOFFSETTO:+0100
TZNAME:CET
DTSTART:20271031T010000
END:STANDARD
END:VTIMEZONE
BEGIN:VEVENT
DTSTART;TZID=Europe/Ljubljana:20260404T100000
DTEND;TZID=Europe/Ljubljana:20260404T120000
DTSTAMP:20260419T150258
CREATED:20260325T140455Z
LAST-MODIFIED:20260325T140455Z
UID:10000719-1775296800-1775304000@visitnovomesto.si
SUMMARY:Delavnice: Ustvarjalna pomlad v mestu
DESCRIPTION:Društvo Vezalka ob prihodu pomladi ponovno vabi na tradicionalne Vezalkine ustvarjalnice\, ki bodo tudi letos popestrile mestno dogajanje. Ustvarjalna pomlad v mestu 2026 se začenja na prvi pomladni dan in prinaša niz brezplačnih delavnic za otroke. \nDelavnice bodo potekale vsako soboto med 21. marcem in 18. aprilom 2026\, in sicer 21. 3.\, 28. 3.\, 4. 4.\, 11. 4. in 18. 4.\, od 10.00 do 12.00 na Glavnem trgu v Novem mestu\, pred Rotovžem. V primeru slabega vremena se bo program preselil v Hostel in Bistro Situla. \nProgram je namenjen vsem otrokom\, ki želijo ustvarjati\, raziskovati in preživeti prijetno dopoldne v mestnem jedru. Udeležba je brezplačna\, saj delavnice sofinancira Mestna občina Novo mesto. \nSpletna stran dogodka.
URL:https://visitnovomesto.si/dogodek/delavnice-ustvarjalna-pomlad-v-mestu/2026-04-04/
LOCATION:Glavni trg\, Novo mesto\, Slovenija\, 8000\, Slovenia
CATEGORIES:otroci in mladi
ATTACH;FMTTYPE=image/jpeg:https://visitnovomesto.si/wp-content/uploads/2026/03/Ustvarjalna-pomlad.jpg
ORGANIZER;CN="Dru%C5%A1tvo Vezalka":MAILTO:drustvo.vezalka@gmail.com
GEO:45.803864;15.169922
END:VEVENT
BEGIN:VEVENT
DTSTART;TZID=Europe/Ljubljana:20260404T100000
DTEND;TZID=Europe/Ljubljana:20260404T170000
DTSTAMP:20260419T150258
CREATED:20260320T140156Z
LAST-MODIFIED:20260331T125039Z
UID:10000674-1775296800-1775322000@visitnovomesto.si
SUMMARY:Pohod za srečne tačke 2026 in piknik ob 25. obletnici DZZŽ Novo mesto
DESCRIPTION:Društvo za zaščito živali Novo mesto vabi na dobrodelni Pohod za srečne tačke in piknik ob 25. obletnici delovanja društva\, ki bo v soboto\, 4. 4. 2026\, ob 10. uri. \nDogodek poteka pod geslom: “Za srečne tačke\, kremplje\, krake skupaj delamo korake” – že 25 let! Ob svetovnem dnevu zapuščenih živali organizatorji vabijo k skupnemu praznovanju in druženju. \nUdeleženci se bodo zbrali prvo soboto v aprilu ob 10:00 na parkirišču Ob Težki vodi (pri bolnišnici (pljučni oddelek) oz. nasproti Julijine brvi). Pohod oziroma sprehod bo trajal približno eno uro\, ob približno 12:00 pa se bo skupina zbrala na cilju – igrišču pri lokalu v Regrči vasi\, kjer bo pripravljeno: \n\nPiknik z dobrotami Crusty Kitchen\nCirkuška animacija za otroke in vse\, ki se počutijo otroško\nDruženje in masaža sluhovodov\n\nPohoda se ni nujno udeležiti\, saj se lahko dogodek obišče tudi neposredno na cilju. Tam bo na voljo tudi dobrodelni merch – majice za srečne tačke\, mačji žaklji in nekaj novih izdelkov. \nPriporočen prispevek za startnino znaša 10 €. \nSpletna stran dogodka.
URL:https://visitnovomesto.si/dogodek/pohod-za-srecne-tacke-2026-in-piknik-ob-25-obletnici-dzzz-novo-mesto/
LOCATION:Parkirišče Ob Težki vodi
CATEGORIES:druženje in razvedrilo,narava in šport
ATTACH;FMTTYPE=image/jpeg:https://visitnovomesto.si/wp-content/uploads/2026/03/Pohod-srecne-tacke.jpg
ORGANIZER;CN="Dru%C5%A1tvo za za%C5%A1%C4%8Dito %C5%BEivali Novo mesto":MAILTO:info@dzzz-nm.si
GEO:45.801217560652;15.165675138349
END:VEVENT
END:VCALENDAR