BEGIN:VCALENDAR
VERSION:2.0
PRODID:-//Visit Novo Mesto - ECPv6.15.20//NONSGML v1.0//EN
CALSCALE:GREGORIAN
METHOD:PUBLISH
X-WR-CALNAME:Visit Novo Mesto
X-ORIGINAL-URL:https://visitnovomesto.si
X-WR-CALDESC:Dogodki za Visit Novo Mesto
REFRESH-INTERVAL;VALUE=DURATION:PT1H
X-Robots-Tag:noindex
X-PUBLISHED-TTL:PT1H
BEGIN:VTIMEZONE
TZID:Europe/Ljubljana
BEGIN:DAYLIGHT
TZOFFSETFROM:+0100
TZOFFSETTO:+0200
TZNAME:CEST
DTSTART:20250330T010000
END:DAYLIGHT
BEGIN:STANDARD
TZOFFSETFROM:+0200
TZOFFSETTO:+0100
TZNAME:CET
DTSTART:20251026T010000
END:STANDARD
BEGIN:DAYLIGHT
TZOFFSETFROM:+0100
TZOFFSETTO:+0200
TZNAME:CEST
DTSTART:20260329T010000
END:DAYLIGHT
BEGIN:STANDARD
TZOFFSETFROM:+0200
TZOFFSETTO:+0100
TZNAME:CET
DTSTART:20261025T010000
END:STANDARD
BEGIN:DAYLIGHT
TZOFFSETFROM:+0100
TZOFFSETTO:+0200
TZNAME:CEST
DTSTART:20270328T010000
END:DAYLIGHT
BEGIN:STANDARD
TZOFFSETFROM:+0200
TZOFFSETTO:+0100
TZNAME:CET
DTSTART:20271031T010000
END:STANDARD
END:VTIMEZONE
BEGIN:VEVENT
DTSTART;TZID=Europe/Ljubljana:20260406T080000
DTEND;TZID=Europe/Ljubljana:20260406T170000
DTSTAMP:20260419T150258
CREATED:20260403T094635Z
LAST-MODIFIED:20260403T094635Z
UID:10000829-1775462400-1775494800@visitnovomesto.si
SUMMARY:Pohod: Pugled (564 m) na velikonočno ponedeljek
DESCRIPTION:Pohodniško društvo Novo mesto na velikonočni ponedeljek\, 6. 3. 2026\, vabi na pohod na Pugled. \nPugled\, vrh v obronkih Kočevskega Roga\, je ravno pravšnji za pohod po Velikonočnem vikendu in dobrotah\, ki smo se jih do onemoglosti najedli. Zato vabljeni na nezahtevni pohod\, ki je zgodovinsko obarvan. Čez Pugled poteka tudi Kočevska pot in priljubljen pohod Po medvedovih stopinjah. Za Novomeščane je morda zanimiv podatek\, da je na Pugledu leta 1942 umrl pesnik in pisatelj Miran Jarc (roj. 1900)\, ki je del svojega življenja preživel v Novem mestu. Naše pohode podpira tudi Mestna občina Novo mesto. \nOdhod je izpred OŠ Bršljin ob 8. uri. \nSpletna stran dogodka
URL:https://visitnovomesto.si/dogodek/pohod-pugled-564-m-na-velikonocno-ponedeljek/
LOCATION:OŠ Bršljin\, Kočevarjeva ulica 40\, Novo mesto\, Slovenija\, 8000\, Slovenia
CATEGORIES:narava in šport
ATTACH;FMTTYPE=image/png:https://visitnovomesto.si/wp-content/uploads/2026/04/Pugled.png
ORGANIZER;CN="PD Novo mesto":MAILTO:info@pdnm.si
END:VEVENT
BEGIN:VEVENT
DTSTART;TZID=Europe/Ljubljana:20260406T130000
DTEND;TZID=Europe/Ljubljana:20260406T190000
DTSTAMP:20260419T150258
CREATED:20260320T115145Z
LAST-MODIFIED:20260320T115145Z
UID:10000652-1775480400-1775502000@visitnovomesto.si
SUMMARY:26. Novomeški tek
DESCRIPTION:Atletski klub Krka Novo mesto vabi na 26. Novomeški tek\, ki bo potekal v ponedeljek\, 6. 4. 2026\, na Glavnem trgu v Novem mestu. \nTradicionalna prireditev bo tudi letos ponudila pester program za vse generacije – od otroških tekov do rekreativnih in tekmovalnih preizkušenj\, vrhunec pa bo predstavljal tek na 10 km po certificirani progi. \nLetošnja izvedba prinaša tudi dve zanimivi novosti: tek paraatletov\, s katerim organizatorji spodbujajo vključevanje in dostopnost športa za vse\, ter fun tek s kužki\, namenjen vsem ljubiteljem gibanja in živali. \nDogajanje se bo začelo ob 13. uri in bo trajalo vse do popoldanskih ur. Prireditev dopolnjujejo tudi teki za najmlajše\, štafetni teki osnovnih šol ter rekreativni tek. \nPrijave so odprte do 2. 4. 2026. \nVabljeni k udeležbi ali ogledu dogodka v središču mesta! \nSpletna stran dogodka.
URL:https://visitnovomesto.si/dogodek/26-novomeski-tek/
LOCATION:Glavni trg\, Novo mesto\, Slovenija\, 8000\, Slovenia
CATEGORIES:narava in šport
ATTACH;FMTTYPE=image/png:https://visitnovomesto.si/wp-content/uploads/2026/03/Novomeski-tek.png
ORGANIZER;CN="Atletski klub Krka Novo mesto":MAILTO:predsednik@atletskiklub-nm.si
GEO:45.803864;15.169922
END:VEVENT
END:VCALENDAR