BEGIN:VCALENDAR
VERSION:2.0
PRODID:-//Visit Novo Mesto - ECPv6.15.20//NONSGML v1.0//EN
CALSCALE:GREGORIAN
METHOD:PUBLISH
X-ORIGINAL-URL:https://visitnovomesto.si
X-WR-CALDESC:Dogodki za Visit Novo Mesto
REFRESH-INTERVAL;VALUE=DURATION:PT1H
X-Robots-Tag:noindex
X-PUBLISHED-TTL:PT1H
BEGIN:VTIMEZONE
TZID:Europe/Ljubljana
BEGIN:DAYLIGHT
TZOFFSETFROM:+0100
TZOFFSETTO:+0200
TZNAME:CEST
DTSTART:20250330T010000
END:DAYLIGHT
BEGIN:STANDARD
TZOFFSETFROM:+0200
TZOFFSETTO:+0100
TZNAME:CET
DTSTART:20251026T010000
END:STANDARD
BEGIN:DAYLIGHT
TZOFFSETFROM:+0100
TZOFFSETTO:+0200
TZNAME:CEST
DTSTART:20260329T010000
END:DAYLIGHT
BEGIN:STANDARD
TZOFFSETFROM:+0200
TZOFFSETTO:+0100
TZNAME:CET
DTSTART:20261025T010000
END:STANDARD
BEGIN:DAYLIGHT
TZOFFSETFROM:+0100
TZOFFSETTO:+0200
TZNAME:CEST
DTSTART:20270328T010000
END:DAYLIGHT
BEGIN:STANDARD
TZOFFSETFROM:+0200
TZOFFSETTO:+0100
TZNAME:CET
DTSTART:20271031T010000
END:STANDARD
END:VTIMEZONE
BEGIN:VEVENT
DTSTART;VALUE=DATE:20260407
DTEND;VALUE=DATE:20260411
DTSTAMP:20260419T163942
CREATED:20260403T100711Z
LAST-MODIFIED:20260403T101308Z
UID:10000833-1775520000-1775865599@visitnovomesto.si
SUMMARY:Maraton zdravja 2026
DESCRIPTION:Zdravstveni dom Novo mesto vabi na dogodek Maraton zdravja\, ki ga organizira Zdravstveno-vzgojni center Zdravstvenega doma Novo mesto. Dogodek bo potekal od 7. do 10. 4 2026. \nV okviru dogodka bomo obeležili svetovni dan zdravja ter pripravili raznolike aktivnosti\, namenjene spodbujanju zdravega življenjskega sloga. Program bo vključeval predavanja\, telesne aktivnosti ter praktične nasvete za izboljšanje počutja in skrbi za zdravje. \nPROGRAM: \n7. april \nPohod “Z majhnimi koraki do zdravja” ob 9. uri. Zbirno mesto: pred telovadnico ZD NM (nasproti lekarne). V primeru slabega vremena bo potekalo predavanje o zdravju v telovadnici ZD NM. \n8. april \nSvitov dogodek\, predstavitev presejalnih programov DORA in ZORA ter pomen ustne higiene\nDogajanje bo potekalo v avli Zdravstvenega doma Novo mesto od 9. do 11.30. \n9. april \nPoligon zdravja za otroke med 9. in 11. uro. Potrebna prijava do 2. 4. 2026 na e-naslov: zvc@zd-nm.si ali na tel. št.: 07 39 16 888. Število mest je omejeno. \n10. april \nPredavanje Pomen dobrega spanja v sejni sobi Zdravstvenega doma Novo mesto ob 10. uri. Potrebna prijava do 2. 4. 2026 na tel. št.: 070 730 457. Število mest je omejeno. \nPosvet in meritve krvnega tlaka in krvnega sladkorja. Dogajanje bo potekalo v avli Zdravstvenega doma Novo mesto med 8. in 11. uro. \nDogodek je namenjen vsem\, ki želijo narediti korak k bolj zdravemu življenju\, pridobiti nova znanja ter se aktivno vključiti v skrb za svoje dobro počutje. \nSpletna stran dogodka
URL:https://visitnovomesto.si/dogodek/maraton-zdravja-2026/
LOCATION:Zdravstveni dom Novo mesto\, Kandijska cesta 4\, Novo mesto\, Slovenija\, 8000\, Slovenia
CATEGORIES:zdravje in dobro počutje
ATTACH;FMTTYPE=image/jpeg:https://visitnovomesto.si/wp-content/uploads/2026/04/Maraton-zdravja_.jpg
ORGANIZER;CN="Zdravstveni dom Novo mesto":MAILTO:info@zd-nm.si
END:VEVENT
BEGIN:VEVENT
DTSTART;TZID=Europe/Ljubljana:20260407T170000
DTEND;TZID=Europe/Ljubljana:20260407T180000
DTSTAMP:20260419T163942
CREATED:20260407T130219Z
LAST-MODIFIED:20260407T130219Z
UID:10000873-1775581200-1775584800@visitnovomesto.si
SUMMARY:Ura pravljic za otroke
DESCRIPTION:Ura pravljic za otroke \nKnjižnica Mirana Jarca Novo mesto vabi na Uro pravljic za otroke od 3. leta naprej\, ki bo v torek in sredo\, 7. in 8. 4. 2026\, ob 17. uri v Pravljični sobi. \nSkupaj bomo prisluhnili čudoviti zgodbi o mali polžici. Spoznali bomo njene dogodivščine\, prijatelje in nauke\, ki jih prinaša njena počasna\, a pogumna pot. \nProsimo\, da se na urico pravljic prijavite (Oddelek za mladino: 07 39 34 665). \nSpletna stran dogodka
URL:https://visitnovomesto.si/dogodek/ura-pravljic-za-otroke-4/2026-04-07/
LOCATION:Knjižnica Mirana Jarca Novo mesto\, Rozmanova ulica 28\, Novo mesto\, Slovenija\, 8000\, Slovenia
CATEGORIES:otroci in mladi,umetnost in kultura
ATTACH;FMTTYPE=image/jpeg:https://visitnovomesto.si/wp-content/uploads/2026/04/polzica-500x444-1.jpg
ORGANIZER;CN="Knji%C5%BEnica Mirana Jarca Novo mesto":MAILTO:info@kmj.si
END:VEVENT
BEGIN:VEVENT
DTSTART;TZID=Europe/Ljubljana:20260407T190000
DTEND;TZID=Europe/Ljubljana:20260407T203000
DTSTAMP:20260419T163942
CREATED:20260327T095449Z
LAST-MODIFIED:20260327T095449Z
UID:10000805-1775588400-1775593800@visitnovomesto.si
SUMMARY:Tarok turnir v knjigarni Goga
DESCRIPTION:Založba Goga vabi na Tarok turnir\, ki bo v torek\, 7. 4. 2026\, ob 19. uri v Knjigarni in kavarni Goga. \nDobrodošli_e ljubitelji in ljubiteljice taroka! Vsak mesec (običajno prvi torek na urniku) se dobimo v Knjigarni in kavarni Goga\, kjer se v dobri družbi odvije turnir te priljubljene družabne igre. Ni važno ali ste že mojster ali pa šele začetnik\, vabljeni vsi! \nSpletna stran dogodka.
URL:https://visitnovomesto.si/dogodek/tarok-turnir-v-knjigarni-goga/
LOCATION:Knjigarna in kavarna Goga\, Glavni trg 6\, Novo mesto\, Slovenija\, 8000\, Slovenia
CATEGORIES:druženje in razvedrilo
ATTACH;FMTTYPE=image/png:https://visitnovomesto.si/wp-content/uploads/2026/03/Tarok-Goga.png
ORGANIZER;CN="Zalo%C5%BEba Goga":MAILTO:info@goga.si
END:VEVENT
BEGIN:VEVENT
DTSTART;TZID=Europe/Ljubljana:20260407T200000
DTEND;TZID=Europe/Ljubljana:20260407T220000
DTSTAMP:20260419T163942
CREATED:20260211T112047Z
LAST-MODIFIED:20260320T134554Z
UID:10000387-1775592000-1775599200@visitnovomesto.si
SUMMARY:Predstava: Banalnost zla
DESCRIPTION:Anton Podbevšek Teater vabi na predstavo Banalnost zla: Hannah Arendt – znova\, ki bo v torek\, 7. 4. 2026\, ob 20. uri in v in sredo\, 8. 4. 2026\, ob 11. in 20. uri. \nSpletna stran dogodka
URL:https://visitnovomesto.si/dogodek/predstava-banalnost-zla-2/2026-04-07/
LOCATION:Anton Podbevšek Teater\, Prešernov trg 3\, Novo mesto\, Slovenija\, 8000\, Slovenia
CATEGORIES:umetnost in kultura
ATTACH;FMTTYPE=image/png:https://visitnovomesto.si/wp-content/uploads/2026/02/Banalnost-zla.png
ORGANIZER;CN="Anton Podbev%C5%A1ek Teater":MAILTO:info@antonpodbevsekteater.si
END:VEVENT
END:VCALENDAR