BEGIN:VCALENDAR
VERSION:2.0
PRODID:-//Visit Novo Mesto - ECPv6.15.20//NONSGML v1.0//EN
CALSCALE:GREGORIAN
METHOD:PUBLISH
X-WR-CALNAME:Visit Novo Mesto
X-ORIGINAL-URL:https://visitnovomesto.si
X-WR-CALDESC:Dogodki za Visit Novo Mesto
REFRESH-INTERVAL;VALUE=DURATION:PT1H
X-Robots-Tag:noindex
X-PUBLISHED-TTL:PT1H
BEGIN:VTIMEZONE
TZID:Europe/Ljubljana
BEGIN:DAYLIGHT
TZOFFSETFROM:+0100
TZOFFSETTO:+0200
TZNAME:CEST
DTSTART:20250330T010000
END:DAYLIGHT
BEGIN:STANDARD
TZOFFSETFROM:+0200
TZOFFSETTO:+0100
TZNAME:CET
DTSTART:20251026T010000
END:STANDARD
BEGIN:DAYLIGHT
TZOFFSETFROM:+0100
TZOFFSETTO:+0200
TZNAME:CEST
DTSTART:20260329T010000
END:DAYLIGHT
BEGIN:STANDARD
TZOFFSETFROM:+0200
TZOFFSETTO:+0100
TZNAME:CET
DTSTART:20261025T010000
END:STANDARD
BEGIN:DAYLIGHT
TZOFFSETFROM:+0100
TZOFFSETTO:+0200
TZNAME:CEST
DTSTART:20270328T010000
END:DAYLIGHT
BEGIN:STANDARD
TZOFFSETFROM:+0200
TZOFFSETTO:+0100
TZNAME:CET
DTSTART:20271031T010000
END:STANDARD
END:VTIMEZONE
BEGIN:VEVENT
DTSTART;VALUE=DATE:20260411
DTEND;VALUE=DATE:20260412
DTSTAMP:20260419T222756
CREATED:20260211T093342Z
LAST-MODIFIED:20260408T092513Z
UID:10000373-1775865600-1775951999@visitnovomesto.si
SUMMARY:Športno mesto
DESCRIPTION:Športno mesto je namenjeno vsem ljubiteljem outdoor športov in rekreacije\, ki se bodo na dogodku spoznali z različnimi športnimi materiali\, opremo in aktivnostmi na prostem\, saj bodo prisotni različni ponudniki. Predvsem pa bo prireditev z bogatim spremljevalnim programom namenjena tako mladim kot tudi mladim po srcu. \nV soboto\, 11. 4. 2026\, bo Olimpijski center Novo mesto še posebej športno obarvan. V sklopu letošnjega Festivala športa in rekreacije ŠPORTNO MESTO 2026 se bosta odvijala tradicionalna novomeška dogodka: 4. Dan koles in 12. Rudolfovanje. \nV sklopu letošnjega Dneva koles vas je pripravljenih 10 kolesarskih aktivnosti za vse kolesarske navdušence (cestno kolo\, gorsko kolo\, makadamkanje (gravel) otroški kolesarski izlet\, tekmovanje v menjavi zračnic\, mala šola kolesarjenja\, mini MTB šola\,…). V okviru letošnjega Rudolfovanja pa vas čaka pohod in kolesarjenje po Rudolfovi poti. \nAtletski klub Krka Novo mesto bo pripravil mini kros in tekmovanje v suvanju krogle za vse generacije. V organizaciji Mladinskega centra Oton bo potekalo tekmovanje v štrbunku svojo srečo pa lahko poizkusite na kolesu sreče. Konjeniška centra bosta odprla svoja vrata\, v OZRK Novo mesto bodo prikazali temeljne postopke oživljanja. S svojimi dejavnostmi bodo sodelovali tudi Triatlonski klub Novo mesto\, Plavalni klub Novo mesto\, ki bodo pripravili plavalne urice s predšolskimi otroci in otroci 1. triade vključno z njihovimi starši. Veslaški klub Novo mesto bo predstavil veslanje na ergometrih in čolnu\, Paraolimpijski komite Slovenije bo predstavil košarko na vozičkih\, lokostrelstvo in poligon za slepe. Na voljo bodo tudi napihljiva igrala. Zavod čebela bo pripravil mini tečaj rolanja. Rod gorjanskih tabornikov bo predstavil taborniške veščine\, vezanje vozlov\, orientacijo. Društvo NATURO pa bo z zabavnimi igrami poskrbelo\, da bo igre dovolj za vse. Ne bo manjkal niti namizni tesni in rugby. Prevent – center športa in rehabilitacije pa bo poskrbel za prikaz pravilne izvedbe vaj in njihovo demonstracijo. Na festivalu ne bo manjkalo niti kolesarskih strokovnjakov\, ki vam bodo z veseljem pomagali pri nastavitvah vašega kolesa. \nV okviru festival bo organizirana okrogla miza v sklopu 2. srečanja turnokolesarskih vodnikov Slovenije na tematiko Outdoor aktivnosti v Novem mesto. \nPROGRAM: \nPREDSTAVITEV DRUŠTEV\, KLUBOV IN ORGANIZACIJ\, 9.00–18.00:       \n\nVeslaški klub Krka – Dolenjska\nRugby klub Novo mesto\nAtletski klub Krka Novo mesto\nNamizno teniški klub Krka Novo mesto\nKarate klub Novo mesto\nParaolimpijski komite Slovenije\nPlavalni klub Novo mesto\nTriatlon klub Novo mesto\nZavod čebela\nDruštvo Šola zdravja – podružnica Novo mesto\nDruštvo Naturo\nRod gorjanskih tabornikov\nOZRK Novo mesto – Rdeči križ\nRTC Gače\nPGD Prečna\nPrevent – center športa in rehabilitacije\nMladinski center Oton\nRudolfovanje: veliki pohod in kolesarjenje po Rudolfovi poti\, mali pohod\, Organizator: Pohodniško društvo Novo mesto\nDan odprtih vrat Konjeniškega šolskega športnega centra Češča vas\nDan koles 2026: kolesarjenje za vse kolesarske navdušence (različne trase)\nOrganizator: Društvo Vezalka\n\nDEJAVNOSTI DRUŠTEV in KLUBOV ter POGOVORI: \n\n9.15–10.00: Društvo Šola zdravja\, podružnica Novo mesto (skupna telovadba)\n11.30-13.00: Dan koles (Društvo vezalka): Otroški kolesarski izlet\n13.00-14.00: Dan koles (KD Zverinice): MINI MTB ŠOLA\n16.00–18.00: Plavalni klub Novo mesto (Aktivne plavalne urice (plavalne urice s predšolskimi otroci in otroci 1. triade vključno z njihovimi starši.)\n13.00–14.00: Zavod čebela (Športna delavnica za otroke – učenje rolanja z rolerskim poligonom)\n14.00-14.45: Dan koles (Društvo Vezalka): Tekmovanje v menjavi zračnic\n14.30–17.00: Atletski klub Krka (mini kros in met krogle)\n16.00–17.00: Plavalni klub Novo mesto (plavalne animacije za predšolske otroke in njihove starše v vadbenem bazenu\, štafetne in elementarne igre v bazenu)\n10.00–15.00 Območno združenje Rdečega križa (predstavitev Temeljnih Postopkov Oživljanja – TPO: ob 10.00\, 12.00\, 14.30)\n15.00-16.00: Rudolfovanje – kratek program ob zaključku pohoda\n17.00-18.00: 2. srečanje Turno kolesarskih vodnikov Slovenije in okrogla miza\n\nVabljeni vsi športni navdušenci!
URL:https://visitnovomesto.si/dogodek/sportno-mesto/
LOCATION:Olimpijski center Novo mesto\, Zaloška cesta 20\, Novo mesto\, Slovenija\, 8000\, Slovenia
CATEGORIES:narava in šport
ATTACH;FMTTYPE=image/jpeg:https://visitnovomesto.si/wp-content/uploads/2026/03/Sportno_mesto_2026_mail_podpis.jpg
ORGANIZER;CN="Zavod Novo mesto":MAILTO:info@znm.si
END:VEVENT
BEGIN:VEVENT
DTSTART;VALUE=DATE:20260411
DTEND;VALUE=DATE:20260412
DTSTAMP:20260419T222756
CREATED:20260325T135151Z
LAST-MODIFIED:20260408T072619Z
UID:10000715-1775865600-1775951999@visitnovomesto.si
SUMMARY:Dan koles 2026
DESCRIPTION:Društvo Vezalka vabi na Dan koles 2026\, pester športno-rekreativni dogodek\, kjer se bo vse vrtelo okoli koles. Dogajanje bo potekalo v sklopu dogodka Športno mesto\, v soboto\, 11. 4. 2026\, v Olimpijskem centru Novo mesto s pričetkom ob 9. uri. \nPridružite se 4. Dnevu koles 2026 na ploščadi pred Bazenom Novo mesto. Dogodek bo navdušil vse ljubitelje kolesarjenja\, tako otroke kot odrasle\, saj ponuja pestro paleto aktivnosti za vso družino. Ne glede na to\, ali ste cestni kolesar\, ljubitelj makadama\, navdušenec nad turnim kolesarjenjem ali pravi gorsko-kolesarski  (MTB) zanesenjak\, ki obožuje »traile« in »singlce«\, boste zagotovo našli nekaj zase. Izbirate lahko med številnimi možnostmi tako za odrasle kot tudi za otroke in družine. \nPROGRAM \nZA OTROKE IN DRUŽINE \nDružinski kolesarski izlet – Smer Dolenjske Toplice  \n\nTrasa na povezavi.\nRazdalja: 36 km\, višinci: 400 m\nZbor in registracija: 9.30\nStarost: 10 let in več\nSpletna prijava na povezavi.\n\nScott-ov otroški kolesarski izlet – Po stranpoteh do Učne poti Glinokopi Zalog \n\nTrasa na povezavi.\nRazdalja: 15-20 km\, višinci: 100 m\nZbor in registracija ob 10.30. Predstavitev Male šole kolesarjenja.\nNato je predviden štart izleta ob 11.30.\nStarost: 6 let in več\nSpletna prijava na povezavi.\n\nMala šola kolesarjenja (PiBi Kids) \n\nPredstavitev programa na ploščadi pred Bazenom Novo mesto.\nSpretnostni poligon\, polžja dirka\, dirka s pogajalci\, šola vožnje s kolesom za najmlajše\nZbor ob 10.30\nStarost: 4-7 let\n\nKolesarski izlet v gozd za najmlajše – Društvo Vezalka \n\nRazdalja: 3 km\nZbor ob 11.45\nStarost: 4 leta in več\n\nContinental tekmovanje v menjavi zračnic \n\nPomerite se v hitrostno-spretnostnem tekmovanju – kdo prej zamenja zračnico.\nPrijave se zbirajo na info točki do 13.30.\nZačetek aktivnosti ob 14.00\n\nMini MTB kolesarska šolo za mlade in otroke ter spretnostni MTB poligon \n\nMini MTB šola bo potekala od 13.00 – 15.00\nZbor zainteresiranih ob 12.45\nPostavljen bo tudi MTB poligon\, na katerem bo možno preizkusiti kolesarske veščine\nStarost: 7 let in več\n\nZA ODRASLE IN MLADOSTNIKE \nMakadamkanje – Gravel tura – Mirnopeško zaledje in suhokranjski makadami \n\nTrasa na povezavi.\nRazdalja: 47 km\, višinci: 930 m\nZbor in prijava ob 9.10-9.25\nSpletna prijava na povezavi.\n\nMTB1 – ŠD Fratko – taril fura (Bike park Fratko) \n\nRazdalja: 35 km\, višinci: 700 m\nZbor in prijava ob 9.15-9.40\nSpletna prijava na povezavi.\n\nMTB2 – MTB Zverinice – MTB fura  po »singlcah« okoli novega mesta \n\nRazdalja: cca 20-30 km\nZbor in prijava ob 9.15-9.40\nSpletna prijava na povezavi.\n\nMTB3 – PD Krka Novo mesto – turnokolesarska fura – Dolenjski griči in gradovi \n\nTrasa na povezavi.\nRazdalja: 53 km\, višinci: 950 m\nZbor in prijava ob 9.10-9.25\nSpletna prijava na povezavi.\n\nCestno kolo 1 – KD Sprint – Dolenjski krog \n\nTrasa na povezavi.\nRazdalja: 70 km\, višinci: 650m\nZbor ob 9.10-9.25\nSpletna prijava na povezavi.\n\nCestno kolo 2 – Team Granfondo Slovenia (TGS) – Suhokranjska 100tka \n\nTrasa na povezavi.\nRazdalja: 110 km\, višinci: 1500 m\nZbor in prijava ob 8.50\nSpletna prijava na povezavi.\n\nZA PARAPLEGIKE IN INVALIDNE OSEBE \n\nZbor ob 10.30 pri Društvu paraplegikov Dolenjske in Bele krajine\nIzlet od Šmihela do Olimpijskega centra Novo mesto.\n\nRUDOLFOVANJE \n\nV sklopu Rudolfovanja\, ki se bo prav tako odvijal v Olimpijskem centru Novo mesto bo organizirano trekking/MTB kolesarjenje po Rudolfovi poti v organizaciji Pohodniškega društva Novo mesto.\nSpletna prijava preko e-maila: rudolf.cetrti@gmail.com\n\nINFO: drustvo.vezalka@gmail.com ali 040 469 283 (Rado) \nDan koles 2026 prinaša aktivno preživljanje prostega časa\, druženje in promocijo zdravega življenjskega sloga v prijetnem okolju. Vabljeni\, da se pridružite in zavrtite pedala v dobri družbi! \nSpletna stran dogodka \nSpletna stran dogodka.
URL:https://visitnovomesto.si/dogodek/dan-koles-2026/
LOCATION:Olimpijski center Novo mesto\, Zaloška cesta 20\, Novo mesto\, Slovenija\, 8000\, Slovenia
CATEGORIES:narava in šport,otroci in mladi
ATTACH;FMTTYPE=image/jpeg:https://visitnovomesto.si/wp-content/uploads/2026/03/Dan-koles.jpg
ORGANIZER;CN="Dru%C5%A1tvo Vezalka":MAILTO:drustvo.vezalka@gmail.com
END:VEVENT
BEGIN:VEVENT
DTSTART;VALUE=DATE:20260411
DTEND;VALUE=DATE:20260413
DTSTAMP:20260419T222756
CREATED:20260311T135334Z
LAST-MODIFIED:20260311T135334Z
UID:10000620-1775865600-1776038399@visitnovomesto.si
SUMMARY:Pokalni turnir v MTP
DESCRIPTION:Plesni studio Novo mesto vabi na Pokalni turnir v MTP\, ki bo v Športni dvorani Marof v soboto in nedeljo\, 11. in 12. 4. 2026. \nSpletna stran dogodka
URL:https://visitnovomesto.si/dogodek/pokalni-turnir-v-mtp/
LOCATION:Športna dvorana Marof\, Kettejev drevored 2\, Novo mesto\, Slovenija\, 8000\, Slovenia
CATEGORIES:narava in šport,umetnost in kultura
ATTACH;FMTTYPE=image/jpeg:https://visitnovomesto.si/wp-content/uploads/2026/03/Pokalni-turnir.jpg
ORGANIZER;CN="Plesni studio Novo mesto":MAILTO:info@plesnistudio-nm.com
END:VEVENT
BEGIN:VEVENT
DTSTART;TZID=Europe/Ljubljana:20260411T060000
DTEND;TZID=Europe/Ljubljana:20260411T160000
DTSTAMP:20260419T222756
CREATED:20260401T081627Z
LAST-MODIFIED:20260401T082234Z
UID:10000817-1775887200-1775923200@visitnovomesto.si
SUMMARY:Rudolfovanje 2026
DESCRIPTION:V okviru praznovanja občinskega praznika Mestne občine Novo mesto Pohodniško društvo Novo mesto organizira tradicionalno že dvanajsto Rudolfovanje. To je pohodniško – kolesarsko – kulturna prireditev za obuditev in oživitev Rudolfove poti. Pohodniško – kolesarska pot je dolga 40km in poteka po mejah bivšega mestnega pomerija Rudolfswertha\, kakor ga je določil Rudolf IV. Habsburški z ustanovno listino leta 1365. Letošnje Rudolfovanje bo potekalo skupaj z dogodkom Športno mesto\, ki ga organizira Zavod Novo mesto.\nVabimo vas\, da se 11. aprila 2026 udeležite enega od dogodkov s skupnim zaključkom ob 16. uri pri Olimpijskem centru (pri bazenu) v Češči vasi:\n\nVsak med vami si lahko izbere sebi najbolj primerno varianto:\n\nPohod po celotni trasi Rudolfove poti z izhodiščem v Češči vasi pri Olimpijskem centru. Začetek pohoda bo ob 6. uri zjutraj. Ob poti je predvideno tudi okrepčilo. Za morebitne izčrpane bo organiziran prevoz. Za pot\, ki je po težavnosti lahka\, zaradi dolžine pa lahko tudi naporna\, bomo potrebovali s postanki 10 ur. Najvišja točka na poti\, do katere se bomo povzpeli\, bo s 510 metri Golušnik\, najnižja pa s 160 metri prečkanje reke Krke pri Otočcu.\nOsrednji pohod poteka vsako leto od pokritega vkopa Karteljevo mimo mlina v Bezgavcu do Olimpijskega centra (zeleni del trase na naslednji strani). Za to skupino bo zbor udeležencev ob 11. uri v Češči vasi pri bazenu\, od koder se bomo z avtobusom odpeljali na izhodišče. Čakalo nas bo 14 km hoje z vmesnim postankom za okrepčilo. Zahtevnost trase je lahka.\nTreking kolesarjenje po celotni trasi\, ravno tako z izhodiščem pri Olimpijskem centru ob 11:30. uri. Tudi za kolesarje velja zgornji opis in značilnosti trase. Zahtevnost kolesarjenja je V1\, S1. Za odsek nad Luknjo in z Golušnika proti Grčevju pa V2 oziroma S2.\n\nAktivnosti bomo prilagodili udeležencem in vremenskim razmeram.Tokratno zaključno druženje bo pri Olimpijskem centru v Češči vasi.Za vse udeležence pohoda ali kolesarjenja bo na voljo brezplačen topel obrok.\n\nProsimo za prijave (in morebitne odjave) na: rudolf.cetrti@gmail.com.(društva oz. organizacije prosimo\, da pošljete skupni poimenski seznam udeležencev vsaj do 10. aprila 2026).\nOb prijavi navedite zaporedno številko dogodka (1 – 3) in seznam udeležencev posameznega dogodka.\n\nLetošnje Rudolfovanje bo potekalo skupaj z dogodkom Športno mesto\, ki ga organizira Zavod Novo mesto.\nHvala Mestni občini Novo mesto za vsakoletno podporo Rudolfovanja.\n\nPlaninski pozdrav iz Pohodniškega društva Novo mesto.
URL:https://visitnovomesto.si/dogodek/rudolfovanje-2026/
LOCATION:Olimpijski center Novo mesto\, Zaloška cesta 20\, Novo mesto\, Slovenija\, 8000\, Slovenia
CATEGORIES:narava in šport,zdravje in dobro počutje
ATTACH;FMTTYPE=image/jpeg:https://visitnovomesto.si/wp-content/uploads/2026/04/Rudolfova-pot-6.jpg
ORGANIZER;CN="PD Novo mesto":MAILTO:info@pdnm.si
END:VEVENT
BEGIN:VEVENT
DTSTART;TZID=Europe/Ljubljana:20260411T070000
DTEND;TZID=Europe/Ljubljana:20260411T190000
DTSTAMP:20260419T222756
CREATED:20260401T084940Z
LAST-MODIFIED:20260401T084940Z
UID:10000819-1775890800-1775934000@visitnovomesto.si
SUMMARY:Naravovarstvena ekskurzija Velika Planina
DESCRIPTION:Spoštovani gorski stražarji\, varuhi gorske narave in vsi člani Pohodniškega društva Novo mesto\, prijazno vabljeni na zelo zanimivo naravovarstveno ekskurzijo\, ki bo v soboto\, 11. 4. 2026\, z odhodom ob 7.00. Naravovarstvena ekskurzija je zaključna ekskurzija za letošnje tečajnike za gorske stražarje. Tečajniki so oproščeni plačila prevoza. Na avtobusu je za ostale udeležence prostih še 17 mest\, zato pohitite s prijavo. Če bo prišlo do zasedenosti avtobusa\, bomo za člane iz Pohodniškega društva Novo mesto organizirali dodaten prevoz.\nZ nami bo predavatelj na tečajih za GS prof. Dušan Klenovšek.\nDejavnost Pohodniškega društva Novo mesto podpira Mestna občina Novo mesto.\n\nODHOD: Zbrali se bomo pred Planetom Tuš v Novem mestu\, v soboto\, 11. 4. 2026\, ob 7.00. Peljali se bomo na relaciji: iz Novega mesta bomo nadaljevali vožnjo skozi Trebnje proti Ljubljani\, Stahovici in Črnivcu\, do parkirišča na Rakovi Ravni pod Gojško planino.AKCIJA: Tokrat bomo obiskali cvetoči Malo in Veliko Planino. Najprej se bomo povzpeli do Gojške Planine\, nadaljevali pot na Malo Planino\, mimo Črnuškega doma do Domžalskega doma\, se zadaj za njim povzpeli na Mali in Veliki Vršič\, nadaljevali pot proti kapeli Marije Snežne (čas za malico)\, nato naprej do vznožja Velikega Gradišča (1666 m – najvišji vrh V. P.) in se nato po južnem grebenu vrnili do Domžalskega doma. Tam bo tudi svečana podelitev izkaznic in značk novim GS ter (čas za pijačo\, kavo in kaj za pojest)\, nato pa nazaj na izhodišče\, kjer bo po nas prišel avtobus.POVRATEK: Zaključek ekskurzije bo v večernih urah.VGN: Trudimo se\, da v naravi ne delamo škode (trganje rož\, lomljenje vej …) in ne povzročamo hrupa. Odpadke odnesemo s sabo.OPREMA: Za pohod je potrebna planinska oprema\, priporočamo pohodne palice\, zaščito pred morebitnim slabšim vremenom in planinske čevlje.HRANA: Malico in pijačo imejte s sabo v nahrbtniku\, možno pa jo bo kupiti tudi v planinski koči.CENA: Cena ekskurzije je 18 €.PRIJAVE: Prijave do vključno ponedeljka\, 6. aprila 2026\, sporočite na: danijel.brezovar@gmail.com ali tel.: 031 805 917\nVODENJE: Vodja pohoda bo Rozalija Skobe.\nZa Pohodniško društvo Novo mesto pripravil Danijel Brezovar.\n\nPOJDIMO SKUPAJ VARNO V GORE.
URL:https://visitnovomesto.si/dogodek/naravovarstvena-ekskurzija-velika-planina/
LOCATION:Postajališče pri Tušu\, Topliška cesta\, Novo mesto\, Slovenija\, 8000\, Slovenia
CATEGORIES:narava in šport,zdravje in dobro počutje
ATTACH;FMTTYPE=image/jpeg:https://visitnovomesto.si/wp-content/uploads/2026/04/Velika-Planina-Large.jpg
ORGANIZER;CN="PD Novo mesto":MAILTO:info@pdnm.si
END:VEVENT
BEGIN:VEVENT
DTSTART;TZID=Europe/Ljubljana:20260411T100000
DTEND;TZID=Europe/Ljubljana:20260411T120000
DTSTAMP:20260419T222756
CREATED:20260325T140455Z
LAST-MODIFIED:20260325T140455Z
UID:10000720-1775901600-1775908800@visitnovomesto.si
SUMMARY:Delavnice: Ustvarjalna pomlad v mestu
DESCRIPTION:Društvo Vezalka ob prihodu pomladi ponovno vabi na tradicionalne Vezalkine ustvarjalnice\, ki bodo tudi letos popestrile mestno dogajanje. Ustvarjalna pomlad v mestu 2026 se začenja na prvi pomladni dan in prinaša niz brezplačnih delavnic za otroke. \nDelavnice bodo potekale vsako soboto med 21. marcem in 18. aprilom 2026\, in sicer 21. 3.\, 28. 3.\, 4. 4.\, 11. 4. in 18. 4.\, od 10.00 do 12.00 na Glavnem trgu v Novem mestu\, pred Rotovžem. V primeru slabega vremena se bo program preselil v Hostel in Bistro Situla. \nProgram je namenjen vsem otrokom\, ki želijo ustvarjati\, raziskovati in preživeti prijetno dopoldne v mestnem jedru. Udeležba je brezplačna\, saj delavnice sofinancira Mestna občina Novo mesto. \nSpletna stran dogodka.
URL:https://visitnovomesto.si/dogodek/delavnice-ustvarjalna-pomlad-v-mestu/2026-04-11/
LOCATION:Glavni trg\, Novo mesto\, Slovenija\, 8000\, Slovenia
CATEGORIES:otroci in mladi
ATTACH;FMTTYPE=image/jpeg:https://visitnovomesto.si/wp-content/uploads/2026/03/Ustvarjalna-pomlad.jpg
ORGANIZER;CN="Dru%C5%A1tvo Vezalka":MAILTO:drustvo.vezalka@gmail.com
GEO:45.803864;15.169922
END:VEVENT
BEGIN:VEVENT
DTSTART;TZID=Europe/Ljubljana:20260411T100000
DTEND;TZID=Europe/Ljubljana:20260411T120000
DTSTAMP:20260419T222756
CREATED:20260407T150459Z
LAST-MODIFIED:20260407T150637Z
UID:10000911-1775901600-1775908800@visitnovomesto.si
SUMMARY:Trepetlika z gibanjem ozavešča in izobražuje
DESCRIPTION:Društvo Trepetlika vabi na dogodek za podporo bolnikom\, ki bo v soboto\, 11. 4. 2026\, v nakupovalnem centru Supernova Novo mesto (Otoška cesta)\, med 10. in 12. uro. Na informativni stojnici se bo delilo gradiva in izmenjevalo izkušnje\, osrednji del pa bo športno obarvan z igranjem namiznega tenisa\, ki je po vsem svetu priznan kot izjemna terapija za bolnike. \nDruštvo že 37 let celostno podpira bolnike s Parkinsonovo boleznijo in drugimi ekstrapiramidnimi motnjami in njihove svojce ter si prizadeva za večjo prepoznavnost bolezni\, razbijanje predsodkov in spodbujanje kakovostnega življenja z gibanjem. \nSpletna stran dogodka
URL:https://visitnovomesto.si/dogodek/trepetlika-z-gibanjem-ozavesca-in-izobrazuje/
LOCATION:Supernova Novo mesto\, Otoška cesta 5\, Novo mesto\, Slovenija\, 8000\, Slovenia
CATEGORIES:narava in šport,zdravje in dobro počutje
ATTACH;FMTTYPE=image/png:https://visitnovomesto.si/wp-content/uploads/2026/04/Trepetlika.png
ORGANIZER;CN="Dru%C5%A1tvo Trepetlika%2C Novo mesto":MAILTO:nm.regija@trepetlika.si
END:VEVENT
BEGIN:VEVENT
DTSTART;TZID=Europe/Ljubljana:20260411T100000
DTEND;TZID=Europe/Ljubljana:20260411T190000
DTSTAMP:20260419T222756
CREATED:20260218T151107Z
LAST-MODIFIED:20260218T151107Z
UID:10000430-1775901600-1775934000@visitnovomesto.si
SUMMARY:Državno prvenstvo v hitrostnem sestavljanju sestavljank
DESCRIPTION:Državno prvenstvo v hitrostnem sestavljanju sestavljank bo potekalo v petek\, 11. 4 2026\, na OŠ Drska v Novem mestu. Tekmovanje bo organizirano v treh kategorijah: posamezniki ob 10. uri\, pari ob 12.30 in skupine ob 17. uri. \nŠtevilo mest je omejeno\, prijave obvezne. \nDogodek bo odlična priložnost za druženje z drugimi ljubitelji sestavljank. Na voljo bo tudi izmenjava sestavljank ter mize za prosto sestavljanje za otroke in odrasle. \nSpletna stran dogodka
URL:https://visitnovomesto.si/dogodek/drzavno-prvenstvo-v-hitrostnem-sestavljanju-sestavljank/
LOCATION:OŠ Drska\, Ulica Slavka Gruma 63\, Novo mesto\, Slovenija\, 8000\, Slovenia
CATEGORIES:druženje in razvedrilo
ATTACH;FMTTYPE=image/jpeg:https://visitnovomesto.si/wp-content/uploads/2026/02/Sestavljanke.jpg
ORGANIZER;CN="Dru%C5%A1tvo ljubiteljev sestavljank":MAILTO:info@drustvosestavljank.si
END:VEVENT
BEGIN:VEVENT
DTSTART;TZID=Europe/Ljubljana:20260411T203000
DTEND;TZID=Europe/Ljubljana:20260411T233000
DTSTAMP:20260419T222756
CREATED:20260320T145656Z
LAST-MODIFIED:20260320T145656Z
UID:10000689-1775939400-1775950200@visitnovomesto.si
SUMMARY:Koncert: Analogna rasa – Zoran Predin in Nikola Čuturilo
DESCRIPTION:LokalPatriot vabi na koncert dua Analogna rasa – Zoran Predin in Nikola Čuturilo\, ki bo v soboto\, 11. 4. 2026\, ob 20.30 v LokalPatriotu. \nSpletna stran dogodka
URL:https://visitnovomesto.si/dogodek/koncert-analogna-rasa-zoran-predin-in-nikola-cuturilo/
LOCATION:LokalPatriot\, Rozmanova ulica 21\, Novo mesto\, Slovenija\, 8000\, Slovenia
CATEGORIES:umetnost in kultura
ATTACH;FMTTYPE=image/jpeg:https://visitnovomesto.si/wp-content/uploads/2026/03/Predin.jpg
ORGANIZER;CN="LokalPatriot":MAILTO:lokalpatriot@lokalpatriot.si
END:VEVENT
END:VCALENDAR