BEGIN:VCALENDAR
VERSION:2.0
PRODID:-//Visit Novo Mesto - ECPv6.15.20//NONSGML v1.0//EN
CALSCALE:GREGORIAN
METHOD:PUBLISH
X-ORIGINAL-URL:https://visitnovomesto.si
X-WR-CALDESC:Dogodki za Visit Novo Mesto
REFRESH-INTERVAL;VALUE=DURATION:PT1H
X-Robots-Tag:noindex
X-PUBLISHED-TTL:PT1H
BEGIN:VTIMEZONE
TZID:Europe/Ljubljana
BEGIN:DAYLIGHT
TZOFFSETFROM:+0100
TZOFFSETTO:+0200
TZNAME:CEST
DTSTART:20250330T010000
END:DAYLIGHT
BEGIN:STANDARD
TZOFFSETFROM:+0200
TZOFFSETTO:+0100
TZNAME:CET
DTSTART:20251026T010000
END:STANDARD
BEGIN:DAYLIGHT
TZOFFSETFROM:+0100
TZOFFSETTO:+0200
TZNAME:CEST
DTSTART:20260329T010000
END:DAYLIGHT
BEGIN:STANDARD
TZOFFSETFROM:+0200
TZOFFSETTO:+0100
TZNAME:CET
DTSTART:20261025T010000
END:STANDARD
BEGIN:DAYLIGHT
TZOFFSETFROM:+0100
TZOFFSETTO:+0200
TZNAME:CEST
DTSTART:20270328T010000
END:DAYLIGHT
BEGIN:STANDARD
TZOFFSETFROM:+0200
TZOFFSETTO:+0100
TZNAME:CET
DTSTART:20271031T010000
END:STANDARD
END:VTIMEZONE
BEGIN:VEVENT
DTSTART;TZID=Europe/Ljubljana:20260608T100000
DTEND;TZID=Europe/Ljubljana:20260608T120000
DTSTAMP:20260422T130706
CREATED:20260407T140409Z
LAST-MODIFIED:20260407T140409Z
UID:10000895-1780912800-1780920000@visitnovomesto.si
SUMMARY:Delavnica: Spoznajte gradiva za učenje slovenskega jezika
DESCRIPTION:Knjižnica Mirana Jarca Novo mesto in RIC Novo mesto vabita na delavnico Spoznajte gradiva za učenje slovenskega jezika\, ki bo v ponedeljek\, 8. 6. 2026\, ob 10. uri v Učilnici Beri. \nČakate na vključitev v program učenja slovenskega jezika? Se želite tudi doma učiti slovenščine? Ne veste\, kako in kje poiskati kakovostno gradivo za samostojno učenje slovenskega jezika? Pridružite se nam na delavnici v izvedbi RIC Novo mesto in predstavili vam bomo odlična gradiva in brezplačne spletne aplikacije za delo doma. Pridite in se začnite učiti slovenski jezik na preprost in zabaven način! \nZa informacije in prijave kontaktirajte Marušo Ancelj na 05 907 57 10 ali marusa.ancelj@ric-nm.si. \nSpletna stran dogodka
URL:https://visitnovomesto.si/dogodek/delavnica-spoznajte-gradiva-za-ucenje-slovenskega-jezika/
LOCATION:Knjižnica Mirana Jarca Novo mesto\, Rozmanova ulica 28\, Novo mesto\, Slovenija\, 8000\, Slovenia
CATEGORIES:izobraževanje
ATTACH;FMTTYPE=image/jpeg:https://visitnovomesto.si/wp-content/uploads/2026/04/Ucenje.jpg
ORGANIZER;CN="Knji%C5%BEnica Mirana Jarca Novo mesto":MAILTO:info@kmj.si
END:VEVENT
BEGIN:VEVENT
DTSTART;TZID=Europe/Ljubljana:20260713T100000
DTEND;TZID=Europe/Ljubljana:20260713T120000
DTSTAMP:20260422T130706
CREATED:20260407T140754Z
LAST-MODIFIED:20260407T140939Z
UID:10000897-1783936800-1783944000@visitnovomesto.si
SUMMARY:Delavnica: Let’s Talk!
DESCRIPTION:Delavnica: Let’s Talk! \nKnjižnica Mirana Jarca Novo mesto in RIC Novo mesto vabita na delavnico Let’s Talk!\, ki bo v ponedeljek\, 13. 7. 2026\, ob 10. uri v Učilnici Beri. \nŽelite izboljšati angleščino\, a ne veste\, kje začeti? Pridite na brezplačno aktivnost RIC Novo mesto Let’s Talk in spoznajte spletne vire za samostojno učenje angleščine. Kaj boste dobili: preproste in uporabne spletne strani in aplikacije\, nasvete\, kako se učiti sami doma\, priložnost za pogovor in vajo angleščine. Pridite\, naučite se novih trikov in izboljšajte svojo angleščino! \nZa informacije in prijave kontaktirajte Marušo Ancelj na 05 907 57 10 ali marusa.ancelj@ric-nm.si. \nSpletna stran dogodka
URL:https://visitnovomesto.si/dogodek/delavnica-lets-talk/
LOCATION:Knjižnica Mirana Jarca Novo mesto\, Rozmanova ulica 28\, Novo mesto\, Slovenija\, 8000\, Slovenia
CATEGORIES:izobraževanje
ATTACH;FMTTYPE=image/png:https://visitnovomesto.si/wp-content/uploads/2026/04/Delavnica-RIC-Nm-1-500x500-1.png
ORGANIZER;CN="Knji%C5%BEnica Mirana Jarca Novo mesto":MAILTO:info@kmj.si
END:VEVENT
BEGIN:VEVENT
DTSTART;TZID=Europe/Ljubljana:20260810T100000
DTEND;TZID=Europe/Ljubljana:20260810T170000
DTSTAMP:20260422T130706
CREATED:20260407T141229Z
LAST-MODIFIED:20260407T141229Z
UID:10000899-1786356000-1786381200@visitnovomesto.si
SUMMARY:Delavnica: Vaje za spomin
DESCRIPTION:Knjižnica Mirana Jarca Novo mesto in RIC Novo mesto vabita na delavnico Vaje za spomin\, ki bo v ponedeljek\, 10. 8. 2026\, ob 10. uri v Učilnici Beri. \nŽelite izboljšati svoj spomin in ostati bistri? Pridite na brezplačno aktivnost RIC Novo mesto Vaje za spomin in se zabavajte med učenjem! Kaj boste pridobili: enostavne in zabavne vaje za spomin\, nasvete\, kako ohraniti bistro glavo\, možnost druženja in skupnega učenja. Pridite in okrepčajte svoj spomin na preprost in zabaven način! \nZa informacije in prijave kontaktirajte Marušo Ancelj na 05 907 57 10 ali marusa.ancelj@ric-nm.si. \nSpletna stran dogodka
URL:https://visitnovomesto.si/dogodek/delavnica-vaje-za-spomin/
LOCATION:Knjižnica Mirana Jarca Novo mesto\, Rozmanova ulica 28\, Novo mesto\, Slovenija\, 8000\, Slovenia
CATEGORIES:izobraževanje
ATTACH;FMTTYPE=image/png:https://visitnovomesto.si/wp-content/uploads/2026/04/Delavnica-RIC-Nm-1-500x500-1.png
ORGANIZER;CN="Knji%C5%BEnica Mirana Jarca Novo mesto":MAILTO:info@kmj.si
END:VEVENT
BEGIN:VEVENT
DTSTART;TZID=Europe/Ljubljana:20260914T100000
DTEND;TZID=Europe/Ljubljana:20260914T120000
DTSTAMP:20260422T130706
CREATED:20260407T141705Z
LAST-MODIFIED:20260407T141705Z
UID:10000901-1789380000-1789387200@visitnovomesto.si
SUMMARY:Delavnica: Zaposlitveni kotiček
DESCRIPTION:Knjižnica Mirana Jarca Novo mesto in RIC Novo mesto vabita na delavnico Zaposlitveni kotiček\, ki bo v ponedeljek\, 14. 9. 2026\, ob 10. uri v Učilnici Beri. \nŽelite izboljšati svoje možnosti za zaposlitev? Pridite na brezplačno aktivnost RIC Novo mesto in se naučite narediti življenjepis po sistemu Europass. Kaj boste pridobili: kako pripraviti življenjepis korak za korakom\, nasvete\, kako se predstaviti delodajalcu\, pomoč pri pisanju in urejanju vašega CV-ja. Pridite in naredite prvi korak k novi zaposlitvi! \nZa informacije in prijave kontaktirajte Marušo Ancelj na 05 907 57 10 ali marusa.ancelj@ric-nm.si. \nSpletna stran dogodka
URL:https://visitnovomesto.si/dogodek/delavnica-zaposlitveni-koticek/
LOCATION:Knjižnica Mirana Jarca Novo mesto\, Rozmanova ulica 28\, Novo mesto\, Slovenija\, 8000\, Slovenia
CATEGORIES:izobraževanje
ATTACH;FMTTYPE=image/png:https://visitnovomesto.si/wp-content/uploads/2026/04/Delavnica-RIC-Nm-1-500x500-1.png
ORGANIZER;CN="Knji%C5%BEnica Mirana Jarca Novo mesto":MAILTO:info@kmj.si
END:VEVENT
END:VCALENDAR