BEGIN:VCALENDAR
VERSION:2.0
PRODID:-//Visit Novo Mesto - ECPv6.15.20//NONSGML v1.0//EN
CALSCALE:GREGORIAN
METHOD:PUBLISH
X-ORIGINAL-URL:https://visitnovomesto.si
X-WR-CALDESC:Dogodki za Visit Novo Mesto
REFRESH-INTERVAL;VALUE=DURATION:PT1H
X-Robots-Tag:noindex
X-PUBLISHED-TTL:PT1H
BEGIN:VTIMEZONE
TZID:Europe/Ljubljana
BEGIN:DAYLIGHT
TZOFFSETFROM:+0100
TZOFFSETTO:+0200
TZNAME:CEST
DTSTART:20250330T010000
END:DAYLIGHT
BEGIN:STANDARD
TZOFFSETFROM:+0200
TZOFFSETTO:+0100
TZNAME:CET
DTSTART:20251026T010000
END:STANDARD
BEGIN:DAYLIGHT
TZOFFSETFROM:+0100
TZOFFSETTO:+0200
TZNAME:CEST
DTSTART:20260329T010000
END:DAYLIGHT
BEGIN:STANDARD
TZOFFSETFROM:+0200
TZOFFSETTO:+0100
TZNAME:CET
DTSTART:20261025T010000
END:STANDARD
BEGIN:DAYLIGHT
TZOFFSETFROM:+0100
TZOFFSETTO:+0200
TZNAME:CEST
DTSTART:20270328T010000
END:DAYLIGHT
BEGIN:STANDARD
TZOFFSETFROM:+0200
TZOFFSETTO:+0100
TZNAME:CET
DTSTART:20271031T010000
END:STANDARD
END:VTIMEZONE
BEGIN:VEVENT
DTSTART;TZID=Europe/Ljubljana:20260417T170000
DTEND;TZID=Europe/Ljubljana:20260417T174000
DTSTAMP:20260419T164628
CREATED:20260309T120953Z
LAST-MODIFIED:20260309T120953Z
UID:10000561-1776445200-1776447600@visitnovomesto.si
SUMMARY:Otroška predstava: Volk in kozlički
DESCRIPTION:Kulturni center Janeza Trdine vabi na ogled lutkovne predstave za otroke v sklopu Mojčinega abonmaja: Volk in kozlički\, ki bo v četrtek in petek\, 16. in 17. 4. 2026\, ob 17. uri. \nLutkovna predstava z vedno aktualno temo o otrocih\, ki ostanejo sami doma in se ne zavedajo nevarnosti\, ki prežijo nanje. \nSpletna stran dogodka
URL:https://visitnovomesto.si/dogodek/otroska-predstava-volk-in-kozlicki/2026-04-17/
LOCATION:KCJT\, Novi trg 5\, Novo mesto\, Slovenija\, 8000\, Slovenia
CATEGORIES:otroci in mladi,umetnost in kultura
ATTACH;FMTTYPE=image/jpeg:https://visitnovomesto.si/wp-content/uploads/2026/03/Volk.jpg
ORGANIZER;CN="KCJT":MAILTO:kultura@znm.si
END:VEVENT
END:VCALENDAR