BEGIN:VCALENDAR
VERSION:2.0
PRODID:-//Visit Novo Mesto - ECPv6.15.20//NONSGML v1.0//EN
CALSCALE:GREGORIAN
METHOD:PUBLISH
X-ORIGINAL-URL:https://visitnovomesto.si
X-WR-CALDESC:Dogodki za Visit Novo Mesto
REFRESH-INTERVAL;VALUE=DURATION:PT1H
X-Robots-Tag:noindex
X-PUBLISHED-TTL:PT1H
BEGIN:VTIMEZONE
TZID:Europe/Ljubljana
BEGIN:DAYLIGHT
TZOFFSETFROM:+0100
TZOFFSETTO:+0200
TZNAME:CEST
DTSTART:20250330T010000
END:DAYLIGHT
BEGIN:STANDARD
TZOFFSETFROM:+0200
TZOFFSETTO:+0100
TZNAME:CET
DTSTART:20251026T010000
END:STANDARD
BEGIN:DAYLIGHT
TZOFFSETFROM:+0100
TZOFFSETTO:+0200
TZNAME:CEST
DTSTART:20260329T010000
END:DAYLIGHT
BEGIN:STANDARD
TZOFFSETFROM:+0200
TZOFFSETTO:+0100
TZNAME:CET
DTSTART:20261025T010000
END:STANDARD
BEGIN:DAYLIGHT
TZOFFSETFROM:+0100
TZOFFSETTO:+0200
TZNAME:CEST
DTSTART:20270328T010000
END:DAYLIGHT
BEGIN:STANDARD
TZOFFSETFROM:+0200
TZOFFSETTO:+0100
TZNAME:CET
DTSTART:20271031T010000
END:STANDARD
END:VTIMEZONE
BEGIN:VEVENT
DTSTART;TZID=Europe/Ljubljana:20260313T170000
DTEND;TZID=Europe/Ljubljana:20260313T180000
DTSTAMP:20260419T170442
CREATED:20260211T094248Z
LAST-MODIFIED:20260211T094248Z
UID:10000376-1773421200-1773424800@visitnovomesto.si
SUMMARY:Otroška predstava: Jaz počepnem\, ti poskočiš
DESCRIPTION:Kulturni center Janeza Trdine vabi na ogled otroške predstave v sklopu Mojčinega abonmaja Jaz počepnem\, ti poskočiš\, ki bo v četrtek in petek\, 12. in 13. 3. 2026\, ob 17. uri. \nGre za otroško burlesko s sporočilom o pomenu prijateljstva. Prva otroška gledališka burleska pri nas je nastala po navdihu starih črno-belih filmov\, ki so brez besed – le z močnim igralskim izrazom in razigrano glasbo – pripovedovali čudovite zgodbe in navduševali množice. \nZgodbo je navdihnila istoimenska pesem pesnice in pisateljice Anje Štefan\, avtorsko glasbo pa je napisal skladatelj Marjan Peternel. \nSpletna stran dogodka
URL:https://visitnovomesto.si/dogodek/otroska-predstava-jaz-pocepnem-ti-poskocis/2026-03-13/
LOCATION:KCJT\, Novi trg 5\, Novo mesto\, Slovenija\, 8000\, Slovenia
CATEGORIES:otroci in mladi,umetnost in kultura
ATTACH;FMTTYPE=image/jpeg:https://visitnovomesto.si/wp-content/uploads/2026/02/Jaz-pocepnem.jpg
ORGANIZER;CN="KCJT":MAILTO:kultura@znm.si
END:VEVENT
BEGIN:VEVENT
DTSTART;TZID=Europe/Ljubljana:20260313T190000
DTEND;TZID=Europe/Ljubljana:20260313T210000
DTSTAMP:20260419T170442
CREATED:20260309T082458Z
LAST-MODIFIED:20260309T082458Z
UID:10000541-1773428400-1773435600@visitnovomesto.si
SUMMARY:Pripovedovalski večer: Reku reku - grozljive zgodbe
DESCRIPTION:Založba Goga vabi na pripovedovalski večer Reku reku: grozljive zgodbe\, ki bo v petek\, 13. 3. 2026\, ob 19. uri v Knjigarni in kavarni Goga. \nTokratni Reku reku bo poslastica za vse\, ki vas zgodbice o duhovih\, prikaznih\, pošastih in zastrašenih hišah na obrobju mesta še posebno privlačijo. Izmenjali si bomo tiste strašne in grozne zgodbe\, ob katerih se nam naježi koža. Če ste že kdaj v strahu spali z odejo čez glavo\, ker vas je škripanje pri sosedih zbujalo in vam naganjalo strah v kosti\, ali pa ste prepričani\, da ste po petkovi žurki na poti domov v zapuščeni ulici videli nekaj nadnaravnega/kar sodi le v roman Stephena Kinga\, je to pravi večer\, da zasijete. \nKot vselej\, se tudi tokrat lahko prijavite in si zagotovite možnost\, da se uvrstite v finale Reku reku naslednje poletje. \nO Reku reku \nReku Reku pripovedovalski večeri potekajo vsak mesec\, publika pa bo določila\, kdo je najboljši. Zmagovalka ali zmagovalec dobi tudi nagrado\, ki je kakopak knjiga. Z vsemi razpoložljivi sredstvi neposredne demokracije bomo tudi tokrat izglasovali najboljšo zgodbo\, kar pomeni\, da vsi prisotni glasujejo. \nVabljeni na večer žmohta\, pripovedovanja\, smeha in neposredne demokracije. \nMesto na odru si lahko zagotovite s prijavo na: knjigarnagoga@goga.si. Dovolj bo pa tudi\, če pridete in se za nastop odločite 15 min pred dogodkom. \nSpletna stran dogodka
URL:https://visitnovomesto.si/dogodek/pripovedovalski-vecer-reku-reku-grozljive-zgodbe/
LOCATION:Knjigarna in kavarna Goga\, Glavni trg 6\, Novo mesto\, Slovenija\, 8000\, Slovenia
CATEGORIES:umetnost in kultura
ATTACH;FMTTYPE=image/png:https://visitnovomesto.si/wp-content/uploads/2026/03/REKU-REKU-13.3.png
ORGANIZER;CN="Zalo%C5%BEba Goga":MAILTO:info@goga.si
END:VEVENT
END:VCALENDAR