BEGIN:VCALENDAR
VERSION:2.0
PRODID:-//Visit Novo Mesto - ECPv6.15.20//NONSGML v1.0//EN
CALSCALE:GREGORIAN
METHOD:PUBLISH
X-ORIGINAL-URL:https://visitnovomesto.si
X-WR-CALDESC:Dogodki za Visit Novo Mesto
REFRESH-INTERVAL;VALUE=DURATION:PT1H
X-Robots-Tag:noindex
X-PUBLISHED-TTL:PT1H
BEGIN:VTIMEZONE
TZID:Europe/Ljubljana
BEGIN:DAYLIGHT
TZOFFSETFROM:+0100
TZOFFSETTO:+0200
TZNAME:CEST
DTSTART:20250330T010000
END:DAYLIGHT
BEGIN:STANDARD
TZOFFSETFROM:+0200
TZOFFSETTO:+0100
TZNAME:CET
DTSTART:20251026T010000
END:STANDARD
BEGIN:DAYLIGHT
TZOFFSETFROM:+0100
TZOFFSETTO:+0200
TZNAME:CEST
DTSTART:20260329T010000
END:DAYLIGHT
BEGIN:STANDARD
TZOFFSETFROM:+0200
TZOFFSETTO:+0100
TZNAME:CET
DTSTART:20261025T010000
END:STANDARD
BEGIN:DAYLIGHT
TZOFFSETFROM:+0100
TZOFFSETTO:+0200
TZNAME:CEST
DTSTART:20270328T010000
END:DAYLIGHT
BEGIN:STANDARD
TZOFFSETFROM:+0200
TZOFFSETTO:+0100
TZNAME:CET
DTSTART:20271031T010000
END:STANDARD
END:VTIMEZONE
BEGIN:VEVENT
DTSTART;TZID=Europe/Ljubljana:20260530T203000
DTEND;TZID=Europe/Ljubljana:20260530T223000
DTSTAMP:20260419T225627
CREATED:20260407T125542Z
LAST-MODIFIED:20260407T125557Z
UID:10000871-1780173000-1780180200@visitnovomesto.si
SUMMARY:Koncert: CowboyZ - We Are Here As One
DESCRIPTION:LokalPatriot vabi na konecrt CowboyZ – We Are Here As One\, ki bo v soboto\, 30. 5. 2026\, ob 20.30 v LokalPatriotu. \nCowboyZ (prej Cowboys From Hell) je petčlanska zasedba z Obale\, ki deluje od konca leta 2014. S prva so začeli kot metal cover band\, ki pa je prerastel v avtorsko zverino. Zgledujejo se po legendarnih velikanih\, kot so Pantera\, Metallica\, Machine Head\, Alice In Chains\, Sepultura itd in novodobnih izvajalcih kot so Korn\, Architects\, Gojira\, itd. \nIgrali so že po vseh večjih in malih klubih po celotni Sloveniji in na Hrvaškem\, Avstriji in Nemčiji. Odlikuje jih neizprosna ostrina zvoka\, energija\, uigranost in povezanost. \nSpletna stran dogodka
URL:https://visitnovomesto.si/dogodek/koncert-cowboyz-we-are-here-as-one/
LOCATION:LokalPatriot\, Rozmanova ulica 21\, Novo mesto\, Slovenija\, 8000\, Slovenia
CATEGORIES:umetnost in kultura
ATTACH;FMTTYPE=image/png:https://visitnovomesto.si/wp-content/uploads/2026/04/cowboyz-1-1-1.png
ORGANIZER;CN="LokalPatriot":MAILTO:lokalpatriot@lokalpatriot.si
END:VEVENT
BEGIN:VEVENT
DTSTART;TZID=Europe/Ljubljana:20260602T200000
DTEND;TZID=Europe/Ljubljana:20260602T220000
DTSTAMP:20260419T225627
CREATED:20260413T115635Z
LAST-MODIFIED:20260413T115635Z
UID:10000935-1780430400-1780437600@visitnovomesto.si
SUMMARY:Predstava: Izgubljanje človečnosti
DESCRIPTION:Anton Podbevšek Teater vabi na ogled predstave Izgubljanje človečnosti\, ki bo med 25. in 27. 5. 2026 ob 20. uri ter 2. 6. 2026 in 4. – 5. 6. 2026\, prav tako ob 20. uri. \nO predstavi: Predstava Izgubljanje človečnosti je kulturološka rekonstrukcija in analiza masakra v Srebrenici {BIH}\, ki kontekstualizira tragedijo\, ki se je zgodila v obdobju med 11. in 19. julijem 1995 v vojaški operaciji kodne oznake Krivaja 1995\, ko so vojaki Republike Srbske pobili\, umorili\, zmasakrirali več kot 8000 ljudi {na spomeniku v Srebrenici leta 2025 piše – 8372 skupno število žrtev\, ki ni končno}\, predvsem Bošnjakov {muslimanov} iz srednjega Podrinja. \nSpletna stran dogodka
URL:https://visitnovomesto.si/dogodek/predstava-izgubljanje-clovecnosti/2026-06-02/
LOCATION:Anton Podbevšek Teater\, Prešernov trg 3\, Novo mesto\, Slovenija\, 8000\, Slovenia
CATEGORIES:umetnost in kultura
ATTACH;FMTTYPE=image/png:https://visitnovomesto.si/wp-content/uploads/2026/04/Izgubljanje-clovecnosti.png
ORGANIZER;CN="Anton Podbev%C5%A1ek Teater":MAILTO:info@antonpodbevsekteater.si
END:VEVENT
BEGIN:VEVENT
DTSTART;TZID=Europe/Ljubljana:20260604T200000
DTEND;TZID=Europe/Ljubljana:20260604T220000
DTSTAMP:20260419T225627
CREATED:20260413T115635Z
LAST-MODIFIED:20260413T115635Z
UID:10000936-1780603200-1780610400@visitnovomesto.si
SUMMARY:Predstava: Izgubljanje človečnosti
DESCRIPTION:Anton Podbevšek Teater vabi na ogled predstave Izgubljanje človečnosti\, ki bo med 25. in 27. 5. 2026 ob 20. uri ter 2. 6. 2026 in 4. – 5. 6. 2026\, prav tako ob 20. uri. \nO predstavi: Predstava Izgubljanje človečnosti je kulturološka rekonstrukcija in analiza masakra v Srebrenici {BIH}\, ki kontekstualizira tragedijo\, ki se je zgodila v obdobju med 11. in 19. julijem 1995 v vojaški operaciji kodne oznake Krivaja 1995\, ko so vojaki Republike Srbske pobili\, umorili\, zmasakrirali več kot 8000 ljudi {na spomeniku v Srebrenici leta 2025 piše – 8372 skupno število žrtev\, ki ni končno}\, predvsem Bošnjakov {muslimanov} iz srednjega Podrinja. \nSpletna stran dogodka
URL:https://visitnovomesto.si/dogodek/predstava-izgubljanje-clovecnosti/2026-06-04/
LOCATION:Anton Podbevšek Teater\, Prešernov trg 3\, Novo mesto\, Slovenija\, 8000\, Slovenia
CATEGORIES:umetnost in kultura
ATTACH;FMTTYPE=image/png:https://visitnovomesto.si/wp-content/uploads/2026/04/Izgubljanje-clovecnosti.png
ORGANIZER;CN="Anton Podbev%C5%A1ek Teater":MAILTO:info@antonpodbevsekteater.si
END:VEVENT
BEGIN:VEVENT
DTSTART;TZID=Europe/Ljubljana:20260605T200000
DTEND;TZID=Europe/Ljubljana:20260605T220000
DTSTAMP:20260419T225627
CREATED:20260413T115635Z
LAST-MODIFIED:20260413T115635Z
UID:10000937-1780689600-1780696800@visitnovomesto.si
SUMMARY:Predstava: Izgubljanje človečnosti
DESCRIPTION:Anton Podbevšek Teater vabi na ogled predstave Izgubljanje človečnosti\, ki bo med 25. in 27. 5. 2026 ob 20. uri ter 2. 6. 2026 in 4. – 5. 6. 2026\, prav tako ob 20. uri. \nO predstavi: Predstava Izgubljanje človečnosti je kulturološka rekonstrukcija in analiza masakra v Srebrenici {BIH}\, ki kontekstualizira tragedijo\, ki se je zgodila v obdobju med 11. in 19. julijem 1995 v vojaški operaciji kodne oznake Krivaja 1995\, ko so vojaki Republike Srbske pobili\, umorili\, zmasakrirali več kot 8000 ljudi {na spomeniku v Srebrenici leta 2025 piše – 8372 skupno število žrtev\, ki ni končno}\, predvsem Bošnjakov {muslimanov} iz srednjega Podrinja. \nSpletna stran dogodka
URL:https://visitnovomesto.si/dogodek/predstava-izgubljanje-clovecnosti/2026-06-05/
LOCATION:Anton Podbevšek Teater\, Prešernov trg 3\, Novo mesto\, Slovenija\, 8000\, Slovenia
CATEGORIES:umetnost in kultura
ATTACH;FMTTYPE=image/png:https://visitnovomesto.si/wp-content/uploads/2026/04/Izgubljanje-clovecnosti.png
ORGANIZER;CN="Anton Podbev%C5%A1ek Teater":MAILTO:info@antonpodbevsekteater.si
END:VEVENT
BEGIN:VEVENT
DTSTART;TZID=Europe/Ljubljana:20260610T200000
DTEND;TZID=Europe/Ljubljana:20260610T220000
DTSTAMP:20260419T225627
CREATED:20260413T123202Z
LAST-MODIFIED:20260413T123202Z
UID:10000946-1781121600-1781128800@visitnovomesto.si
SUMMARY:Predstava: Proces{i}
DESCRIPTION:Anton Podbevšek Teater vabi na ogled predstave Proces{i}\, ki bo v sredo in četrtek\, 10. in 11. 6. 2026\, ob 20. uri. \nSpletna stran dogodka
URL:https://visitnovomesto.si/dogodek/predstava-procesi-2/2026-06-10/
LOCATION:Anton Podbevšek Teater\, Prešernov trg 3\, Novo mesto\, Slovenija\, 8000\, Slovenia
CATEGORIES:umetnost in kultura
ATTACH;FMTTYPE=image/png:https://visitnovomesto.si/wp-content/uploads/2026/02/Procesi.png
ORGANIZER;CN="Anton Podbev%C5%A1ek Teater":MAILTO:info@antonpodbevsekteater.si
END:VEVENT
BEGIN:VEVENT
DTSTART;TZID=Europe/Ljubljana:20260611T200000
DTEND;TZID=Europe/Ljubljana:20260611T220000
DTSTAMP:20260419T225627
CREATED:20260413T123202Z
LAST-MODIFIED:20260413T123202Z
UID:10000947-1781208000-1781215200@visitnovomesto.si
SUMMARY:Predstava: Proces{i}
DESCRIPTION:Anton Podbevšek Teater vabi na ogled predstave Proces{i}\, ki bo v sredo in četrtek\, 10. in 11. 6. 2026\, ob 20. uri. \nSpletna stran dogodka
URL:https://visitnovomesto.si/dogodek/predstava-procesi-2/2026-06-11/
LOCATION:Anton Podbevšek Teater\, Prešernov trg 3\, Novo mesto\, Slovenija\, 8000\, Slovenia
CATEGORIES:umetnost in kultura
ATTACH;FMTTYPE=image/png:https://visitnovomesto.si/wp-content/uploads/2026/02/Procesi.png
ORGANIZER;CN="Anton Podbev%C5%A1ek Teater":MAILTO:info@antonpodbevsekteater.si
END:VEVENT
BEGIN:VEVENT
DTSTART;VALUE=DATE:20260613
DTEND;VALUE=DATE:20260614
DTSTAMP:20260419T225627
CREATED:20260115T090007Z
LAST-MODIFIED:20260115T090532Z
UID:10000123-1781308800-1781395199@visitnovomesto.si
SUMMARY:Praznik situl – festival železnodobnega življenja in kulinarike
DESCRIPTION:Prazni situl je festival železnodobnega življenja in kulinarike\, ki vsako leto v juniju poteka v Novem mestu pod okriljem Dolenjskega muzeja. Ta edinstvena prireditev je posvečena osupljivim bronastim spomenikom\, ki pripovedujejo zgodbo življenja halštatskih prebivalcev Novega mesta. Ti izjemni artefakti neizpodbitno pričajo o bogastvu in enakovrednosti teh starodavnih civilizacij v primerjavi z drugimi velikimi kulturami celinske in sredozemske Evrope. \nPraznik situl predstavlja dogodek\, prežet z dolenjsko kulturno in naravno dediščino\, ki jo dopolnjuje nov\, urbani pogled. Na prireditvi se lahko sprehodite po prazgodovinski tržnici\, okušate kulinarično ponudbo tistega časa ter si ogledate prikaz starodavnih obrti in uprizoritev življenja na knežjem dvoru. \nPridružite se popotovanju skozi čas na Prazniku situl in doživite čarobnost starodavne umetnosti v živo! \nSpletna stran dogodka
URL:https://visitnovomesto.si/dogodek/praznik-situl-festival-zeleznodobnega-zivljenja-in-kulinarike/
LOCATION:Glavni trg\, Novo mesto\, Slovenija\, 8000\, Slovenia
CATEGORIES:gastronomija,otroci in mladi,umetnost in kultura,zgodovina in dediščina
ATTACH;FMTTYPE=image/jpeg:https://visitnovomesto.si/wp-content/uploads/2026/01/praznik-situl-Large.jpg
ORGANIZER;CN="Dolenjski muzej":MAILTO:dolenjski.muzej@dolenjskimuzej.si
GEO:45.803864;15.169922
END:VEVENT
BEGIN:VEVENT
DTSTART;VALUE=DATE:20260817
DTEND;VALUE=DATE:20260823
DTSTAMP:20260419T225627
CREATED:20250220T124506Z
LAST-MODIFIED:20260326T133807Z
UID:10000004-1786924800-1787443199@visitnovomesto.si
SUMMARY:Jazzinty
DESCRIPTION:Festival Jazzinty predstavlja enega najpomembnejših mednarodnih glasbenih festivalov v Sloveniji. Odvija se tretji teden v avgustu na različnih prizoriščih Novega mesta. Raznolik večerni festivalski koncertni program\, ki privabi številne domače in tuje obiskovalce\, spremlja enotedenska glasbena delavnica. Jazzinty Novo mesto ob koncu poletja spremeni v osrednje neformalno izobraževalno središče za področje jazzovske in sodobne glasbe.
URL:https://visitnovomesto.si/dogodek/jazzinty/
LOCATION:Staro mestno jedro\, Glavni trg\, Novo mesto\, Slovenija\, 8000\, Slovenia
CATEGORIES:umetnost in kultura
ATTACH;FMTTYPE=image/jpeg:https://visitnovomesto.si/wp-content/uploads/2025/02/Jazzinty-scaled.jpg
ORGANIZER;CN="Zavod Novo mesto":MAILTO:info@znm.si
END:VEVENT
BEGIN:VEVENT
DTSTART;TZID=Europe/Ljubljana:20260828T200000
DTEND;TZID=Europe/Ljubljana:20260828T220000
DTSTAMP:20260419T225627
CREATED:20260325T131540Z
LAST-MODIFIED:20260325T131540Z
UID:10000711-1787947200-1787954400@visitnovomesto.si
SUMMARY:Koncert: Žan Serčič – Na ulicah srca
DESCRIPTION:Vabljeni na koncert Žana Serčiča – Na ulicah srca v sklopu posebne akustične turneje 2026\, ki bo v Bistro Situla v petek\, 28. 8. 2026\, ob 20. uri. \nSpletna stran dogodka.
URL:https://visitnovomesto.si/dogodek/koncert-zan-sercic-na-ulicah-srca/
LOCATION:Bistro Situla\, Dilančeva ulica 1\, Novo mesto\, Slovenija\, 8000\, Slovenia
CATEGORIES:umetnost in kultura
ATTACH;FMTTYPE=image/png:https://visitnovomesto.si/wp-content/uploads/2026/03/Zan.png
ORGANIZER;CN="Hostel in Bistro Situla":MAILTO:situla@situla.si
END:VEVENT
BEGIN:VEVENT
DTSTART;VALUE=DATE:20260829
DTEND;VALUE=DATE:20260830
DTSTAMP:20260419T225627
CREATED:20250220T124642Z
LAST-MODIFIED:20260107T133459Z
UID:10000005-1787961600-1788047999@visitnovomesto.si
SUMMARY:Noč na Krki
DESCRIPTION:Noč na Krki je tradicionalna družinska prireditev\, ki konec poletja poteka ob reki Krki v Novem mestu z glavnim prizoriščem na območju športnorekreacijskega parka Loka. Dogodek\, ki izvira iz 19. stoletja in tradicije godovanja sv. Janeza Nepomuka\, združuje številne dejavnosti ter simbolično oživlja zgodovinske trenutke\, saj je bila luč od nekdaj simbol te prireditve. \nProgram prireditve vključuje pester popoldanski program z različnimi športnimi aktivnostmi\, mladinsko tržnico\, mednarodnim srečanjem pihalnih godb in mažoretnih skupin\, otroško animacijo ter večerni koncert. Vse dejavnosti so brezplačne\, dogajanje pa spremlja kulinarična ponudba. Organizator je Zavod Novo mesto skupaj z Mladinskim centrom Oton in Mestno občino Novo mesto.
URL:https://visitnovomesto.si/dogodek/noc-na-krki/
LOCATION:Športno rekreacijski park Loka\, Zupančičevo sprehajališče 1\, Novo mesto\, Slovenija\, 8000\, Slovenia
CATEGORIES:otroci in mladi,umetnost in kultura
ATTACH;FMTTYPE=image/jpeg:https://visitnovomesto.si/wp-content/uploads/2025/02/Noc-na-Krki.jpg
ORGANIZER;CN="Zavod Novo mesto":MAILTO:info@znm.si
END:VEVENT
BEGIN:VEVENT
DTSTART;TZID=Europe/Ljubljana:20261022T090000
DTEND;TZID=Europe/Ljubljana:20261022T100000
DTSTAMP:20260419T225627
CREATED:20260407T142307Z
LAST-MODIFIED:20260407T142332Z
UID:10000903-1792659600-1792663200@visitnovomesto.si
SUMMARY:Festival domoznanstva Domfest
DESCRIPTION:Sekcija za domoznanstvo in kulturno dediščino pri Zvezi bibliotekarskih društev Slovenije in Knjižnica Mirana Jarca Novo mesto pripravljata 9. festival domoznanstva – Domfest\, ki bo potekal v četrtek\, 22. 10. 2026\, ob 9. uri v Prireditvenem atriju. \nTokratna tema bodo literarne zapuščine in zbirke v knjižnicah in drugih kulturnih ustanovah\, ki predstavljajo pomembno pisno kulturno dediščino tako na nacionalnem nivoju kot v posameznih lokalnih okoljih. Literarne zapuščine želimo osvetliti z različnih zornih kotov: predstaviti literarna imena\, ki so zastopana v njih\, kriterije in načine uvrstitve zapuščin v knjižnično zbirko\, pogoje njihovega hranjenja in zaščite\, dostopnost in uporabnost literarnih zapuščin za različne ciljne skupine\, možnosti povezovanja s turistično ponudbo v lokalnem okolju ter njihove promocije\, predstavitve zlasti med mladimi idr. \nDel dogodka bo tudi podelitev Goropevškovih nagrad za izjemne uspehe na področju domoznanstva in kulturne dediščine\, ki so širšega družbenega pomena in prispevajo k napredku domoznanske dejavnosti v knjižnicah. \nSpletna stran dogodka
URL:https://visitnovomesto.si/dogodek/festival-domoznanstva-domfest/
LOCATION:Knjižnica Mirana Jarca Novo mesto\, Rozmanova ulica 28\, Novo mesto\, Slovenija\, 8000\, Slovenia
CATEGORIES:umetnost in kultura
ATTACH;FMTTYPE=image/jpeg:https://visitnovomesto.si/wp-content/uploads/2026/04/insta_Domfest-Literarne-zapuscine-in-zbirke.jpg
ORGANIZER;CN="Knji%C5%BEnica Mirana Jarca Novo mesto":MAILTO:info@kmj.si
END:VEVENT
END:VCALENDAR